Back to Multiple platform build/check report for BioC 3.14
[A]BCDEFGHIJKLMNOPQRSTUVWXYZ

This page was generated on 2021-10-23 14:05:53 -0400 (Sat, 23 Oct 2021).

INSTALL results for alsace on nebbiolo2

To the developers/maintainers of the alsace package:
- Please allow up to 24 hours (and sometimes 48 hours) for your latest push to git@git.bioconductor.org:packages/alsace.git to
reflect on this report. See How and When does the builder pull? When will my changes propagate? here for more information.
- Make sure to use the following settings in order to reproduce any error or warning you see on this page.

raw results

Package 47/2083HostnameOS / ArchINSTALLBUILDCHECKBUILD BIN
alsace 1.29.1  (landing page)
Ron Wehrens
Snapshot Date: 2021-10-22 14:50:11 -0400 (Fri, 22 Oct 2021)
git_url: https://git.bioconductor.org/packages/alsace
git_branch: master
git_last_commit: 66b404d
git_last_commit_date: 2021-08-30 07:59:33 -0400 (Mon, 30 Aug 2021)
nebbiolo2Linux (Ubuntu 20.04.2 LTS) / x86_64  OK    OK    WARNINGS  UNNEEDED, same version is already published
riesling1Windows Server 2019 Standard / x64  OK    OK    WARNINGS    OK  UNNEEDED, same version is already published
merida1macOS 10.14.6 Mojave / x86_64  OK    OK    WARNINGS    OK  UNNEEDED, same version is already published

Summary

Package: alsace
Version: 1.29.1
Command: /home/biocbuild/bbs-3.14-bioc/R/bin/R CMD INSTALL alsace
StartedAt: 2021-10-22 16:03:29 -0400 (Fri, 22 Oct 2021)
EndedAt: 2021-10-22 16:03:31 -0400 (Fri, 22 Oct 2021)
EllapsedTime: 2.1 seconds
RetCode: 0
Status:   OK  

Command output

##############################################################################
##############################################################################
###
### Running command:
###
###   /home/biocbuild/bbs-3.14-bioc/R/bin/R CMD INSTALL alsace
###
##############################################################################
##############################################################################


* installing to library ‘/home/biocbuild/bbs-3.14-bioc/R/library’
* installing *source* package ‘alsace’ ...
** using staged installation
** R
** data
** byte-compile and prepare package for lazy loading
** help
*** installing help indices
** building package indices
** installing vignettes
** testing if installed package can be loaded from temporary location
Warning: Package 'alsace' is deprecated and will be removed from Bioconductor
  version 3.15
** testing if installed package can be loaded from final location
Warning: Package 'alsace' is deprecated and will be removed from Bioconductor
  version 3.15
** testing if installed package keeps a record of temporary installation path
* DONE (alsace)