Index of /checkResults/3.14/bioc-LATEST/alpine/raw-results/tokay2

[ICO]NameLast modifiedSizeDescription

[DIR]Parent Directory  -  
[   ]buildsrc-summary.dcf14-Apr-2022 01:06 455  
[   ]checksrc-summary.dcf14-Apr-2022 01:06 458  
[   ]buildbin-summary.dcf14-Apr-2022 01:06 534  
[   ]install-summary.dcf14-Apr-2022 01:06 632  
[TXT]buildsrc-out.txt14-Apr-2022 01:06 900  
[TXT]buildbin-out.txt14-Apr-2022 01:06 2.2K 
[TXT]install-out.txt14-Apr-2022 01:06 2.9K 
[TXT]checksrc-out.txt14-Apr-2022 01:06 4.3K