Back to Multiple platform build/check report for BioC 3.14
[A]BCDEFGHIJKLMNOPQRSTUVWXYZ

This page was generated on 2021-10-26 14:06:51 -0400 (Tue, 26 Oct 2021).

BUILD results for alevinQC on riesling1

To the developers/maintainers of the alevinQC package:
- Please allow up to 24 hours (and sometimes 48 hours) for your latest push to git@git.bioconductor.org:packages/alevinQC.git to
reflect on this report. See How and When does the builder pull? When will my changes propagate? here for more information.
- Make sure to use the following settings in order to reproduce any error or warning you see on this page.

raw results

Package 41/2083HostnameOS / ArchINSTALLBUILDCHECKBUILD BIN
alevinQC 1.9.0  (landing page)
Charlotte Soneson
Snapshot Date: 2021-10-25 14:50:11 -0400 (Mon, 25 Oct 2021)
git_url: https://git.bioconductor.org/packages/alevinQC
git_branch: master
git_last_commit: 7caf501
git_last_commit_date: 2021-05-19 12:41:11 -0400 (Wed, 19 May 2021)
nebbiolo2Linux (Ubuntu 20.04.2 LTS) / x86_64  OK    OK    OK  UNNEEDED, same version is already published
riesling1Windows Server 2019 Standard / x64  OK    OK    OK    OK  UNNEEDED, same version is already published
merida1macOS 10.14.6 Mojave / x86_64  OK    OK    OK    OK  UNNEEDED, same version is already published
machv2macOS 10.14.6 Mojave / x86_64  OK    OK    OK    OK  

Summary

Package: alevinQC
Version: 1.9.0
Command: chmod a+r alevinQC -R && D:\biocbuild\bbs-3.14-bioc\R\bin\R.exe CMD build --keep-empty-dirs --no-resave-data alevinQC
StartedAt: 2021-10-25 19:27:54 -0400 (Mon, 25 Oct 2021)
EndedAt: 2021-10-25 19:32:06 -0400 (Mon, 25 Oct 2021)
EllapsedTime: 251.5 seconds
RetCode: 0
Status:   OK  
PackageFile: alevinQC_1.9.0.tar.gz
PackageFileSize: 4.762 MiB

Command output

##############################################################################
##############################################################################
###
### Running command:
###
###   chmod a+r alevinQC -R && D:\biocbuild\bbs-3.14-bioc\R\bin\R.exe CMD build --keep-empty-dirs --no-resave-data alevinQC
###
##############################################################################
##############################################################################


* checking for file 'alevinQC/DESCRIPTION' ... OK
* preparing 'alevinQC':
* checking DESCRIPTION meta-information ... OK
* installing the package to build vignettes
* creating vignettes ... OK
* checking for LF line-endings in source and make files and shell scripts
* checking for empty or unneeded directories
* building 'alevinQC_1.9.0.tar.gz'