Back to Multiple platform build/check report for BioC 3.14
[A]BCDEFGHIJKLMNOPQRSTUVWXYZ

This page was generated on 2021-10-20 12:04:59 -0400 (Wed, 20 Oct 2021).

BUILD BIN results for alevinQC on riesling1

To the developers/maintainers of the alevinQC package:
- Please allow up to 24 hours (and sometimes 48 hours) for your latest push to git@git.bioconductor.org:packages/alevinQC.git to
reflect on this report. See How and When does the builder pull? When will my changes propagate? here for more information.
- Make sure to use the following settings in order to reproduce any error or warning you see on this page.

raw results

Package 41/2072HostnameOS / ArchINSTALLBUILDCHECKBUILD BIN
alevinQC 1.9.0  (landing page)
Charlotte Soneson
Snapshot Date: 2021-10-19 14:50:04 -0400 (Tue, 19 Oct 2021)
git_url: https://git.bioconductor.org/packages/alevinQC
git_branch: master
git_last_commit: 7caf501
git_last_commit_date: 2021-05-19 12:41:11 -0400 (Wed, 19 May 2021)
nebbiolo2Linux (Ubuntu 20.04.2 LTS) / x86_64  OK    OK    OK  UNNEEDED, same version is already published
riesling1Windows Server 2019 Standard / x64  OK    OK    OK    OK  UNNEEDED, same version is already published
merida1macOS 10.14.6 Mojave / x86_64  OK    OK    OK    OK  UNNEEDED, same version is already published

Summary

Package: alevinQC
Version: 1.9.0
Command: rm -rf alevinQC.buildbin-libdir && mkdir alevinQC.buildbin-libdir && D:\biocbuild\bbs-3.14-bioc\R\bin\R.exe CMD INSTALL --merge-multiarch --build --library=alevinQC.buildbin-libdir alevinQC_1.9.0.tar.gz
StartedAt: 2021-10-20 04:53:17 -0400 (Wed, 20 Oct 2021)
EndedAt: 2021-10-20 04:56:53 -0400 (Wed, 20 Oct 2021)
EllapsedTime: 216.1 seconds
RetCode: 0
Status:   OK  
PackageFile: alevinQC_1.9.0.zip
PackageFileSize: 4.832 MiB

Command output

##############################################################################
##############################################################################
###
### Running command:
###
###   rm -rf alevinQC.buildbin-libdir && mkdir alevinQC.buildbin-libdir && D:\biocbuild\bbs-3.14-bioc\R\bin\R.exe CMD INSTALL --merge-multiarch --build --library=alevinQC.buildbin-libdir alevinQC_1.9.0.tar.gz
###
##############################################################################
##############################################################################



install for i386

* installing *source* package 'alevinQC' ...
** using staged installation
** R
** inst
** byte-compile and prepare package for lazy loading
** help
*** installing help indices
  converting help for package 'alevinQC'
    finding HTML links ... done
    alevinQC-pkg                            html  
    alevinQCReport                          html  
    alevinQCShiny                           html  
    checkAlevinInputFiles                   html  
    plotAlevinBarcodeCollapse               html  
    plotAlevinHistogram                     html  
    plotAlevinKneeNbrGenes                  html  
    plotAlevinKneeRaw                       html  
    plotAlevinQuant                         html  
    plotAlevinQuantPairs                    html  
    readAlevinQC                            html  
** building package indices
** installing vignettes
** testing if installed package can be loaded from temporary location
** testing if installed package can be loaded from final location
** testing if installed package keeps a record of temporary installation path

install for x64

* installing *source* package 'alevinQC' ...
** testing if installed package can be loaded
* MD5 sums
packaged installation of 'alevinQC' as alevinQC_1.9.0.zip
* DONE (alevinQC)