Back to Multiple platform build/check report for BioC 3.14
[A]BCDEFGHIJKLMNOPQRSTUVWXYZ

This page was generated on 2021-10-20 12:05:32 -0400 (Wed, 20 Oct 2021).

BUILD BIN results for alevinQC on merida1

To the developers/maintainers of the alevinQC package:
- Please allow up to 24 hours (and sometimes 48 hours) for your latest push to git@git.bioconductor.org:packages/alevinQC.git to
reflect on this report. See How and When does the builder pull? When will my changes propagate? here for more information.
- Make sure to use the following settings in order to reproduce any error or warning you see on this page.

raw results

Package 41/2072HostnameOS / ArchINSTALLBUILDCHECKBUILD BIN
alevinQC 1.9.0  (landing page)
Charlotte Soneson
Snapshot Date: 2021-10-19 14:50:04 -0400 (Tue, 19 Oct 2021)
git_url: https://git.bioconductor.org/packages/alevinQC
git_branch: master
git_last_commit: 7caf501
git_last_commit_date: 2021-05-19 12:41:11 -0400 (Wed, 19 May 2021)
nebbiolo2Linux (Ubuntu 20.04.2 LTS) / x86_64  OK    OK    OK  UNNEEDED, same version is already published
riesling1Windows Server 2019 Standard / x64  OK    OK    OK    OK  UNNEEDED, same version is already published
merida1macOS 10.14.6 Mojave / x86_64  OK    OK    OK    OK  UNNEEDED, same version is already published

Summary

Package: alevinQC
Version: 1.9.0
Command: rm -rf alevinQC.buildbin-libdir && mkdir alevinQC.buildbin-libdir && /Users/biocbuild/BBS/utils/build-universal.sh alevinQC_1.9.0.tar.gz /Library/Frameworks/R.framework/Resources/bin/R alevinQC.buildbin-libdir
StartedAt: 2021-10-20 10:57:04 -0400 (Wed, 20 Oct 2021)
EndedAt: 2021-10-20 10:57:55 -0400 (Wed, 20 Oct 2021)
EllapsedTime: 51.0 seconds
RetCode: 0
Status:   OK  
PackageFile: alevinQC_1.9.0.tgz
PackageFileSize: 5.125 MiB

Command output

##############################################################################
##############################################################################
###
### Running command:
###
###   rm -rf alevinQC.buildbin-libdir && mkdir alevinQC.buildbin-libdir && /Users/biocbuild/BBS/utils/build-universal.sh alevinQC_1.9.0.tar.gz /Library/Frameworks/R.framework/Resources/bin/R alevinQC.buildbin-libdir
###
##############################################################################
##############################################################################


>>>>>>> 
>>>>>>> INSTALLATION WITH 'R CMD INSTALL --preclean --no-multiarch --library=alevinQC.buildbin-libdir alevinQC_1.9.0.tar.gz'
>>>>>>> 

* installing *source* package ‘alevinQC’ ...
** using staged installation
** R
** inst
** byte-compile and prepare package for lazy loading
** help
*** installing help indices
** building package indices
** installing vignettes
** testing if installed package can be loaded from temporary location
** testing if installed package can be loaded from final location
** testing if installed package keeps a record of temporary installation path
* DONE (alevinQC)