Back to Multiple platform build/check report for BioC 3.14
[A]BCDEFGHIJKLMNOPQRSTUVWXYZ

This page was generated on 2021-10-18 12:03:57 -0400 (Mon, 18 Oct 2021).

BUILD results for airpart on riesling1

To the developers/maintainers of the airpart package:
- Please allow up to 24 hours (and sometimes 48 hours) for your latest push to git@git.bioconductor.org:packages/airpart.git to
reflect on this report. See How and When does the builder pull? When will my changes propagate? here for more information.
- Make sure to use the following settings in order to reproduce any error or warning you see on this page.

raw results

Package 39/2060HostnameOS / ArchINSTALLBUILDCHECKBUILD BIN
airpart 1.1.4  (landing page)
Wancen Mu
Snapshot Date: 2021-10-17 14:50:03 -0400 (Sun, 17 Oct 2021)
git_url: https://git.bioconductor.org/packages/airpart
git_branch: master
git_last_commit: 256d23c
git_last_commit_date: 2021-10-12 20:32:16 -0400 (Tue, 12 Oct 2021)
nebbiolo2Linux (Ubuntu 20.04.2 LTS) / x86_64  OK    OK    OK  UNNEEDED, same version is already published
riesling1Windows Server 2019 Standard / x64  OK    OK    OK    OK  UNNEEDED, same version is already published
merida1macOS 10.14.6 Mojave / x86_64  OK    OK    OK    OK  UNNEEDED, same version is already published

Summary

Package: airpart
Version: 1.1.4
Command: chmod a+r airpart -R && D:\biocbuild\bbs-3.14-bioc\R\bin\R.exe CMD build --keep-empty-dirs --no-resave-data airpart
StartedAt: 2021-10-17 19:27:31 -0400 (Sun, 17 Oct 2021)
EndedAt: 2021-10-17 19:31:44 -0400 (Sun, 17 Oct 2021)
EllapsedTime: 252.8 seconds
RetCode: 0
Status:   OK  
PackageFile: airpart_1.1.4.tar.gz
PackageFileSize: 684.7 KiB

Command output

##############################################################################
##############################################################################
###
### Running command:
###
###   chmod a+r airpart -R && D:\biocbuild\bbs-3.14-bioc\R\bin\R.exe CMD build --keep-empty-dirs --no-resave-data airpart
###
##############################################################################
##############################################################################


* checking for file 'airpart/DESCRIPTION' ... OK
* preparing 'airpart':
* checking DESCRIPTION meta-information ... OK
* installing the package to build vignettes
* creating vignettes ... OK
* checking for LF line-endings in source and make files and shell scripts
* checking for empty or unneeded directories
* building 'airpart_1.1.4.tar.gz'