Back to Multiple platform build/check report for BioC 3.14
[A]BCDEFGHIJKLMNOPQRSTUVWXYZ

This page was generated on 2021-10-23 14:06:18 -0400 (Sat, 23 Oct 2021).

BUILD BIN results for airpart on riesling1

To the developers/maintainers of the airpart package:
- Please allow up to 24 hours (and sometimes 48 hours) for your latest push to git@git.bioconductor.org:packages/airpart.git to
reflect on this report. See How and When does the builder pull? When will my changes propagate? here for more information.
- Make sure to use the following settings in order to reproduce any error or warning you see on this page.

raw results

Package 39/2083HostnameOS / ArchINSTALLBUILDCHECKBUILD BIN
airpart 1.1.5  (landing page)
Wancen Mu
Snapshot Date: 2021-10-22 14:50:11 -0400 (Fri, 22 Oct 2021)
git_url: https://git.bioconductor.org/packages/airpart
git_branch: master
git_last_commit: cdd43e0
git_last_commit_date: 2021-10-21 23:44:32 -0400 (Thu, 21 Oct 2021)
nebbiolo2Linux (Ubuntu 20.04.2 LTS) / x86_64  OK    OK    OK  YES
riesling1Windows Server 2019 Standard / x64  OK    OK    OK    OK  YES
merida1macOS 10.14.6 Mojave / x86_64  OK    OK    OK    OK  YES

Summary

Package: airpart
Version: 1.1.5
Command: rm -rf airpart.buildbin-libdir && mkdir airpart.buildbin-libdir && D:\biocbuild\bbs-3.14-bioc\R\bin\R.exe CMD INSTALL --merge-multiarch --build --library=airpart.buildbin-libdir airpart_1.1.5.tar.gz
StartedAt: 2021-10-23 09:33:47 -0400 (Sat, 23 Oct 2021)
EndedAt: 2021-10-23 09:37:13 -0400 (Sat, 23 Oct 2021)
EllapsedTime: 205.5 seconds
RetCode: 0
Status:   OK  
PackageFile: airpart_1.1.5.zip
PackageFileSize: 804.6 KiB

Command output

##############################################################################
##############################################################################
###
### Running command:
###
###   rm -rf airpart.buildbin-libdir && mkdir airpart.buildbin-libdir && D:\biocbuild\bbs-3.14-bioc\R\bin\R.exe CMD INSTALL --merge-multiarch --build --library=airpart.buildbin-libdir airpart_1.1.5.tar.gz
###
##############################################################################
##############################################################################



install for i386

* installing *source* package 'airpart' ...
** using staged installation
** R
** inst
** byte-compile and prepare package for lazy loading
** help
*** installing help indices
  converting help for package 'airpart'
    finding HTML links ... done
    allelicRatio                            html  
    cellQC                                  html  
    consensusPart                           html  
    estDisp                                 html  
    extractResult                           html  
    featureQC                               html  
    fusedLasso                              html  
    geneCluster                             html  
    makeForest                              html  
    makeHeatmap                             html  
    makeOffByOneAdjMat                      html  
    makeSimulatedData                       html  
    makeStep                                html  
    makeViolin                              html  
    preprocess                              html  
    summaryAllelicRatio                     html  
    wilcoxExt                               html  
** building package indices
** installing vignettes
** testing if installed package can be loaded from temporary location
** testing if installed package can be loaded from final location
** testing if installed package keeps a record of temporary installation path

install for x64

* installing *source* package 'airpart' ...
** testing if installed package can be loaded
* MD5 sums
packaged installation of 'airpart' as airpart_1.1.5.zip
* DONE (airpart)