Back to Multiple platform build/check report for BioC 3.14
[A]BCDEFGHIJKLMNOPQRSTUVWXYZ

This page was generated on 2021-10-20 12:04:59 -0400 (Wed, 20 Oct 2021).

INSTALL results for affylmGUI on riesling1

To the developers/maintainers of the affylmGUI package:
- Please allow up to 24 hours (and sometimes 48 hours) for your latest push to git@git.bioconductor.org:packages/affylmGUI.git to
reflect on this report. See How and When does the builder pull? When will my changes propagate? here for more information.
- Make sure to use the following settings in order to reproduce any error or warning you see on this page.

raw results

Package 30/2072HostnameOS / ArchINSTALLBUILDCHECKBUILD BIN
affylmGUI 1.67.0  (landing page)
Gordon Smyth
Snapshot Date: 2021-10-19 14:50:04 -0400 (Tue, 19 Oct 2021)
git_url: https://git.bioconductor.org/packages/affylmGUI
git_branch: master
git_last_commit: 9f4e948
git_last_commit_date: 2021-05-19 11:34:17 -0400 (Wed, 19 May 2021)
nebbiolo2Linux (Ubuntu 20.04.2 LTS) / x86_64  OK    OK    OK  UNNEEDED, same version is already published
riesling1Windows Server 2019 Standard / x64  OK    OK    OK    OK  UNNEEDED, same version is already published
merida1macOS 10.14.6 Mojave / x86_64  OK    OK    OK    OK  UNNEEDED, same version is already published

Summary

Package: affylmGUI
Version: 1.67.0
Command: C:\cygwin\bin\curl.exe -O http://155.52.207.166/BBS/3.14/bioc/src/contrib/affylmGUI_1.67.0.tar.gz && rm -rf affylmGUI.buildbin-libdir && mkdir affylmGUI.buildbin-libdir && D:\biocbuild\bbs-3.14-bioc\R\bin\R.exe CMD INSTALL --merge-multiarch --build --library=affylmGUI.buildbin-libdir affylmGUI_1.67.0.tar.gz && D:\biocbuild\bbs-3.14-bioc\R\bin\R.exe CMD INSTALL affylmGUI_1.67.0.zip && rm affylmGUI_1.67.0.tar.gz affylmGUI_1.67.0.zip
StartedAt: 2021-10-19 17:26:56 -0400 (Tue, 19 Oct 2021)
EndedAt: 2021-10-19 17:29:58 -0400 (Tue, 19 Oct 2021)
EllapsedTime: 182.3 seconds
RetCode: 0
Status:   OK  

Command output

##############################################################################
##############################################################################
###
### Running command:
###
###   C:\cygwin\bin\curl.exe -O http://155.52.207.166/BBS/3.14/bioc/src/contrib/affylmGUI_1.67.0.tar.gz && rm -rf affylmGUI.buildbin-libdir && mkdir affylmGUI.buildbin-libdir && D:\biocbuild\bbs-3.14-bioc\R\bin\R.exe CMD INSTALL --merge-multiarch --build --library=affylmGUI.buildbin-libdir affylmGUI_1.67.0.tar.gz && D:\biocbuild\bbs-3.14-bioc\R\bin\R.exe CMD INSTALL affylmGUI_1.67.0.zip && rm affylmGUI_1.67.0.tar.gz affylmGUI_1.67.0.zip
###
##############################################################################
##############################################################################


  % Total    % Received % Xferd  Average Speed   Time    Time     Time  Current
                                 Dload  Upload   Total   Spent    Left  Speed

  0     0    0     0    0     0      0      0 --:--:-- --:--:-- --:--:--     0
100 1612k  100 1612k    0     0  3552k      0 --:--:-- --:--:-- --:--:-- 3552k

install for i386

* installing *source* package 'affylmGUI' ...
** using staged installation
** R
** inst
** byte-compile and prepare package for lazy loading
** help
*** installing help indices
  converting help for package 'affylmGUI'
    finding HTML links ... done
    affylmGU-package                        html  
    finding level-2 HTML links ... done

    affylmGUI                               html  
    internal                                html  
** building package indices
** installing vignettes
   'affylmGUI.Rnw' 
   'extract.Rnw' 
** testing if installed package can be loaded from temporary location
** testing if installed package can be loaded from final location
** testing if installed package keeps a record of temporary installation path

install for x64

* installing *source* package 'affylmGUI' ...
** testing if installed package can be loaded
* MD5 sums
packaged installation of 'affylmGUI' as affylmGUI_1.67.0.zip
* DONE (affylmGUI)
* installing to library 'D:/biocbuild/bbs-3.14-bioc/R/library'
package 'affylmGUI' successfully unpacked and MD5 sums checked