Back to Multiple platform build/check report for BioC 3.14
[A]BCDEFGHIJKLMNOPQRSTUVWXYZ

This page was generated on 2021-10-18 12:03:05 -0400 (Mon, 18 Oct 2021).

All results for package affyio

To the developers/maintainers of the affyio package:
- Please allow up to 24 hours (and sometimes 48 hours) for your latest push to git@git.bioconductor.org:packages/affyio.git to
reflect on this report. See How and When does the builder pull? When will my changes propagate? here for more information.
- Make sure to use the following settings in order to reproduce any error or warning you see on this page.

raw results

Package 29/2060HostnameOS / ArchINSTALLBUILDCHECKBUILD BIN
affyio 1.63.2  (landing page)
Ben Bolstad
Snapshot Date: 2021-10-17 14:50:03 -0400 (Sun, 17 Oct 2021)
git_url: https://git.bioconductor.org/packages/affyio
git_branch: master
git_last_commit: 68c3c54
git_last_commit_date: 2021-08-26 12:40:04 -0400 (Thu, 26 Aug 2021)
nebbiolo2Linux (Ubuntu 20.04.2 LTS) / x86_64  OK    OK    WARNINGS  UNNEEDED, same version is already published
riesling1Windows Server 2019 Standard / x64  OK    OK    WARNINGS    OK  UNNEEDED, same version is already published
merida1macOS 10.14.6 Mojave / x86_64  OK    OK    OK    OK  UNNEEDED, same version is already published

Results for Bioconductor software packages that depend directly on package affyio

QUICK STATSOS / ArchINSTALLBUILDCHECKBUILD BIN
nebbiolo2Linux (Ubuntu 20.04.2 LTS) / x86_64
0111
0111
0047
riesling1Windows Server 2019 Standard / x64
0111
0111
0038
0011
merida1macOS 10.14.6 Mojave / x86_64
0111
0111
0047
004
Package 1/12HostnameOS / ArchINSTALLBUILDCHECKBUILD BIN
affy 1.71.0  (landing page)
Rafael A. Irizarry
git_last_commit: 0e374ba
git_last_commit_date: 2021-05-19 11:32:58 -0400
nebbiolo2Linux (Ubuntu 20.04.2 LTS) / x86_64  OK    OK    WARNINGS  UNNEEDED, same version is already published
riesling1Windows Server 2019 Standard / x64  OK    OK    WARNINGS    OK  UNNEEDED, same version is already published
merida1macOS 10.14.6 Mojave / x86_64  OK    OK    WARNINGS    OK  UNNEEDED, same version is already published
Package 2/12HostnameOS / ArchINSTALLBUILDCHECKBUILD BIN
affylmGUI 1.67.0  (landing page)
Gordon Smyth
git_last_commit: 9f4e948
git_last_commit_date: 2021-05-19 11:34:17 -0400
nebbiolo2Linux (Ubuntu 20.04.2 LTS) / x86_64  OK    OK    OK  UNNEEDED, same version is already published
riesling1Windows Server 2019 Standard / x64  OK    OK    OK    OK  UNNEEDED, same version is already published
merida1macOS 10.14.6 Mojave / x86_64  OK    OK    OK    OK  UNNEEDED, same version is already published
Package 3/12HostnameOS / ArchINSTALLBUILDCHECKBUILD BIN
affyPara 1.53.1  (landing page)
Markus Schmidberger
git_last_commit: c98e8b1
git_last_commit_date: 2021-06-21 10:35:09 -0400
nebbiolo2Linux (Ubuntu 20.04.2 LTS) / x86_64  ERROR    ERROR  skipped
riesling1Windows Server 2019 Standard / x64  ERROR    ERROR  skippedskipped
merida1macOS 10.14.6 Mojave / x86_64  ERROR    ERROR  skippedskipped
Package 4/12HostnameOS / ArchINSTALLBUILDCHECKBUILD BIN
crlmm 1.51.0  (landing page)
Benilton S Carvalho
git_last_commit: 26229e6
git_last_commit_date: 2021-05-19 11:42:53 -0400
nebbiolo2Linux (Ubuntu 20.04.2 LTS) / x86_64  OK    OK    OK  UNNEEDED, same version is already published
riesling1Windows Server 2019 Standard / x64  OK    OK    OK    OK  UNNEEDED, same version is already published
merida1macOS 10.14.6 Mojave / x86_64  OK    OK    OK    OK  UNNEEDED, same version is already published
Package 5/12HostnameOS / ArchINSTALLBUILDCHECKBUILD BIN
ExiMiR 2.35.0  (landing page)
Sylvain Gubian
git_last_commit: a6041c9
git_last_commit_date: 2021-05-19 11:47:16 -0400
nebbiolo2Linux (Ubuntu 20.04.2 LTS) / x86_64  OK    OK    OK  UNNEEDED, same version is already published
riesling1Windows Server 2019 Standard / x64  OK    OK    OK    OK  UNNEEDED, same version is already published
merida1macOS 10.14.6 Mojave / x86_64  OK    OK    OK    OK  UNNEEDED, same version is already published
Package 6/12HostnameOS / ArchINSTALLBUILDCHECKBUILD BIN
gcrma 2.65.0  (landing page)
Z. Wu
git_last_commit: 8d8ef63
git_last_commit_date: 2021-05-19 11:33:18 -0400
nebbiolo2Linux (Ubuntu 20.04.2 LTS) / x86_64  OK    OK    OK  UNNEEDED, same version is already published
riesling1Windows Server 2019 Standard / x64  OK    OK    OK    OK  UNNEEDED, same version is already published
merida1macOS 10.14.6 Mojave / x86_64  OK    OK    OK    NA  
Package 7/12HostnameOS / ArchINSTALLBUILDCHECKBUILD BIN
makecdfenv 1.69.0  (landing page)
James W. MacDonald
git_last_commit: 8703fe5
git_last_commit_date: 2021-05-19 11:33:05 -0400
nebbiolo2Linux (Ubuntu 20.04.2 LTS) / x86_64  OK    OK    WARNINGS  UNNEEDED, same version is already published
riesling1Windows Server 2019 Standard / x64  OK    OK    OK    OK  UNNEEDED, same version is already published
merida1macOS 10.14.6 Mojave / x86_64  OK    OK    OK    NA  
Package 8/12HostnameOS / ArchINSTALLBUILDCHECKBUILD BIN
oligo 1.57.0  (landing page)
Benilton Carvalho
git_last_commit: 000acca
git_last_commit_date: 2021-05-19 11:36:00 -0400
nebbiolo2Linux (Ubuntu 20.04.2 LTS) / x86_64  OK    OK    WARNINGS  UNNEEDED, same version is already published
riesling1Windows Server 2019 Standard / x64  OK    OK    WARNINGS    OK  UNNEEDED, same version is already published
merida1macOS 10.14.6 Mojave / x86_64  OK    OK    WARNINGS    NA  
Package 9/12HostnameOS / ArchINSTALLBUILDCHECKBUILD BIN
oligoClasses 1.55.0  (landing page)
Benilton Carvalho and Robert Scharpf
git_last_commit: ae6b23e
git_last_commit_date: 2021-05-19 11:39:37 -0400
nebbiolo2Linux (Ubuntu 20.04.2 LTS) / x86_64  OK    OK    WARNINGS  UNNEEDED, same version is already published
riesling1Windows Server 2019 Standard / x64  OK    OK    WARNINGS    OK  UNNEEDED, same version is already published
merida1macOS 10.14.6 Mojave / x86_64  OK    OK    WARNINGS    NA  
Package 10/12HostnameOS / ArchINSTALLBUILDCHECKBUILD BIN
puma 3.35.0  (landing page)
Xuejun Liu
git_last_commit: f5bb4b7
git_last_commit_date: 2021-05-19 11:39:13 -0400
nebbiolo2Linux (Ubuntu 20.04.2 LTS) / x86_64  OK    OK    OK  UNNEEDED, same version is already published
riesling1Windows Server 2019 Standard / x64  OK    OK    OK    OK  UNNEEDED, same version is already published
merida1macOS 10.14.6 Mojave / x86_64  OK    OK    WARNINGS    NA  
Package 11/12HostnameOS / ArchINSTALLBUILDCHECKBUILD BIN
SCAN.UPC 2.35.0  (landing page)
Stephen R. Piccolo
git_last_commit: 9452446
git_last_commit_date: 2021-05-19 11:54:04 -0400
nebbiolo2Linux (Ubuntu 20.04.2 LTS) / x86_64  OK    OK    OK  UNNEEDED, same version is already published
riesling1Windows Server 2019 Standard / x64  OK    OK    OK    OK  UNNEEDED, same version is already published
merida1macOS 10.14.6 Mojave / x86_64  OK    OK    OK    NA  
Package 12/12HostnameOS / ArchINSTALLBUILDCHECKBUILD BIN
sscore 1.65.0  (landing page)
Richard Kennedy
git_last_commit: e401374
git_last_commit_date: 2021-05-19 11:36:54 -0400
nebbiolo2Linux (Ubuntu 20.04.2 LTS) / x86_64  OK    OK    OK  UNNEEDED, same version is already published
riesling1Windows Server 2019 Standard / x64  OK    OK    OK    OK  UNNEEDED, same version is already published
merida1macOS 10.14.6 Mojave / x86_64  OK    OK    OK    NA