Back to Multiple platform build/check report for BioC 3.14
[A]BCDEFGHIJKLMNOPQRSTUVWXYZ

This page was generated on 2021-12-06 13:05:49 -0500 (Mon, 06 Dec 2021).

BUILD results for affycoretools on machv2

To the developers/maintainers of the affycoretools package:
- Please allow up to 24 hours (and sometimes 48 hours) for your latest push to git@git.bioconductor.org:packages/affycoretools.git to
reflect on this report. See How and When does the builder pull? When will my changes propagate? here for more information.
- Make sure to use the following settings in order to reproduce any error or warning you see on this page.

raw results

Package 27/2083HostnameOS / ArchINSTALLBUILDCHECKBUILD BIN
affycoretools 1.66.0  (landing page)
James W. MacDonald
Snapshot Date: 2021-12-05 01:55:05 -0500 (Sun, 05 Dec 2021)
git_url: https://git.bioconductor.org/packages/affycoretools
git_branch: RELEASE_3_14
git_last_commit: 6bf769d
git_last_commit_date: 2021-10-26 11:48:47 -0500 (Tue, 26 Oct 2021)
nebbiolo2Linux (Ubuntu 20.04.3 LTS) / x86_64  OK    OK    WARNINGS  UNNEEDED, same version is already published
tokay2Windows Server 2012 R2 Standard / x64  OK    OK    WARNINGS    OK  UNNEEDED, same version is already published
machv2macOS 10.14.6 Mojave / x86_64  OK    OK    WARNINGS    OK  UNNEEDED, same version is already published

Summary

Package: affycoretools
Version: 1.66.0
Command: /Library/Frameworks/R.framework/Resources/bin/R CMD build --keep-empty-dirs --no-resave-data affycoretools
StartedAt: 2021-12-05 05:40:56 -0500 (Sun, 05 Dec 2021)
EndedAt: 2021-12-05 05:42:38 -0500 (Sun, 05 Dec 2021)
EllapsedTime: 101.9 seconds
RetCode: 0
Status:   OK  
PackageFile: affycoretools_1.66.0.tar.gz
PackageFileSize: 6.577 MiB

Command output

##############################################################################
##############################################################################
###
### Running command:
###
###   /Library/Frameworks/R.framework/Resources/bin/R CMD build --keep-empty-dirs --no-resave-data affycoretools
###
##############################################################################
##############################################################################


* checking for file ‘affycoretools/DESCRIPTION’ ... OK
* preparing ‘affycoretools’:
* checking DESCRIPTION meta-information ... OK
* installing the package to build vignettes
* creating vignettes ... OK
* checking for LF line-endings in source and make files and shell scripts
* checking for empty or unneeded directories
* building ‘affycoretools_1.66.0.tar.gz’