Back to Multiple platform build/check report for BioC 3.14
[A]BCDEFGHIJKLMNOPQRSTUVWXYZ

This page was generated on 2021-10-23 14:06:17 -0400 (Sat, 23 Oct 2021).

INSTALL results for affycomp on riesling1

To the developers/maintainers of the affycomp package:
- Please allow up to 24 hours (and sometimes 48 hours) for your latest push to git@git.bioconductor.org:packages/affycomp.git to
reflect on this report. See How and When does the builder pull? When will my changes propagate? here for more information.
- Make sure to use the following settings in order to reproduce any error or warning you see on this page.

raw results

Package 24/2083HostnameOS / ArchINSTALLBUILDCHECKBUILD BIN
affycomp 1.69.0  (landing page)
Rafael A. Irizarry
Snapshot Date: 2021-10-22 14:50:11 -0400 (Fri, 22 Oct 2021)
git_url: https://git.bioconductor.org/packages/affycomp
git_branch: master
git_last_commit: 52efea6
git_last_commit_date: 2021-05-19 11:33:13 -0400 (Wed, 19 May 2021)
nebbiolo2Linux (Ubuntu 20.04.2 LTS) / x86_64  OK    OK    OK  UNNEEDED, same version is already published
riesling1Windows Server 2019 Standard / x64  OK    OK    OK    OK  UNNEEDED, same version is already published
merida1macOS 10.14.6 Mojave / x86_64  OK    OK    OK    OK  UNNEEDED, same version is already published

Summary

Package: affycomp
Version: 1.69.0
Command: C:\cygwin\bin\curl.exe -O http://155.52.207.166/BBS/3.14/bioc/src/contrib/affycomp_1.69.0.tar.gz && rm -rf affycomp.buildbin-libdir && mkdir affycomp.buildbin-libdir && D:\biocbuild\bbs-3.14-bioc\R\bin\R.exe CMD INSTALL --merge-multiarch --build --library=affycomp.buildbin-libdir affycomp_1.69.0.tar.gz && D:\biocbuild\bbs-3.14-bioc\R\bin\R.exe CMD INSTALL affycomp_1.69.0.zip && rm affycomp_1.69.0.tar.gz affycomp_1.69.0.zip
StartedAt: 2021-10-22 16:44:51 -0400 (Fri, 22 Oct 2021)
EndedAt: 2021-10-22 16:48:03 -0400 (Fri, 22 Oct 2021)
EllapsedTime: 192.7 seconds
RetCode: 0
Status:   OK  

Command output

##############################################################################
##############################################################################
###
### Running command:
###
###   C:\cygwin\bin\curl.exe -O http://155.52.207.166/BBS/3.14/bioc/src/contrib/affycomp_1.69.0.tar.gz && rm -rf affycomp.buildbin-libdir && mkdir affycomp.buildbin-libdir && D:\biocbuild\bbs-3.14-bioc\R\bin\R.exe CMD INSTALL --merge-multiarch --build --library=affycomp.buildbin-libdir affycomp_1.69.0.tar.gz && D:\biocbuild\bbs-3.14-bioc\R\bin\R.exe CMD INSTALL affycomp_1.69.0.zip && rm affycomp_1.69.0.tar.gz affycomp_1.69.0.zip
###
##############################################################################
##############################################################################


  % Total    % Received % Xferd  Average Speed   Time    Time     Time  Current
                                 Dload  Upload   Total   Spent    Left  Speed

  0     0    0     0    0     0      0      0 --:--:-- --:--:-- --:--:--     0
  0 7136k    0 13405    0     0   114k      0  0:01:02 --:--:--  0:01:02  113k
 75 7136k   75 5399k    0     0  4877k      0  0:00:01  0:00:01 --:--:-- 4873k
100 7136k  100 7136k    0     0  5460k      0  0:00:01  0:00:01 --:--:-- 5455k

install for i386

* installing *source* package 'affycomp' ...
** using staged installation
** R
** data
** inst
** byte-compile and prepare package for lazy loading
** help
*** installing help indices
  converting help for package 'affycomp'
    finding HTML links ... done
    SD                                      html  
    affycomp.compfigs.auxiliary             html  
    affycomp.figures.auxiliary              html  
    affycomp.table                          html  
    affycompPlot                            html  
    assessAll                               html  
    assessDilution                          html  
    assessSD                                html  
    assessSpikeIn                           html  
    assessSpikeIn2                          html  
    dilution.phenodata                      html  
    exprset.log                             html  
    hgu133a.spikein.phenodata               html  
    mas5.assessment                         html  
    readin                                  html  
    remove.hgu133a.xhyb                     html  
    spikein.phenodata                       html  
    xhyb                                    html  
** building package indices
** installing vignettes
** testing if installed package can be loaded from temporary location
** testing if installed package can be loaded from final location
** testing if installed package keeps a record of temporary installation path

install for x64

* installing *source* package 'affycomp' ...
** testing if installed package can be loaded
* MD5 sums
packaged installation of 'affycomp' as affycomp_1.69.0.zip
* DONE (affycomp)
* installing to library 'D:/biocbuild/bbs-3.14-bioc/R/library'
package 'affycomp' successfully unpacked and MD5 sums checked