Back to Multiple platform build/check report for BioC 3.14
[A]BCDEFGHIJKLMNOPQRSTUVWXYZ

This page was generated on 2021-11-26 15:05:41 -0500 (Fri, 26 Nov 2021).

BUILD results for affycomp on machv2

To the developers/maintainers of the affycomp package:
- Please allow up to 24 hours (and sometimes 48 hours) for your latest push to git@git.bioconductor.org:packages/affycomp.git to
reflect on this report. See How and When does the builder pull? When will my changes propagate? here for more information.
- Make sure to use the following settings in order to reproduce any error or warning you see on this page.

raw results

Package 24/2083HostnameOS / ArchINSTALLBUILDCHECKBUILD BIN
affycomp 1.70.0  (landing page)
Rafael A. Irizarry
Snapshot Date: 2021-11-25 04:15:05 -0500 (Thu, 25 Nov 2021)
git_url: https://git.bioconductor.org/packages/affycomp
git_branch: RELEASE_3_14
git_last_commit: 487f677
git_last_commit_date: 2021-10-26 11:46:00 -0500 (Tue, 26 Oct 2021)
nebbiolo2Linux (Ubuntu 20.04.3 LTS) / x86_64  OK    OK    OK  UNNEEDED, same version is already published
tokay2Windows Server 2012 R2 Standard / x64  OK    OK    OK    OK  UNNEEDED, same version is already published
machv2macOS 10.14.6 Mojave / x86_64  OK    OK    OK    OK  UNNEEDED, same version is already published

Summary

Package: affycomp
Version: 1.70.0
Command: /Library/Frameworks/R.framework/Resources/bin/R CMD build --keep-empty-dirs --no-resave-data affycomp
StartedAt: 2021-11-25 07:40:34 -0500 (Thu, 25 Nov 2021)
EndedAt: 2021-11-25 07:40:58 -0500 (Thu, 25 Nov 2021)
EllapsedTime: 23.6 seconds
RetCode: 0
Status:   OK  
PackageFile: affycomp_1.70.0.tar.gz
PackageFileSize: 7.867 MiB

Command output

##############################################################################
##############################################################################
###
### Running command:
###
###   /Library/Frameworks/R.framework/Resources/bin/R CMD build --keep-empty-dirs --no-resave-data affycomp
###
##############################################################################
##############################################################################


* checking for file ‘affycomp/DESCRIPTION’ ... OK
* preparing ‘affycomp’:
* checking DESCRIPTION meta-information ... OK
* installing the package to build vignettes
* creating vignettes ... OK
* checking for LF line-endings in source and make files and shell scripts
* checking for empty or unneeded directories
* looking to see if a ‘data/datalist’ file should be added
* building ‘affycomp_1.70.0.tar.gz’