Back to Multiple platform build/check report for BioC 3.14
[A]BCDEFGHIJKLMNOPQRSTUVWXYZ

This page was generated on 2021-10-20 12:05:32 -0400 (Wed, 20 Oct 2021).

INSTALL results for affyPara on merida1

To the developers/maintainers of the affyPara package:
- Please allow up to 24 hours (and sometimes 48 hours) for your latest push to git@git.bioconductor.org:packages/affyPara.git to
reflect on this report. See How and When does the builder pull? When will my changes propagate? here for more information.
- Make sure to use the following settings in order to reproduce any error or warning you see on this page.

raw results

Package 31/2072HostnameOS / ArchINSTALLBUILDCHECKBUILD BIN
affyPara 1.53.1  (landing page)
Markus Schmidberger
Snapshot Date: 2021-10-19 14:50:04 -0400 (Tue, 19 Oct 2021)
git_url: https://git.bioconductor.org/packages/affyPara
git_branch: master
git_last_commit: c98e8b1
git_last_commit_date: 2021-06-21 10:35:09 -0400 (Mon, 21 Jun 2021)
nebbiolo2Linux (Ubuntu 20.04.2 LTS) / x86_64  ERROR    ERROR  skipped
riesling1Windows Server 2019 Standard / x64  ERROR    ERROR  skippedskipped
merida1macOS 10.14.6 Mojave / x86_64  ERROR    ERROR  skippedskipped

Summary

Package: affyPara
Version: 1.53.1
Command: /Library/Frameworks/R.framework/Resources/bin/R CMD INSTALL affyPara
StartedAt: 2021-10-19 16:50:32 -0400 (Tue, 19 Oct 2021)
EndedAt: 2021-10-19 16:51:16 -0400 (Tue, 19 Oct 2021)
EllapsedTime: 44.0 seconds
RetCode: 1
Status:   ERROR  

Command output

##############################################################################
##############################################################################
###
### Running command:
###
###   /Library/Frameworks/R.framework/Resources/bin/R CMD INSTALL affyPara
###
##############################################################################
##############################################################################


* installing to library ‘/Library/Frameworks/R.framework/Versions/4.1/Resources/library’
* installing *source* package ‘affyPara’ ...
** using staged installation
** R
** byte-compile and prepare package for lazy loading
** help
*** installing help indices
** building package indices
** installing vignettes
** testing if installed package can be loaded from temporary location
Error: package or namespace load failed for ‘affyPara’:
 .onLoad failed in loadNamespace() for 'affyPara', details:
  call: assign(".affyParaInternalEnv", .affyParaInternalEnv, envir = topenv(parent.frame()))
  error: cannot add binding of '.affyParaInternalEnv' to the base environment
Error: loading failed
Execution halted
ERROR: loading failed
* removing ‘/Library/Frameworks/R.framework/Versions/4.1/Resources/library/affyPara’