Index of /checkResults/3.14/bioc-LATEST/affyPLM/raw-results/tokay2

[ICO]NameLast modifiedSizeDescription

[DIR]Parent Directory  -  
[TXT]buildbin-out.txt27-Jan-2022 03:06 33K 
[   ]buildbin-summary.dcf27-Jan-2022 03:06 540  
[TXT]buildsrc-out.txt27-Jan-2022 03:06 877  
[   ]buildsrc-summary.dcf27-Jan-2022 03:06 459  
[TXT]checksrc-out.txt27-Jan-2022 03:06 5.3K 
[   ]checksrc-summary.dcf27-Jan-2022 03:06 462  
[TXT]install-out.txt27-Jan-2022 03:06 34K 
[   ]install-summary.dcf27-Jan-2022 03:06 641