Index of /checkResults/3.14/bioc-LATEST/affyPLM/raw-results/machv2

[ICO]NameLast modifiedSizeDescription

[DIR]Parent Directory  -  
[TXT]buildbin-out.txt15-Jan-2022 03:07 12K 
[   ]buildbin-summary.dcf15-Jan-2022 03:07 530  
[TXT]buildsrc-out.txt15-Jan-2022 03:07 846  
[   ]buildsrc-summary.dcf15-Jan-2022 03:07 427  
[TXT]checksrc-out.txt15-Jan-2022 03:07 3.8K 
[   ]checksrc-summary.dcf15-Jan-2022 03:07 444  
[TXT]install-out.txt15-Jan-2022 03:07 11K 
[   ]install-summary.dcf15-Jan-2022 03:07 269