Back to Multiple platform build/check report for BioC 3.14
[A]BCDEFGHIJKLMNOPQRSTUVWXYZ

This page was generated on 2021-10-26 14:06:51 -0400 (Tue, 26 Oct 2021).

CHECK results for affyILM on riesling1

To the developers/maintainers of the affyILM package:
- Please allow up to 24 hours (and sometimes 48 hours) for your latest push to git@git.bioconductor.org:packages/affyILM.git to
reflect on this report. See How and When does the builder pull? When will my changes propagate? here for more information.
- Make sure to use the following settings in order to reproduce any error or warning you see on this page.

raw results

Package 28/2083HostnameOS / ArchINSTALLBUILDCHECKBUILD BIN
affyILM 1.45.0  (landing page)
Myriam Kroll and Fabrice Berger
Snapshot Date: 2021-10-25 14:50:11 -0400 (Mon, 25 Oct 2021)
git_url: https://git.bioconductor.org/packages/affyILM
git_branch: master
git_last_commit: 4509f72
git_last_commit_date: 2021-05-19 11:45:39 -0400 (Wed, 19 May 2021)
nebbiolo2Linux (Ubuntu 20.04.2 LTS) / x86_64  OK    OK    OK  UNNEEDED, same version is already published
riesling1Windows Server 2019 Standard / x64  OK    OK    OK    OK  UNNEEDED, same version is already published
merida1macOS 10.14.6 Mojave / x86_64  OK    OK    OK    OK  UNNEEDED, same version is already published
machv2macOS 10.14.6 Mojave / x86_64  OK    OK    OK    OK  

Summary

Package: affyILM
Version: 1.45.0
Command: D:\biocbuild\bbs-3.14-bioc\R\bin\R.exe CMD check --force-multiarch --install=check:affyILM.install-out.txt --library=D:\biocbuild\bbs-3.14-bioc\R\library --no-vignettes --timings affyILM_1.45.0.tar.gz
StartedAt: 2021-10-26 00:16:42 -0400 (Tue, 26 Oct 2021)
EndedAt: 2021-10-26 00:19:22 -0400 (Tue, 26 Oct 2021)
EllapsedTime: 160.4 seconds
RetCode: 0
Status:   OK  
CheckDir: affyILM.Rcheck
Warnings: 0

Command output

##############################################################################
##############################################################################
###
### Running command:
###
###   D:\biocbuild\bbs-3.14-bioc\R\bin\R.exe CMD check --force-multiarch --install=check:affyILM.install-out.txt --library=D:\biocbuild\bbs-3.14-bioc\R\library --no-vignettes --timings affyILM_1.45.0.tar.gz
###
##############################################################################
##############################################################################


* using log directory 'D:/biocbuild/bbs-3.14-bioc/meat/affyILM.Rcheck'
* using R version 4.1.1 (2021-08-10)
* using platform: x86_64-w64-mingw32 (64-bit)
* using session charset: ISO8859-1
* using option '--no-vignettes'
* checking for file 'affyILM/DESCRIPTION' ... OK
* checking extension type ... Package
* this is package 'affyILM' version '1.45.0'
* checking package namespace information ... OK
* checking package dependencies ... OK
* checking if this is a source package ... OK
* checking if there is a namespace ... OK
* checking for hidden files and directories ... OK
* checking for portable file names ... OK
* checking whether package 'affyILM' can be installed ... OK
* checking installed package size ... OK
* checking package directory ... OK
* checking 'build' directory ... OK
* checking DESCRIPTION meta-information ... OK
* checking top-level files ... OK
* checking for left-over files ... OK
* checking index information ... OK
* checking package subdirectories ... OK
* checking R files for non-ASCII characters ... OK
* checking R files for syntax errors ... OK
* loading checks for arch 'i386'
** checking whether the package can be loaded ... OK
** checking whether the package can be loaded with stated dependencies ... OK
** checking whether the package can be unloaded cleanly ... OK
** checking whether the namespace can be loaded with stated dependencies ... OK
** checking whether the namespace can be unloaded cleanly ... OK
* loading checks for arch 'x64'
** checking whether the package can be loaded ... OK
** checking whether the package can be loaded with stated dependencies ... OK
** checking whether the package can be unloaded cleanly ... OK
** checking whether the namespace can be loaded with stated dependencies ... OK
** checking whether the namespace can be unloaded cleanly ... OK
* checking dependencies in R code ... OK
* checking S3 generic/method consistency ... OK
* checking replacement functions ... OK
* checking foreign function calls ... OK
* checking R code for possible problems ... OK
* checking Rd files ... OK
* checking Rd metadata ... OK
* checking Rd cross-references ... OK
* checking for missing documentation entries ... OK
* checking for code/documentation mismatches ... OK
* checking Rd \usage sections ... OK
* checking Rd contents ... OK
* checking for unstated dependencies in examples ... OK
* checking files in 'vignettes' ... OK
* checking examples ...
** running examples for arch 'i386' ... OK
** running examples for arch 'x64' ... OK
* checking for unstated dependencies in vignettes ... OK
* checking package vignettes in 'inst/doc' ... OK
* checking running R code from vignettes ... SKIPPED
* checking re-building of vignette outputs ... SKIPPED
* checking PDF version of manual ... OK
* DONE

Status: OK


Installation output

affyILM.Rcheck/00install.out

##############################################################################
##############################################################################
###
### Running command:
###
###   C:\cygwin\bin\curl.exe -O http://155.52.207.166/BBS/3.14/bioc/src/contrib/affyILM_1.45.0.tar.gz && rm -rf affyILM.buildbin-libdir && mkdir affyILM.buildbin-libdir && D:\biocbuild\bbs-3.14-bioc\R\bin\R.exe CMD INSTALL --merge-multiarch --build --library=affyILM.buildbin-libdir affyILM_1.45.0.tar.gz && D:\biocbuild\bbs-3.14-bioc\R\bin\R.exe CMD INSTALL affyILM_1.45.0.zip && rm affyILM_1.45.0.tar.gz affyILM_1.45.0.zip
###
##############################################################################
##############################################################################


  % Total    % Received % Xferd  Average Speed   Time    Time     Time  Current
                                 Dload  Upload   Total   Spent    Left  Speed

  0     0    0     0    0     0      0      0 --:--:-- --:--:-- --:--:--     0
 16 15596   16  2489    0     0  18856      0 --:--:-- --:--:-- --:--:-- 18714
100 15596  100 15596    0     0  92833      0 --:--:-- --:--:-- --:--:-- 92284

install for i386

* installing *source* package 'affyILM' ...
** using staged installation
** R
** byte-compile and prepare package for lazy loading
** help
*** installing help indices
  converting help for package 'affyILM'
    finding HTML links ... done
    ILM-class                               html  
    ilm-methods                             html  
    ilm                                     html  
REDIRECT:topic	 Previous alias or file overwritten by alias: D:/biocbuild/bbs-3.14-bioc/meat/affyILM.buildbin-libdir/00LOCK-affyILM/00new/affyILM/help/ilm.html
    plotILM                                 html  
    plotIntens                              html  
** building package indices
** installing vignettes
** testing if installed package can be loaded from temporary location
** testing if installed package can be loaded from final location
** testing if installed package keeps a record of temporary installation path

install for x64

* installing *source* package 'affyILM' ...
** testing if installed package can be loaded
* MD5 sums
packaged installation of 'affyILM' as affyILM_1.45.0.zip
* DONE (affyILM)
* installing to library 'D:/biocbuild/bbs-3.14-bioc/R/library'
package 'affyILM' successfully unpacked and MD5 sums checked

Tests output


Example timings

affyILM.Rcheck/examples_i386/affyILM-Ex.timings

nameusersystemelapsed
ILM-class000
ilm-methods3.420.894.39
ilm2.950.173.13
plotILM1.550.191.73
plotIntens1.580.091.67

affyILM.Rcheck/examples_x64/affyILM-Ex.timings

nameusersystemelapsed
ILM-class000
ilm-methods2.860.833.68
ilm2.610.162.76
plotILM1.360.121.52
plotIntens0.840.080.92