Back to Multiple platform build/check report for BioC 3.14
[A]BCDEFGHIJKLMNOPQRSTUVWXYZ

This page was generated on 2021-10-22 12:04:17 -0400 (Fri, 22 Oct 2021).

BUILD results for affyILM on riesling1

To the developers/maintainers of the affyILM package:
- Please allow up to 24 hours (and sometimes 48 hours) for your latest push to git@git.bioconductor.org:packages/affyILM.git to
reflect on this report. See How and When does the builder pull? When will my changes propagate? here for more information.
- Make sure to use the following settings in order to reproduce any error or warning you see on this page.

raw results

Package 28/2075HostnameOS / ArchINSTALLBUILDCHECKBUILD BIN
affyILM 1.45.0  (landing page)
Myriam Kroll and Fabrice Berger
Snapshot Date: 2021-10-21 14:50:08 -0400 (Thu, 21 Oct 2021)
git_url: https://git.bioconductor.org/packages/affyILM
git_branch: master
git_last_commit: 4509f72
git_last_commit_date: 2021-05-19 11:45:39 -0400 (Wed, 19 May 2021)
nebbiolo2Linux (Ubuntu 20.04.2 LTS) / x86_64  OK    OK    OK  UNNEEDED, same version is already published
riesling1Windows Server 2019 Standard / x64  OK    OK    OK    OK  UNNEEDED, same version is already published
merida1macOS 10.14.6 Mojave / x86_64  OK    OK    OK    OK  UNNEEDED, same version is already published

Summary

Package: affyILM
Version: 1.45.0
Command: chmod a+r affyILM -R && D:\biocbuild\bbs-3.14-bioc\R\bin\R.exe CMD build --keep-empty-dirs --no-resave-data affyILM
StartedAt: 2021-10-21 19:29:37 -0400 (Thu, 21 Oct 2021)
EndedAt: 2021-10-21 19:32:39 -0400 (Thu, 21 Oct 2021)
EllapsedTime: 182.0 seconds
RetCode: 0
Status:   OK  
PackageFile: affyILM_1.45.0.tar.gz
PackageFileSize: 124.9 KiB

Command output

##############################################################################
##############################################################################
###
### Running command:
###
###   chmod a+r affyILM -R && D:\biocbuild\bbs-3.14-bioc\R\bin\R.exe CMD build --keep-empty-dirs --no-resave-data affyILM
###
##############################################################################
##############################################################################


* checking for file 'affyILM/DESCRIPTION' ... OK
* preparing 'affyILM':
* checking DESCRIPTION meta-information ... OK
* installing the package to build vignettes
* creating vignettes ... OK
* checking for LF line-endings in source and make files and shell scripts
* checking for empty or unneeded directories
* building 'affyILM_1.45.0.tar.gz'