Index of /checkResults/3.14/bioc-LATEST/affyILM/raw-results/tokay2

[ICO]NameLast modifiedSizeDescription

[DIR]Parent Directory  -  
[TXT]buildbin-out.txt15-Jan-2022 03:05 1.7K 
[   ]buildbin-summary.dcf15-Jan-2022 03:05 539  
[TXT]buildsrc-out.txt15-Jan-2022 03:05 845  
[   ]buildsrc-summary.dcf15-Jan-2022 03:05 458  
[TXT]checksrc-out.txt15-Jan-2022 03:05 3.5K 
[   ]checksrc-summary.dcf15-Jan-2022 03:05 462  
[TXT]install-out.txt15-Jan-2022 03:05 2.4K 
[   ]install-summary.dcf15-Jan-2022 03:05 640