Index of /checkResults/3.14/bioc-LATEST/affyILM/raw-results/nebbiolo2

[ICO]NameLast modifiedSizeDescription

[DIR]Parent Directory  -  
[TXT]buildsrc-out.txt22-Jan-2022 03:04 806  
[   ]buildsrc-summary.dcf22-Jan-2022 03:04 417  
[TXT]checksrc-out.txt22-Jan-2022 03:04 2.9K 
[   ]checksrc-summary.dcf22-Jan-2022 03:04 423  
[TXT]install-out.txt22-Jan-2022 03:04 939  
[   ]install-summary.dcf22-Jan-2022 03:04 259