Index of /checkResults/3.14/bioc-LATEST/affyILM/raw-results/machv2

[ICO]NameLast modifiedSizeDescription

[DIR]Parent Directory  -  
[TXT]buildbin-out.txt15-Jan-2022 03:07 1.1K 
[   ]buildbin-summary.dcf15-Jan-2022 03:07 530  
[TXT]buildsrc-out.txt15-Jan-2022 03:07 816  
[   ]buildsrc-summary.dcf15-Jan-2022 03:07 427  
[TXT]checksrc-out.txt15-Jan-2022 03:07 3.1K 
[   ]checksrc-summary.dcf15-Jan-2022 03:07 444  
[TXT]install-out.txt15-Jan-2022 03:07 972  
[   ]install-summary.dcf15-Jan-2022 03:07 269