Back to Multiple platform build/check report for BioC 3.14
[A]BCDEFGHIJKLMNOPQRSTUVWXYZ

This page was generated on 2021-10-26 14:07:38 -0400 (Tue, 26 Oct 2021).

BUILD BIN results for affyILM on merida1

To the developers/maintainers of the affyILM package:
- Please allow up to 24 hours (and sometimes 48 hours) for your latest push to git@git.bioconductor.org:packages/affyILM.git to
reflect on this report. See How and When does the builder pull? When will my changes propagate? here for more information.
- Make sure to use the following settings in order to reproduce any error or warning you see on this page.

raw results

Package 28/2083HostnameOS / ArchINSTALLBUILDCHECKBUILD BIN
affyILM 1.45.0  (landing page)
Myriam Kroll and Fabrice Berger
Snapshot Date: 2021-10-25 14:50:11 -0400 (Mon, 25 Oct 2021)
git_url: https://git.bioconductor.org/packages/affyILM
git_branch: master
git_last_commit: 4509f72
git_last_commit_date: 2021-05-19 11:45:39 -0400 (Wed, 19 May 2021)
nebbiolo2Linux (Ubuntu 20.04.2 LTS) / x86_64  OK    OK    OK  UNNEEDED, same version is already published
riesling1Windows Server 2019 Standard / x64  OK    OK    OK    OK  UNNEEDED, same version is already published
merida1macOS 10.14.6 Mojave / x86_64  OK    OK    OK    OK  UNNEEDED, same version is already published
machv2macOS 10.14.6 Mojave / x86_64  OK    OK    OK    OK  

Summary

Package: affyILM
Version: 1.45.0
Command: rm -rf affyILM.buildbin-libdir && mkdir affyILM.buildbin-libdir && /Users/biocbuild/BBS/utils/build-universal.sh affyILM_1.45.0.tar.gz /Library/Frameworks/R.framework/Resources/bin/R affyILM.buildbin-libdir
StartedAt: 2021-10-26 10:58:33 -0400 (Tue, 26 Oct 2021)
EndedAt: 2021-10-26 10:59:34 -0400 (Tue, 26 Oct 2021)
EllapsedTime: 60.9 seconds
RetCode: 0
Status:   OK  
PackageFile: affyILM_1.45.0.tgz
PackageFileSize: 398.4 KiB

Command output

##############################################################################
##############################################################################
###
### Running command:
###
###   rm -rf affyILM.buildbin-libdir && mkdir affyILM.buildbin-libdir && /Users/biocbuild/BBS/utils/build-universal.sh affyILM_1.45.0.tar.gz /Library/Frameworks/R.framework/Resources/bin/R affyILM.buildbin-libdir
###
##############################################################################
##############################################################################


>>>>>>> 
>>>>>>> INSTALLATION WITH 'R CMD INSTALL --preclean --no-multiarch --library=affyILM.buildbin-libdir affyILM_1.45.0.tar.gz'
>>>>>>> 

* installing *source* package ‘affyILM’ ...
** using staged installation
** R
** inst
** byte-compile and prepare package for lazy loading
** help
*** installing help indices
** building package indices
** installing vignettes
** testing if installed package can be loaded from temporary location
** testing if installed package can be loaded from final location
** testing if installed package keeps a record of temporary installation path
* DONE (affyILM)