Back to Multiple platform build/check report for BioC 3.14
[A]BCDEFGHIJKLMNOPQRSTUVWXYZ

This page was generated on 2022-01-21 13:05:55 -0500 (Fri, 21 Jan 2022).

HostnameOSArch (*)R versionInstalled pkgs
nebbiolo2Linux (Ubuntu 20.04.4 LTS)x86_644.1.2 (2021-11-01) -- "Bird Hippie" 4329
tokay2Windows Server 2012 R2 Standardx644.1.2 (2021-11-01) -- "Bird Hippie" 4079
machv2macOS 10.14.6 Mojavex86_644.1.2 (2021-11-01) -- "Bird Hippie" 4140
Click on any hostname to see more info about the system (e.g. compilers)      (*) as reported by 'uname -p', except on Windows and Mac OS X

BUILD BIN results for affyContam on tokay2


To the developers/maintainers of the affyContam package:
- Please allow up to 24 hours (and sometimes 48 hours) for your latest push to git@git.bioconductor.org:packages/affyContam.git to
reflect on this report. See How and When does the builder pull? When will my changes propagate? here for more information.
- Make sure to use the following settings in order to reproduce any error or warning you see on this page.

raw results

Package 26/2083HostnameOS / ArchINSTALLBUILDCHECKBUILD BIN
affyContam 1.52.0  (landing page)
V. Carey
Snapshot Date: 2022-01-20 01:55:04 -0500 (Thu, 20 Jan 2022)
git_url: https://git.bioconductor.org/packages/affyContam
git_branch: RELEASE_3_14
git_last_commit: 47c1d86
git_last_commit_date: 2021-10-26 11:53:10 -0500 (Tue, 26 Oct 2021)
nebbiolo2Linux (Ubuntu 20.04.4 LTS) / x86_64  OK    OK    OK  UNNEEDED, same version is already published
tokay2Windows Server 2012 R2 Standard / x64  OK    OK    OK    OK  UNNEEDED, same version is already published
machv2macOS 10.14.6 Mojave / x86_64  OK    OK    OK    OK  UNNEEDED, same version is already published

Summary

Package: affyContam
Version: 1.52.0
Command: rm -rf affyContam.buildbin-libdir && mkdir affyContam.buildbin-libdir && C:\Users\biocbuild\bbs-3.14-bioc\R\bin\R.exe CMD INSTALL --merge-multiarch --build --library=affyContam.buildbin-libdir affyContam_1.52.0.tar.gz
StartedAt: 2022-01-21 05:29:02 -0500 (Fri, 21 Jan 2022)
EndedAt: 2022-01-21 05:29:22 -0500 (Fri, 21 Jan 2022)
EllapsedTime: 19.8 seconds
RetCode: 0
Status:   OK  
PackageFile: affyContam_1.52.0.zip
PackageFileSize: 239.1 KiB

Command output

##############################################################################
##############################################################################
###
### Running command:
###
###   rm -rf affyContam.buildbin-libdir && mkdir affyContam.buildbin-libdir && C:\Users\biocbuild\bbs-3.14-bioc\R\bin\R.exe CMD INSTALL --merge-multiarch --build --library=affyContam.buildbin-libdir affyContam_1.52.0.tar.gz
###
##############################################################################
##############################################################################



install for i386

* installing *source* package 'affyContam' ...
** using staged installation
** R
** inst
** byte-compile and prepare package for lazy loading
     Package    LibPath                                      Item      
[1,] "affydata" "C:/Users/biocbuild/bbs-3.14-bioc/R/library" "Dilution"
     Title                        
[1,] "AffyBatch instance Dilution"
** help
*** installing help indices
  converting help for package 'affyContam'
    finding HTML links ... done
    setRectRegion                           html  
** building package indices
** installing vignettes
** testing if installed package can be loaded from temporary location
     Package    LibPath                                      Item      
[1,] "affydata" "C:/Users/biocbuild/bbs-3.14-bioc/R/library" "Dilution"
     Title                        
[1,] "AffyBatch instance Dilution"
** testing if installed package can be loaded from final location
     Package    LibPath                                      Item      
[1,] "affydata" "C:/Users/biocbuild/bbs-3.14-bioc/R/library" "Dilution"
     Title                        
[1,] "AffyBatch instance Dilution"
** testing if installed package keeps a record of temporary installation path

install for x64

* installing *source* package 'affyContam' ...
** testing if installed package can be loaded
     Package    LibPath                                      Item      
[1,] "affydata" "C:/Users/biocbuild/bbs-3.14-bioc/R/library" "Dilution"
     Title                        
[1,] "AffyBatch instance Dilution"
* MD5 sums
packaged installation of 'affyContam' as affyContam_1.52.0.zip
* DONE (affyContam)