Back to Multiple platform build/check report for BioC 3.14
[A]BCDEFGHIJKLMNOPQRSTUVWXYZ

This page was generated on 2021-10-23 14:06:18 -0400 (Sat, 23 Oct 2021).

CHECK results for affyContam on riesling1

To the developers/maintainers of the affyContam package:
- Please allow up to 24 hours (and sometimes 48 hours) for your latest push to git@git.bioconductor.org:packages/affyContam.git to
reflect on this report. See How and When does the builder pull? When will my changes propagate? here for more information.
- Make sure to use the following settings in order to reproduce any error or warning you see on this page.

raw results

Package 26/2083HostnameOS / ArchINSTALLBUILDCHECKBUILD BIN
affyContam 1.51.0  (landing page)
V. Carey
Snapshot Date: 2021-10-22 14:50:11 -0400 (Fri, 22 Oct 2021)
git_url: https://git.bioconductor.org/packages/affyContam
git_branch: master
git_last_commit: a5d9e8e
git_last_commit_date: 2021-05-19 11:42:08 -0400 (Wed, 19 May 2021)
nebbiolo2Linux (Ubuntu 20.04.2 LTS) / x86_64  OK    OK    OK  UNNEEDED, same version is already published
riesling1Windows Server 2019 Standard / x64  OK    OK    OK    OK  UNNEEDED, same version is already published
merida1macOS 10.14.6 Mojave / x86_64  OK    OK    OK    OK  UNNEEDED, same version is already published

Summary

Package: affyContam
Version: 1.51.0
Command: D:\biocbuild\bbs-3.14-bioc\R\bin\R.exe CMD check --force-multiarch --install=check:affyContam.install-out.txt --library=D:\biocbuild\bbs-3.14-bioc\R\library --no-vignettes --timings affyContam_1.51.0.tar.gz
StartedAt: 2021-10-23 04:51:25 -0400 (Sat, 23 Oct 2021)
EndedAt: 2021-10-23 04:53:12 -0400 (Sat, 23 Oct 2021)
EllapsedTime: 107.2 seconds
RetCode: 0
Status:   OK  
CheckDir: affyContam.Rcheck
Warnings: 0

Command output

##############################################################################
##############################################################################
###
### Running command:
###
###   D:\biocbuild\bbs-3.14-bioc\R\bin\R.exe CMD check --force-multiarch --install=check:affyContam.install-out.txt --library=D:\biocbuild\bbs-3.14-bioc\R\library --no-vignettes --timings affyContam_1.51.0.tar.gz
###
##############################################################################
##############################################################################


* using log directory 'D:/biocbuild/bbs-3.14-bioc/meat/affyContam.Rcheck'
* using R version 4.1.1 (2021-08-10)
* using platform: x86_64-w64-mingw32 (64-bit)
* using session charset: ISO8859-1
* using option '--no-vignettes'
* checking for file 'affyContam/DESCRIPTION' ... OK
* this is package 'affyContam' version '1.51.0'
* checking package namespace information ... OK
* checking package dependencies ... OK
* checking if this is a source package ... OK
* checking if there is a namespace ... OK
* checking for hidden files and directories ... OK
* checking for portable file names ... OK
* checking whether package 'affyContam' can be installed ... OK
* checking installed package size ... OK
* checking package directory ... OK
* checking 'build' directory ... OK
* checking DESCRIPTION meta-information ... NOTE
Malformed Description field: should contain one or more complete sentences.
* checking top-level files ... OK
* checking for left-over files ... OK
* checking index information ... OK
* checking package subdirectories ... OK
* checking R files for non-ASCII characters ... OK
* checking R files for syntax errors ... OK
* loading checks for arch 'i386'
** checking whether the package can be loaded ... OK
** checking whether the package can be loaded with stated dependencies ... OK
** checking whether the package can be unloaded cleanly ... OK
** checking whether the namespace can be loaded with stated dependencies ... OK
** checking whether the namespace can be unloaded cleanly ... OK
* loading checks for arch 'x64'
** checking whether the package can be loaded ... OK
** checking whether the package can be loaded with stated dependencies ... OK
** checking whether the package can be unloaded cleanly ... OK
** checking whether the namespace can be loaded with stated dependencies ... OK
** checking whether the namespace can be unloaded cleanly ... OK
* checking dependencies in R code ... NOTE
Packages in Depends field not imported from:
  'Biobase' 'affy' 'affydata'
  These packages need to be imported from (in the NAMESPACE file)
  for when this namespace is loaded but not attached.
* checking S3 generic/method consistency ... OK
* checking replacement functions ... OK
* checking foreign function calls ... OK
* checking R code for possible problems ... NOTE
getCircRegion: no visible global function definition for 'annotation'
getCircRegion : <anonymous>: no visible global function definition for
  'xy2indices'
getCircRegion: no visible global function definition for 'exprs'
getRectRegion: no visible global function definition for 'annotation'
getRectRegion : <anonymous>: no visible global function definition for
  'xy2indices'
getRectRegion: no visible global function definition for 'exprs'
setCircRegion: no visible global function definition for 'annotation'
setCircRegion : <anonymous>: no visible global function definition for
  'xy2indices'
setCircRegion: no visible global function definition for 'exprs'
setCircRegion: no visible global function definition for 'exprs<-'
setRectRegion: no visible global function definition for 'annotation'
setRectRegion : <anonymous>: no visible global function definition for
  'xy2indices'
setRectRegion: no visible global function definition for 'exprs'
setRectRegion: no visible global function definition for 'exprs<-'
Undefined global functions or variables:
  annotation exprs exprs<- xy2indices
* checking Rd files ... OK
* checking Rd metadata ... OK
* checking Rd cross-references ... OK
* checking for missing documentation entries ... OK
* checking for code/documentation mismatches ... OK
* checking Rd \usage sections ... OK
* checking Rd contents ... OK
* checking for unstated dependencies in examples ... OK
* checking files in 'vignettes' ... OK
* checking examples ...
** running examples for arch 'i386' ... OK
Examples with CPU (user + system) or elapsed time > 5s
               user system elapsed
setRectRegion 14.02   0.53   14.54
** running examples for arch 'x64' ... OK
Examples with CPU (user + system) or elapsed time > 5s
               user system elapsed
setRectRegion 11.52   0.49      12
* checking for unstated dependencies in vignettes ... OK
* checking package vignettes in 'inst/doc' ... OK
* checking running R code from vignettes ... SKIPPED
* checking re-building of vignette outputs ... SKIPPED
* checking PDF version of manual ... OK
* DONE

Status: 3 NOTEs
See
  'D:/biocbuild/bbs-3.14-bioc/meat/affyContam.Rcheck/00check.log'
for details.



Installation output

affyContam.Rcheck/00install.out

##############################################################################
##############################################################################
###
### Running command:
###
###   C:\cygwin\bin\curl.exe -O http://155.52.207.166/BBS/3.14/bioc/src/contrib/affyContam_1.51.0.tar.gz && rm -rf affyContam.buildbin-libdir && mkdir affyContam.buildbin-libdir && D:\biocbuild\bbs-3.14-bioc\R\bin\R.exe CMD INSTALL --merge-multiarch --build --library=affyContam.buildbin-libdir affyContam_1.51.0.tar.gz && D:\biocbuild\bbs-3.14-bioc\R\bin\R.exe CMD INSTALL affyContam_1.51.0.zip && rm affyContam_1.51.0.tar.gz affyContam_1.51.0.zip
###
##############################################################################
##############################################################################


  % Total    % Received % Xferd  Average Speed   Time    Time     Time  Current
                                 Dload  Upload   Total   Spent    Left  Speed

  0     0    0     0    0     0      0      0 --:--:-- --:--:-- --:--:--     0
  0  219k    0  1137    0     0  14212      0  0:00:15 --:--:--  0:00:15 14037
100  219k  100  219k    0     0   971k      0 --:--:-- --:--:-- --:--:--  971k

install for i386

* installing *source* package 'affyContam' ...
** using staged installation
** R
** byte-compile and prepare package for lazy loading
     Package    LibPath                                Item      
[1,] "affydata" "D:/biocbuild/bbs-3.14-bioc/R/library" "Dilution"
     Title                        
[1,] "AffyBatch instance Dilution"
** help
*** installing help indices
  converting help for package 'affyContam'
    finding HTML links ... done
    setRectRegion                           html  
** building package indices
** installing vignettes
** testing if installed package can be loaded from temporary location
     Package    LibPath                                Item      
[1,] "affydata" "D:/biocbuild/bbs-3.14-bioc/R/library" "Dilution"
     Title                        
[1,] "AffyBatch instance Dilution"
** testing if installed package can be loaded from final location
     Package    LibPath                                Item      
[1,] "affydata" "D:/biocbuild/bbs-3.14-bioc/R/library" "Dilution"
     Title                        
[1,] "AffyBatch instance Dilution"
** testing if installed package keeps a record of temporary installation path

install for x64

* installing *source* package 'affyContam' ...
** testing if installed package can be loaded
     Package    LibPath                                Item      
[1,] "affydata" "D:/biocbuild/bbs-3.14-bioc/R/library" "Dilution"
     Title                        
[1,] "AffyBatch instance Dilution"
* MD5 sums
packaged installation of 'affyContam' as affyContam_1.51.0.zip
* DONE (affyContam)
* installing to library 'D:/biocbuild/bbs-3.14-bioc/R/library'
package 'affyContam' successfully unpacked and MD5 sums checked

Tests output


Example timings

affyContam.Rcheck/examples_i386/affyContam-Ex.timings

nameusersystemelapsed
setRectRegion14.02 0.5314.54

affyContam.Rcheck/examples_x64/affyContam-Ex.timings

nameusersystemelapsed
setRectRegion11.52 0.4912.00