Back to Multiple platform build/check report for BioC 3.14
[A]BCDEFGHIJKLMNOPQRSTUVWXYZ

This page was generated on 2021-10-18 12:03:57 -0400 (Mon, 18 Oct 2021).

BUILD BIN results for affyContam on riesling1

To the developers/maintainers of the affyContam package:
- Please allow up to 24 hours (and sometimes 48 hours) for your latest push to git@git.bioconductor.org:packages/affyContam.git to
reflect on this report. See How and When does the builder pull? When will my changes propagate? here for more information.
- Make sure to use the following settings in order to reproduce any error or warning you see on this page.

raw results

Package 26/2060HostnameOS / ArchINSTALLBUILDCHECKBUILD BIN
affyContam 1.51.0  (landing page)
V. Carey
Snapshot Date: 2021-10-17 14:50:03 -0400 (Sun, 17 Oct 2021)
git_url: https://git.bioconductor.org/packages/affyContam
git_branch: master
git_last_commit: a5d9e8e
git_last_commit_date: 2021-05-19 11:42:08 -0400 (Wed, 19 May 2021)
nebbiolo2Linux (Ubuntu 20.04.2 LTS) / x86_64  OK    OK    OK  UNNEEDED, same version is already published
riesling1Windows Server 2019 Standard / x64  OK    OK    OK    OK  UNNEEDED, same version is already published
merida1macOS 10.14.6 Mojave / x86_64  OK    OK    OK    OK  UNNEEDED, same version is already published

Summary

Package: affyContam
Version: 1.51.0
Command: rm -rf affyContam.buildbin-libdir && mkdir affyContam.buildbin-libdir && D:\biocbuild\bbs-3.14-bioc\R\bin\R.exe CMD INSTALL --merge-multiarch --build --library=affyContam.buildbin-libdir affyContam_1.51.0.tar.gz
StartedAt: 2021-10-18 04:10:03 -0400 (Mon, 18 Oct 2021)
EndedAt: 2021-10-18 04:12:56 -0400 (Mon, 18 Oct 2021)
EllapsedTime: 173.1 seconds
RetCode: 0
Status:   OK  
PackageFile: affyContam_1.51.0.zip
PackageFileSize: 239 KiB

Command output

##############################################################################
##############################################################################
###
### Running command:
###
###   rm -rf affyContam.buildbin-libdir && mkdir affyContam.buildbin-libdir && D:\biocbuild\bbs-3.14-bioc\R\bin\R.exe CMD INSTALL --merge-multiarch --build --library=affyContam.buildbin-libdir affyContam_1.51.0.tar.gz
###
##############################################################################
##############################################################################



install for i386

* installing *source* package 'affyContam' ...
** using staged installation
** R
** inst
** byte-compile and prepare package for lazy loading
     Package    LibPath                                Item      
[1,] "affydata" "D:/biocbuild/bbs-3.14-bioc/R/library" "Dilution"
     Title                        
[1,] "AffyBatch instance Dilution"
** help
*** installing help indices
  converting help for package 'affyContam'
    finding HTML links ... done
    setRectRegion                           html  
** building package indices
** installing vignettes
** testing if installed package can be loaded from temporary location
     Package    LibPath                                Item      
[1,] "affydata" "D:/biocbuild/bbs-3.14-bioc/R/library" "Dilution"
     Title                        
[1,] "AffyBatch instance Dilution"
** testing if installed package can be loaded from final location
     Package    LibPath                                Item      
[1,] "affydata" "D:/biocbuild/bbs-3.14-bioc/R/library" "Dilution"
     Title                        
[1,] "AffyBatch instance Dilution"
** testing if installed package keeps a record of temporary installation path

install for x64

* installing *source* package 'affyContam' ...
** testing if installed package can be loaded
     Package    LibPath                                Item      
[1,] "affydata" "D:/biocbuild/bbs-3.14-bioc/R/library" "Dilution"
     Title                        
[1,] "AffyBatch instance Dilution"
* MD5 sums
packaged installation of 'affyContam' as affyContam_1.51.0.zip
* DONE (affyContam)