Index of /checkResults/3.14/bioc-LATEST/affy/raw-results/tokay2

[ICO]NameLast modifiedSizeDescription

[DIR]Parent Directory  -  
[TXT]buildbin-out.txt27-Jan-2022 03:06 8.7K 
[   ]buildbin-summary.dcf27-Jan-2022 03:06 522  
[TXT]buildsrc-out.txt27-Jan-2022 03:06 1.0K 
[   ]buildsrc-summary.dcf27-Jan-2022 03:06 446  
[TXT]checksrc-out.txt27-Jan-2022 03:06 5.9K 
[   ]checksrc-summary.dcf27-Jan-2022 03:06 456  
[TXT]install-out.txt27-Jan-2022 03:06 9.4K 
[   ]install-summary.dcf27-Jan-2022 03:06 614