Index of /checkResults/3.14/bioc-LATEST/affy/raw-results/nebbiolo2

[ICO]NameLast modifiedSizeDescription

[DIR]Parent Directory  -  
[TXT]buildsrc-out.txt22-Jan-2022 03:04 935  
[   ]buildsrc-summary.dcf22-Jan-2022 03:04 408  
[TXT]checksrc-out.txt22-Jan-2022 03:04 4.3K 
[   ]checksrc-summary.dcf22-Jan-2022 03:04 418  
[TXT]install-out.txt22-Jan-2022 03:04 2.6K 
[   ]install-summary.dcf22-Jan-2022 03:04 253