Back to Multiple platform build/check report for BioC 3.14
[A]BCDEFGHIJKLMNOPQRSTUVWXYZ

This page was generated on 2021-11-26 15:05:41 -0500 (Fri, 26 Nov 2021).

BUILD BIN results for affy on machv2

To the developers/maintainers of the affy package:
- Please allow up to 24 hours (and sometimes 48 hours) for your latest push to git@git.bioconductor.org:packages/affy.git to
reflect on this report. See How and When does the builder pull? When will my changes propagate? here for more information.
- Make sure to use the following settings in order to reproduce any error or warning you see on this page.

raw results

Package 23/2083HostnameOS / ArchINSTALLBUILDCHECKBUILD BIN
affy 1.72.0  (landing page)
Rafael A. Irizarry
Snapshot Date: 2021-11-25 04:15:05 -0500 (Thu, 25 Nov 2021)
git_url: https://git.bioconductor.org/packages/affy
git_branch: RELEASE_3_14
git_last_commit: 3750b4e
git_last_commit_date: 2021-10-26 11:45:47 -0500 (Tue, 26 Oct 2021)
nebbiolo2Linux (Ubuntu 20.04.3 LTS) / x86_64  OK    OK    WARNINGS  UNNEEDED, same version is already published
tokay2Windows Server 2012 R2 Standard / x64  OK    OK    WARNINGS    OK  UNNEEDED, same version is already published
machv2macOS 10.14.6 Mojave / x86_64  OK    OK    WARNINGS    OK  UNNEEDED, same version is already published

Summary

Package: affy
Version: 1.72.0
Command: rm -rf affy.buildbin-libdir && mkdir affy.buildbin-libdir && /Users/biocbuild/BBS/utils/build-universal.sh affy_1.72.0.tar.gz /Library/Frameworks/R.framework/Resources/bin/R affy.buildbin-libdir
StartedAt: 2021-11-25 23:18:05 -0500 (Thu, 25 Nov 2021)
EndedAt: 2021-11-25 23:19:13 -0500 (Thu, 25 Nov 2021)
EllapsedTime: 68.5 seconds
RetCode: 0
Status:   OK  
PackageFile: affy_1.72.0.tgz
PackageFileSize: 1.565 MiB

Command output

##############################################################################
##############################################################################
###
### Running command:
###
###   rm -rf affy.buildbin-libdir && mkdir affy.buildbin-libdir && /Users/biocbuild/BBS/utils/build-universal.sh affy_1.72.0.tar.gz /Library/Frameworks/R.framework/Resources/bin/R affy.buildbin-libdir
###
##############################################################################
##############################################################################


>>>>>>> 
>>>>>>> INSTALLATION WITH 'R CMD INSTALL --preclean --no-multiarch --library=affy.buildbin-libdir affy_1.72.0.tar.gz'
>>>>>>> 

* installing *source* package ‘affy’ ...
** using staged installation
creating cache ./config.cache
checking how to run the C preprocessor... cc -E
checking for main in -lz... yes
checking for zlib.h... yes
checking if zlib version >= 1.1.3... yes
updating cache ./config.cache
creating ./config.status
creating src/Makevars
** libs
clang -mmacosx-version-min=10.13 -I"/Library/Frameworks/R.framework/Resources/include" -DNDEBUG -DHAVE_ZLIB=1  -I'/Library/Frameworks/R.framework/Versions/4.1/Resources/library/preprocessCore/include' -I/usr/local/include   -fPIC  -Wall -g -O2  -c chipbackground.c -o chipbackground.o
clang -mmacosx-version-min=10.13 -I"/Library/Frameworks/R.framework/Resources/include" -DNDEBUG -DHAVE_ZLIB=1  -I'/Library/Frameworks/R.framework/Versions/4.1/Resources/library/preprocessCore/include' -I/usr/local/include   -fPIC  -Wall -g -O2  -c getall_locations.c -o getall_locations.o
clang -mmacosx-version-min=10.13 -I"/Library/Frameworks/R.framework/Resources/include" -DNDEBUG -DHAVE_ZLIB=1  -I'/Library/Frameworks/R.framework/Versions/4.1/Resources/library/preprocessCore/include' -I/usr/local/include   -fPIC  -Wall -g -O2  -c mas5calls.c -o mas5calls.o
clang -mmacosx-version-min=10.13 -I"/Library/Frameworks/R.framework/Resources/include" -DNDEBUG -DHAVE_ZLIB=1  -I'/Library/Frameworks/R.framework/Versions/4.1/Resources/library/preprocessCore/include' -I/usr/local/include   -fPIC  -Wall -g -O2  -c rma2.c -o rma2.o
clang -mmacosx-version-min=10.13 -I"/Library/Frameworks/R.framework/Resources/include" -DNDEBUG -DHAVE_ZLIB=1  -I'/Library/Frameworks/R.framework/Versions/4.1/Resources/library/preprocessCore/include' -I/usr/local/include   -fPIC  -Wall -g -O2  -c rma_common.c -o rma_common.o
clang -mmacosx-version-min=10.13 -dynamiclib -Wl,-headerpad_max_install_names -undefined dynamic_lookup -single_module -multiply_defined suppress -L/Library/Frameworks/R.framework/Resources/lib -L/usr/local/lib -o affy.so chipbackground.o getall_locations.o mas5calls.o rma2.o rma_common.o -lz -F/Library/Frameworks/R.framework/.. -framework R -Wl,-framework -Wl,CoreFoundation
installing to /Users/biocbuild/bbs-3.14-bioc/meat/affy.buildbin-libdir/00LOCK-affy/00new/affy/libs
** R
** data
** demo
** inst
** byte-compile and prepare package for lazy loading
** help
*** installing help indices
** building package indices
** installing vignettes
** testing if installed package can be loaded from temporary location
** checking absolute paths in shared objects and dynamic libraries
** testing if installed package can be loaded from final location
** testing if installed package keeps a record of temporary installation path
* DONE (affy)


>>>>>>> 
>>>>>>> FIXING LINKS FOR affy.buildbin-libdir/affy/libs/affy.so
>>>>>>> 

install_name_tool -change "/usr/local/lib/libgcc_s.1.dylib" "/Library/Frameworks/R.framework/Versions/4.1/Resources/lib/libgcc_s.1.dylib" "affy.buildbin-libdir/affy/libs/affy.so"
install_name_tool -change "/usr/local/lib/libgfortran.5.dylib" "/Library/Frameworks/R.framework/Versions/4.1/Resources/lib/libgfortran.5.dylib" "affy.buildbin-libdir/affy/libs/affy.so"
install_name_tool -change "/usr/local/lib/libquadmath.0.dylib" "/Library/Frameworks/R.framework/Versions/4.1/Resources/lib/libquadmath.0.dylib" "affy.buildbin-libdir/affy/libs/affy.so"