![]() | Name | Last modified | Size | Description |
---|---|---|---|---|
![]() | Parent Directory | - | ||
![]() | buildbin-out.txt | 14-Apr-2022 01:06 | 293K | |
![]() | buildbin-summary.dcf | 14-Apr-2022 01:06 | 558 | |
![]() | buildsrc-out.txt | 14-Apr-2022 01:06 | 882 | |
![]() | buildsrc-summary.dcf | 14-Apr-2022 01:06 | 470 | |
![]() | checksrc-out.txt | 14-Apr-2022 01:06 | 6.6K | |
![]() | checksrc-summary.dcf | 14-Apr-2022 01:06 | 480 | |
![]() | install-out.txt | 14-Apr-2022 01:06 | 294K | |
![]() | install-summary.dcf | 14-Apr-2022 01:06 | 668 | |