![]() | Name | Last modified | Size | Description |
---|---|---|---|---|
![]() | Parent Directory | - | ||
![]() | buildsrc-out.txt | 14-Apr-2022 01:05 | 785 | |
![]() | buildsrc-summary.dcf | 14-Apr-2022 01:05 | 426 | |
![]() | checksrc-out.txt | 14-Apr-2022 01:05 | 8.5K | |
![]() | checksrc-summary.dcf | 14-Apr-2022 01:05 | 441 | |
![]() | install-out.txt | 14-Apr-2022 01:05 | 87K | |
![]() | install-summary.dcf | 14-Apr-2022 01:05 | 265 | |