![]() | Name | Last modified | Size | Description |
---|---|---|---|---|
![]() | Parent Directory | - | ||
![]() | buildbin-out.txt | 14-Apr-2022 01:07 | 81K | |
![]() | buildbin-summary.dcf | 14-Apr-2022 01:07 | 549 | |
![]() | buildsrc-out.txt | 14-Apr-2022 01:07 | 795 | |
![]() | buildsrc-summary.dcf | 14-Apr-2022 01:07 | 436 | |
![]() | checksrc-out.txt | 14-Apr-2022 01:07 | 4.8K | |
![]() | checksrc-summary.dcf | 14-Apr-2022 01:07 | 461 | |
![]() | install-out.txt | 14-Apr-2022 01:07 | 80K | |
![]() | install-summary.dcf | 14-Apr-2022 01:07 | 276 | |