Back to Multiple platform build/check report for BioC 3.14
[A]BCDEFGHIJKLMNOPQRSTUVWXYZ

This page was generated on 2021-10-26 14:06:15 -0400 (Tue, 26 Oct 2021).

BUILD results for affxparser on nebbiolo2

To the developers/maintainers of the affxparser package:
- Please allow up to 24 hours (and sometimes 48 hours) for your latest push to git@git.bioconductor.org:packages/affxparser.git to
reflect on this report. See How and When does the builder pull? When will my changes propagate? here for more information.
- Make sure to use the following settings in order to reproduce any error or warning you see on this page.

raw results

Package 22/2083HostnameOS / ArchINSTALLBUILDCHECKBUILD BIN
affxparser 1.65.3  (landing page)
Kasper Daniel Hansen
Snapshot Date: 2021-10-25 14:50:11 -0400 (Mon, 25 Oct 2021)
git_url: https://git.bioconductor.org/packages/affxparser
git_branch: master
git_last_commit: 3fd3e0c
git_last_commit_date: 2021-09-22 12:30:53 -0400 (Wed, 22 Sep 2021)
nebbiolo2Linux (Ubuntu 20.04.2 LTS) / x86_64  OK    OK    WARNINGS  UNNEEDED, same version is already published
riesling1Windows Server 2019 Standard / x64  OK    OK    WARNINGS    OK  UNNEEDED, same version is already published
merida1macOS 10.14.6 Mojave / x86_64  OK    OK    WARNINGS    OK  UNNEEDED, same version is already published
machv2macOS 10.14.6 Mojave / x86_64  OK    OK    WARNINGS    OK  

Summary

Package: affxparser
Version: 1.65.3
Command: /home/biocbuild/bbs-3.14-bioc/R/bin/R CMD build --keep-empty-dirs --no-resave-data affxparser
StartedAt: 2021-10-25 16:40:53 -0400 (Mon, 25 Oct 2021)
EndedAt: 2021-10-25 16:41:15 -0400 (Mon, 25 Oct 2021)
EllapsedTime: 21.3 seconds
RetCode: 0
Status:   OK  
PackageFile: affxparser_1.65.3.tar.gz
PackageFileSize: 10.82 MiB

Command output

##############################################################################
##############################################################################
###
### Running command:
###
###   /home/biocbuild/bbs-3.14-bioc/R/bin/R CMD build --keep-empty-dirs --no-resave-data affxparser
###
##############################################################################
##############################################################################


* checking for file ‘affxparser/DESCRIPTION’ ... OK
* preparing ‘affxparser’:
* checking DESCRIPTION meta-information ... OK
* cleaning src
* running ‘cleanup’
* checking for LF line-endings in source and make files and shell scripts
* checking for empty or unneeded directories
* building ‘affxparser_1.65.3.tar.gz’