Back to Multiple platform build/check report for BioC 3.14
[A]BCDEFGHIJKLMNOPQRSTUVWXYZ

This page was generated on 2021-11-29 15:05:46 -0500 (Mon, 29 Nov 2021).

BUILD BIN results for affxparser on machv2

To the developers/maintainers of the affxparser package:
- Please allow up to 24 hours (and sometimes 48 hours) for your latest push to git@git.bioconductor.org:packages/affxparser.git to
reflect on this report. See How and When does the builder pull? When will my changes propagate? here for more information.
- Make sure to use the following settings in order to reproduce any error or warning you see on this page.

raw results

Package 22/2083HostnameOS / ArchINSTALLBUILDCHECKBUILD BIN
affxparser 1.66.0  (landing page)
Kasper Daniel Hansen
Snapshot Date: 2021-11-28 04:15:06 -0500 (Sun, 28 Nov 2021)
git_url: https://git.bioconductor.org/packages/affxparser
git_branch: RELEASE_3_14
git_last_commit: 2ea72d4
git_last_commit_date: 2021-10-26 11:48:36 -0500 (Tue, 26 Oct 2021)
nebbiolo2Linux (Ubuntu 20.04.3 LTS) / x86_64  OK    OK    WARNINGS  UNNEEDED, same version is already published
tokay2Windows Server 2012 R2 Standard / x64  OK    OK    WARNINGS    OK  UNNEEDED, same version is already published
machv2macOS 10.14.6 Mojave / x86_64  OK    OK    WARNINGS    OK  UNNEEDED, same version is already published

Summary

Package: affxparser
Version: 1.66.0
Command: rm -rf affxparser.buildbin-libdir && mkdir affxparser.buildbin-libdir && /Users/biocbuild/BBS/utils/build-universal.sh affxparser_1.66.0.tar.gz /Library/Frameworks/R.framework/Resources/bin/R affxparser.buildbin-libdir
StartedAt: 2021-11-28 23:00:20 -0500 (Sun, 28 Nov 2021)
EndedAt: 2021-11-28 23:02:49 -0500 (Sun, 28 Nov 2021)
EllapsedTime: 149.0 seconds
RetCode: 0
Status:   OK  
PackageFile: affxparser_1.66.0.tgz
PackageFileSize: 1.673 MiB

Command output

##############################################################################
##############################################################################
###
### Running command:
###
###   rm -rf affxparser.buildbin-libdir && mkdir affxparser.buildbin-libdir && /Users/biocbuild/BBS/utils/build-universal.sh affxparser_1.66.0.tar.gz /Library/Frameworks/R.framework/Resources/bin/R affxparser.buildbin-libdir
###
##############################################################################
##############################################################################


>>>>>>> 
>>>>>>> INSTALLATION WITH 'R CMD INSTALL --preclean --no-multiarch --library=affxparser.buildbin-libdir affxparser_1.66.0.tar.gz'
>>>>>>> 

* installing *source* package ‘affxparser’ ...
** using staged installation
** libs
rm -f fusion/calvin_files/data/src/CDFData.o fusion/calvin_files/data/src/CDFProbeGroupInformation.o fusion/calvin_files/data/src/CDFProbeInformation.o fusion/calvin_files/data/src/CDFProbeSetInformation.o fusion/calvin_files/data/src/CDFQCProbeInformation.o fusion/calvin_files/data/src/CDFQCProbeSetInformation.o fusion/calvin_files/data/src/CELData.o fusion/calvin_files/data/src/CHPBackgroundZone.o fusion/calvin_files/data/src/CHPData.o fusion/calvin_files/data/src/CHPExpressionEntry.o fusion/calvin_files/data/src/CHPMultiDataData.o fusion/calvin_files/data/src/CHPTilingData.o fusion/calvin_files/data/src/CHPQuantificationData.o fusion/calvin_files/data/src/CHPQuantificationDetectionData.o fusion/calvin_files/data/src/CHPGenotypeEntry.o fusion/calvin_files/data/src/CHPUniversalEntry.o fusion/calvin_files/data/src/ColumnInfo.o fusion/calvin_files/data/src/DataGroup.o fusion/calvin_files/data/src/DataGroupHeader.o fusion/calvin_files/data/src/DataSet.o fusion/calvin_files/data/src/DataSetHeader.o fusion/calvin_files/data/src/FileHeader.o fusion/calvin_files/data/src/GenericData.o fusion/calvin_files/data/src/GenericDataHeader.o fusion/calvin_files/exception/src/ExceptionBase.o fusion/calvin_files/fusion/src/CalvinAdapter/CalvinCELDataAdapter.o fusion/calvin_files/fusion/src/CalvinAdapter/CalvinCHPDataAdapter.o fusion/calvin_files/fusion/src/FusionBPMAPData.o fusion/calvin_files/fusion/src/FusionCDFData.o fusion/calvin_files/fusion/src/FusionCDFQCProbeSetNames.o fusion/calvin_files/fusion/src/FusionCELData.o fusion/calvin_files/fusion/src/FusionCHPData.o fusion/calvin_files/fusion/src/FusionProbeSetResults.o fusion/calvin_files/fusion/src/GCOSAdapter/GCOSCELDataAdapter.o fusion/calvin_files/fusion/src/GCOSAdapter/GCOSCHPDataAdapter.o fusion/calvin_files/fusion/src/FusionCHPLegacyData.o fusion/calvin_files/fusion/src/FusionCHPMultiDataAccessor.o fusion/calvin_files/fusion/src/FusionCHPMultiDataData.o fusion/calvin_files/fusion/src/FusionCHPTilingData.o fusion/calvin_files/fusion/src/FusionCHPGenericData.o fusion/calvin_files/fusion/src/FusionCHPQuantificationData.o fusion/calvin_files/fusion/src/FusionCHPQuantificationDetectionData.o fusion/calvin_files/parameter/src/ParameterNameValueType.o fusion/calvin_files/parsers/src/CDFFileReader.o fusion/calvin_files/parsers/src/CelFileReader.o fusion/calvin_files/parsers/src/CHPFileReader.o fusion/calvin_files/parsers/src/CHPMultiDataFileReader.o fusion/calvin_files/parsers/src/CHPTilingFileReader.o fusion/calvin_files/parsers/src/CHPQuantificationFileReader.o fusion/calvin_files/parsers/src/CHPQuantificationDetectionFileReader.o fusion/calvin_files/parsers/src/DataGroupHeaderReader.o fusion/calvin_files/parsers/src/DataGroupReader.o fusion/calvin_files/parsers/src/DataSetHeaderReader.o fusion/calvin_files/parsers/src/DataSetReader.o fusion/calvin_files/parsers/src/FileHeaderReader.o fusion/calvin_files/parsers/src/FileInput.o fusion/calvin_files/parsers/src/GenericDataHeaderReader.o fusion/calvin_files/parsers/src/GenericFileReader.o fusion/calvin_files/utils/src/AffymetrixGuid.o fusion/calvin_files/utils/src/DateTime.o fusion/calvin_files/utils/src/FileUtils.o fusion/calvin_files/utils/src/StringUtils.o fusion/calvin_files/utils/src/checksum.o fusion/file/BPMAPFileData.o fusion/file/BPMAPFileWriter.o fusion/file/CDFFileData.o fusion/file/CELFileData.o fusion/file/CHPFileData.o fusion/file/FileIO.o fusion/file/FileWriter.o fusion/file/TsvFile/ClfFile.o fusion/file/TsvFile/PgfFile.o fusion/file/TsvFile/TsvFile.o fusion/util/AffxByteArray.o fusion/util/AffxConv.o fusion/util/MsgStream.o fusion/util/Util.o fusion/util/Err.o fusion/util/Fs.o fusion/util/Verbose.o fusion/util/RowFile.o fusion/util/TableFile.o fusion/util/Convert.o R_affx_cel_parser.o R_affx_cdf_parser.o R_affx_cdf_extras.o R_affx_bpmap_parser.o R_affx_clf_pgf_parser.o R_affx_chp_parser.o
clang++ -mmacosx-version-min=10.13 -std=gnu++14 -I"/Library/Frameworks/R.framework/Resources/include" -DNDEBUG -I. -Ifusion/calvin_files/array/src -Ifusion/calvin_files/data/src -Ifusion/calvin_files/exception/src -Ifusion/calvin_files/fusion/src -Ifusion/calvin_files/fusion/src/GCOSAdapter -Ifusion/calvin_files/fusion/src/CalvinAdapter -Ifusion/calvin_files/parameter/src -Ifusion/calvin_files/parsers/src -Ifusion/calvin_files/portability/src -Ifusion/calvin_files/template/src -Ifusion/calvin_files/utils/src -Ifusion/calvin_files/writers/src -Ifusion/file -Ifusion/file/TsvFile -Ifusion/portability -Ifusion/util -Ifusion -D_USE_MEM_MAPPING_  -I/usr/local/include   -fPIC  -Wall -g -O2  -Wno-sign-compare -O0 -c fusion/calvin_files/data/src/CDFData.cpp -o fusion/calvin_files/data/src/CDFData.o
clang++ -mmacosx-version-min=10.13 -std=gnu++14 -I"/Library/Frameworks/R.framework/Resources/include" -DNDEBUG -I. -Ifusion/calvin_files/array/src -Ifusion/calvin_files/data/src -Ifusion/calvin_files/exception/src -Ifusion/calvin_files/fusion/src -Ifusion/calvin_files/fusion/src/GCOSAdapter -Ifusion/calvin_files/fusion/src/CalvinAdapter -Ifusion/calvin_files/parameter/src -Ifusion/calvin_files/parsers/src -Ifusion/calvin_files/portability/src -Ifusion/calvin_files/template/src -Ifusion/calvin_files/utils/src -Ifusion/calvin_files/writers/src -Ifusion/file -Ifusion/file/TsvFile -Ifusion/portability -Ifusion/util -Ifusion -D_USE_MEM_MAPPING_  -I/usr/local/include   -fPIC  -Wall -g -O2  -Wno-sign-compare -O0 -c fusion/calvin_files/data/src/CDFProbeGroupInformation.cpp -o fusion/calvin_files/data/src/CDFProbeGroupInformation.o
clang++ -mmacosx-version-min=10.13 -std=gnu++14 -I"/Library/Frameworks/R.framework/Resources/include" -DNDEBUG -I. -Ifusion/calvin_files/array/src -Ifusion/calvin_files/data/src -Ifusion/calvin_files/exception/src -Ifusion/calvin_files/fusion/src -Ifusion/calvin_files/fusion/src/GCOSAdapter -Ifusion/calvin_files/fusion/src/CalvinAdapter -Ifusion/calvin_files/parameter/src -Ifusion/calvin_files/parsers/src -Ifusion/calvin_files/portability/src -Ifusion/calvin_files/template/src -Ifusion/calvin_files/utils/src -Ifusion/calvin_files/writers/src -Ifusion/file -Ifusion/file/TsvFile -Ifusion/portability -Ifusion/util -Ifusion -D_USE_MEM_MAPPING_  -I/usr/local/include   -fPIC  -Wall -g -O2  -Wno-sign-compare -O0 -c fusion/calvin_files/data/src/CDFProbeInformation.cpp -o fusion/calvin_files/data/src/CDFProbeInformation.o
clang++ -mmacosx-version-min=10.13 -std=gnu++14 -I"/Library/Frameworks/R.framework/Resources/include" -DNDEBUG -I. -Ifusion/calvin_files/array/src -Ifusion/calvin_files/data/src -Ifusion/calvin_files/exception/src -Ifusion/calvin_files/fusion/src -Ifusion/calvin_files/fusion/src/GCOSAdapter -Ifusion/calvin_files/fusion/src/CalvinAdapter -Ifusion/calvin_files/parameter/src -Ifusion/calvin_files/parsers/src -Ifusion/calvin_files/portability/src -Ifusion/calvin_files/template/src -Ifusion/calvin_files/utils/src -Ifusion/calvin_files/writers/src -Ifusion/file -Ifusion/file/TsvFile -Ifusion/portability -Ifusion/util -Ifusion -D_USE_MEM_MAPPING_  -I/usr/local/include   -fPIC  -Wall -g -O2  -Wno-sign-compare -O0 -c fusion/calvin_files/data/src/CDFProbeSetInformation.cpp -o fusion/calvin_files/data/src/CDFProbeSetInformation.o
clang++ -mmacosx-version-min=10.13 -std=gnu++14 -I"/Library/Frameworks/R.framework/Resources/include" -DNDEBUG -I. -Ifusion/calvin_files/array/src -Ifusion/calvin_files/data/src -Ifusion/calvin_files/exception/src -Ifusion/calvin_files/fusion/src -Ifusion/calvin_files/fusion/src/GCOSAdapter -Ifusion/calvin_files/fusion/src/CalvinAdapter -Ifusion/calvin_files/parameter/src -Ifusion/calvin_files/parsers/src -Ifusion/calvin_files/portability/src -Ifusion/calvin_files/template/src -Ifusion/calvin_files/utils/src -Ifusion/calvin_files/writers/src -Ifusion/file -Ifusion/file/TsvFile -Ifusion/portability -Ifusion/util -Ifusion -D_USE_MEM_MAPPING_  -I/usr/local/include   -fPIC  -Wall -g -O2  -Wno-sign-compare -O0 -c fusion/calvin_files/data/src/CDFQCProbeInformation.cpp -o fusion/calvin_files/data/src/CDFQCProbeInformation.o
clang++ -mmacosx-version-min=10.13 -std=gnu++14 -I"/Library/Frameworks/R.framework/Resources/include" -DNDEBUG -I. -Ifusion/calvin_files/array/src -Ifusion/calvin_files/data/src -Ifusion/calvin_files/exception/src -Ifusion/calvin_files/fusion/src -Ifusion/calvin_files/fusion/src/GCOSAdapter -Ifusion/calvin_files/fusion/src/CalvinAdapter -Ifusion/calvin_files/parameter/src -Ifusion/calvin_files/parsers/src -Ifusion/calvin_files/portability/src -Ifusion/calvin_files/template/src -Ifusion/calvin_files/utils/src -Ifusion/calvin_files/writers/src -Ifusion/file -Ifusion/file/TsvFile -Ifusion/portability -Ifusion/util -Ifusion -D_USE_MEM_MAPPING_  -I/usr/local/include   -fPIC  -Wall -g -O2  -Wno-sign-compare -O0 -c fusion/calvin_files/data/src/CDFQCProbeSetInformation.cpp -o fusion/calvin_files/data/src/CDFQCProbeSetInformation.o
clang++ -mmacosx-version-min=10.13 -std=gnu++14 -I"/Library/Frameworks/R.framework/Resources/include" -DNDEBUG -I. -Ifusion/calvin_files/array/src -Ifusion/calvin_files/data/src -Ifusion/calvin_files/exception/src -Ifusion/calvin_files/fusion/src -Ifusion/calvin_files/fusion/src/GCOSAdapter -Ifusion/calvin_files/fusion/src/CalvinAdapter -Ifusion/calvin_files/parameter/src -Ifusion/calvin_files/parsers/src -Ifusion/calvin_files/portability/src -Ifusion/calvin_files/template/src -Ifusion/calvin_files/utils/src -Ifusion/calvin_files/writers/src -Ifusion/file -Ifusion/file/TsvFile -Ifusion/portability -Ifusion/util -Ifusion -D_USE_MEM_MAPPING_  -I/usr/local/include   -fPIC  -Wall -g -O2  -Wno-sign-compare -O0 -c fusion/calvin_files/data/src/CELData.cpp -o fusion/calvin_files/data/src/CELData.o
clang++ -mmacosx-version-min=10.13 -std=gnu++14 -I"/Library/Frameworks/R.framework/Resources/include" -DNDEBUG -I. -Ifusion/calvin_files/array/src -Ifusion/calvin_files/data/src -Ifusion/calvin_files/exception/src -Ifusion/calvin_files/fusion/src -Ifusion/calvin_files/fusion/src/GCOSAdapter -Ifusion/calvin_files/fusion/src/CalvinAdapter -Ifusion/calvin_files/parameter/src -Ifusion/calvin_files/parsers/src -Ifusion/calvin_files/portability/src -Ifusion/calvin_files/template/src -Ifusion/calvin_files/utils/src -Ifusion/calvin_files/writers/src -Ifusion/file -Ifusion/file/TsvFile -Ifusion/portability -Ifusion/util -Ifusion -D_USE_MEM_MAPPING_  -I/usr/local/include   -fPIC  -Wall -g -O2  -Wno-sign-compare -O0 -c fusion/calvin_files/data/src/CHPBackgroundZone.cpp -o fusion/calvin_files/data/src/CHPBackgroundZone.o
clang++ -mmacosx-version-min=10.13 -std=gnu++14 -I"/Library/Frameworks/R.framework/Resources/include" -DNDEBUG -I. -Ifusion/calvin_files/array/src -Ifusion/calvin_files/data/src -Ifusion/calvin_files/exception/src -Ifusion/calvin_files/fusion/src -Ifusion/calvin_files/fusion/src/GCOSAdapter -Ifusion/calvin_files/fusion/src/CalvinAdapter -Ifusion/calvin_files/parameter/src -Ifusion/calvin_files/parsers/src -Ifusion/calvin_files/portability/src -Ifusion/calvin_files/template/src -Ifusion/calvin_files/utils/src -Ifusion/calvin_files/writers/src -Ifusion/file -Ifusion/file/TsvFile -Ifusion/portability -Ifusion/util -Ifusion -D_USE_MEM_MAPPING_  -I/usr/local/include   -fPIC  -Wall -g -O2  -Wno-sign-compare -O0 -c fusion/calvin_files/data/src/CHPData.cpp -o fusion/calvin_files/data/src/CHPData.o
clang++ -mmacosx-version-min=10.13 -std=gnu++14 -I"/Library/Frameworks/R.framework/Resources/include" -DNDEBUG -I. -Ifusion/calvin_files/array/src -Ifusion/calvin_files/data/src -Ifusion/calvin_files/exception/src -Ifusion/calvin_files/fusion/src -Ifusion/calvin_files/fusion/src/GCOSAdapter -Ifusion/calvin_files/fusion/src/CalvinAdapter -Ifusion/calvin_files/parameter/src -Ifusion/calvin_files/parsers/src -Ifusion/calvin_files/portability/src -Ifusion/calvin_files/template/src -Ifusion/calvin_files/utils/src -Ifusion/calvin_files/writers/src -Ifusion/file -Ifusion/file/TsvFile -Ifusion/portability -Ifusion/util -Ifusion -D_USE_MEM_MAPPING_  -I/usr/local/include   -fPIC  -Wall -g -O2  -Wno-sign-compare -O0 -c fusion/calvin_files/data/src/CHPExpressionEntry.cpp -o fusion/calvin_files/data/src/CHPExpressionEntry.o
clang++ -mmacosx-version-min=10.13 -std=gnu++14 -I"/Library/Frameworks/R.framework/Resources/include" -DNDEBUG -I. -Ifusion/calvin_files/array/src -Ifusion/calvin_files/data/src -Ifusion/calvin_files/exception/src -Ifusion/calvin_files/fusion/src -Ifusion/calvin_files/fusion/src/GCOSAdapter -Ifusion/calvin_files/fusion/src/CalvinAdapter -Ifusion/calvin_files/parameter/src -Ifusion/calvin_files/parsers/src -Ifusion/calvin_files/portability/src -Ifusion/calvin_files/template/src -Ifusion/calvin_files/utils/src -Ifusion/calvin_files/writers/src -Ifusion/file -Ifusion/file/TsvFile -Ifusion/portability -Ifusion/util -Ifusion -D_USE_MEM_MAPPING_  -I/usr/local/include   -fPIC  -Wall -g -O2  -Wno-sign-compare -O0 -c fusion/calvin_files/data/src/CHPMultiDataData.cpp -o fusion/calvin_files/data/src/CHPMultiDataData.o
clang++ -mmacosx-version-min=10.13 -std=gnu++14 -I"/Library/Frameworks/R.framework/Resources/include" -DNDEBUG -I. -Ifusion/calvin_files/array/src -Ifusion/calvin_files/data/src -Ifusion/calvin_files/exception/src -Ifusion/calvin_files/fusion/src -Ifusion/calvin_files/fusion/src/GCOSAdapter -Ifusion/calvin_files/fusion/src/CalvinAdapter -Ifusion/calvin_files/parameter/src -Ifusion/calvin_files/parsers/src -Ifusion/calvin_files/portability/src -Ifusion/calvin_files/template/src -Ifusion/calvin_files/utils/src -Ifusion/calvin_files/writers/src -Ifusion/file -Ifusion/file/TsvFile -Ifusion/portability -Ifusion/util -Ifusion -D_USE_MEM_MAPPING_  -I/usr/local/include   -fPIC  -Wall -g -O2  -Wno-sign-compare -O0 -c fusion/calvin_files/data/src/CHPTilingData.cpp -o fusion/calvin_files/data/src/CHPTilingData.o
clang++ -mmacosx-version-min=10.13 -std=gnu++14 -I"/Library/Frameworks/R.framework/Resources/include" -DNDEBUG -I. -Ifusion/calvin_files/array/src -Ifusion/calvin_files/data/src -Ifusion/calvin_files/exception/src -Ifusion/calvin_files/fusion/src -Ifusion/calvin_files/fusion/src/GCOSAdapter -Ifusion/calvin_files/fusion/src/CalvinAdapter -Ifusion/calvin_files/parameter/src -Ifusion/calvin_files/parsers/src -Ifusion/calvin_files/portability/src -Ifusion/calvin_files/template/src -Ifusion/calvin_files/utils/src -Ifusion/calvin_files/writers/src -Ifusion/file -Ifusion/file/TsvFile -Ifusion/portability -Ifusion/util -Ifusion -D_USE_MEM_MAPPING_  -I/usr/local/include   -fPIC  -Wall -g -O2  -Wno-sign-compare -O0 -c fusion/calvin_files/data/src/CHPQuantificationData.cpp -o fusion/calvin_files/data/src/CHPQuantificationData.o
clang++ -mmacosx-version-min=10.13 -std=gnu++14 -I"/Library/Frameworks/R.framework/Resources/include" -DNDEBUG -I. -Ifusion/calvin_files/array/src -Ifusion/calvin_files/data/src -Ifusion/calvin_files/exception/src -Ifusion/calvin_files/fusion/src -Ifusion/calvin_files/fusion/src/GCOSAdapter -Ifusion/calvin_files/fusion/src/CalvinAdapter -Ifusion/calvin_files/parameter/src -Ifusion/calvin_files/parsers/src -Ifusion/calvin_files/portability/src -Ifusion/calvin_files/template/src -Ifusion/calvin_files/utils/src -Ifusion/calvin_files/writers/src -Ifusion/file -Ifusion/file/TsvFile -Ifusion/portability -Ifusion/util -Ifusion -D_USE_MEM_MAPPING_  -I/usr/local/include   -fPIC  -Wall -g -O2  -Wno-sign-compare -O0 -c fusion/calvin_files/data/src/CHPQuantificationDetectionData.cpp -o fusion/calvin_files/data/src/CHPQuantificationDetectionData.o
clang++ -mmacosx-version-min=10.13 -std=gnu++14 -I"/Library/Frameworks/R.framework/Resources/include" -DNDEBUG -I. -Ifusion/calvin_files/array/src -Ifusion/calvin_files/data/src -Ifusion/calvin_files/exception/src -Ifusion/calvin_files/fusion/src -Ifusion/calvin_files/fusion/src/GCOSAdapter -Ifusion/calvin_files/fusion/src/CalvinAdapter -Ifusion/calvin_files/parameter/src -Ifusion/calvin_files/parsers/src -Ifusion/calvin_files/portability/src -Ifusion/calvin_files/template/src -Ifusion/calvin_files/utils/src -Ifusion/calvin_files/writers/src -Ifusion/file -Ifusion/file/TsvFile -Ifusion/portability -Ifusion/util -Ifusion -D_USE_MEM_MAPPING_  -I/usr/local/include   -fPIC  -Wall -g -O2  -Wno-sign-compare -O0 -c fusion/calvin_files/data/src/CHPGenotypeEntry.cpp -o fusion/calvin_files/data/src/CHPGenotypeEntry.o
clang++ -mmacosx-version-min=10.13 -std=gnu++14 -I"/Library/Frameworks/R.framework/Resources/include" -DNDEBUG -I. -Ifusion/calvin_files/array/src -Ifusion/calvin_files/data/src -Ifusion/calvin_files/exception/src -Ifusion/calvin_files/fusion/src -Ifusion/calvin_files/fusion/src/GCOSAdapter -Ifusion/calvin_files/fusion/src/CalvinAdapter -Ifusion/calvin_files/parameter/src -Ifusion/calvin_files/parsers/src -Ifusion/calvin_files/portability/src -Ifusion/calvin_files/template/src -Ifusion/calvin_files/utils/src -Ifusion/calvin_files/writers/src -Ifusion/file -Ifusion/file/TsvFile -Ifusion/portability -Ifusion/util -Ifusion -D_USE_MEM_MAPPING_  -I/usr/local/include   -fPIC  -Wall -g -O2  -Wno-sign-compare -O0 -c fusion/calvin_files/data/src/CHPUniversalEntry.cpp -o fusion/calvin_files/data/src/CHPUniversalEntry.o
clang++ -mmacosx-version-min=10.13 -std=gnu++14 -I"/Library/Frameworks/R.framework/Resources/include" -DNDEBUG -I. -Ifusion/calvin_files/array/src -Ifusion/calvin_files/data/src -Ifusion/calvin_files/exception/src -Ifusion/calvin_files/fusion/src -Ifusion/calvin_files/fusion/src/GCOSAdapter -Ifusion/calvin_files/fusion/src/CalvinAdapter -Ifusion/calvin_files/parameter/src -Ifusion/calvin_files/parsers/src -Ifusion/calvin_files/portability/src -Ifusion/calvin_files/template/src -Ifusion/calvin_files/utils/src -Ifusion/calvin_files/writers/src -Ifusion/file -Ifusion/file/TsvFile -Ifusion/portability -Ifusion/util -Ifusion -D_USE_MEM_MAPPING_  -I/usr/local/include   -fPIC  -Wall -g -O2  -Wno-sign-compare -O0 -c fusion/calvin_files/data/src/ColumnInfo.cpp -o fusion/calvin_files/data/src/ColumnInfo.o
clang++ -mmacosx-version-min=10.13 -std=gnu++14 -I"/Library/Frameworks/R.framework/Resources/include" -DNDEBUG -I. -Ifusion/calvin_files/array/src -Ifusion/calvin_files/data/src -Ifusion/calvin_files/exception/src -Ifusion/calvin_files/fusion/src -Ifusion/calvin_files/fusion/src/GCOSAdapter -Ifusion/calvin_files/fusion/src/CalvinAdapter -Ifusion/calvin_files/parameter/src -Ifusion/calvin_files/parsers/src -Ifusion/calvin_files/portability/src -Ifusion/calvin_files/template/src -Ifusion/calvin_files/utils/src -Ifusion/calvin_files/writers/src -Ifusion/file -Ifusion/file/TsvFile -Ifusion/portability -Ifusion/util -Ifusion -D_USE_MEM_MAPPING_  -I/usr/local/include   -fPIC  -Wall -g -O2  -Wno-sign-compare -O0 -c fusion/calvin_files/data/src/DataGroup.cpp -o fusion/calvin_files/data/src/DataGroup.o
clang++ -mmacosx-version-min=10.13 -std=gnu++14 -I"/Library/Frameworks/R.framework/Resources/include" -DNDEBUG -I. -Ifusion/calvin_files/array/src -Ifusion/calvin_files/data/src -Ifusion/calvin_files/exception/src -Ifusion/calvin_files/fusion/src -Ifusion/calvin_files/fusion/src/GCOSAdapter -Ifusion/calvin_files/fusion/src/CalvinAdapter -Ifusion/calvin_files/parameter/src -Ifusion/calvin_files/parsers/src -Ifusion/calvin_files/portability/src -Ifusion/calvin_files/template/src -Ifusion/calvin_files/utils/src -Ifusion/calvin_files/writers/src -Ifusion/file -Ifusion/file/TsvFile -Ifusion/portability -Ifusion/util -Ifusion -D_USE_MEM_MAPPING_  -I/usr/local/include   -fPIC  -Wall -g -O2  -Wno-sign-compare -O0 -c fusion/calvin_files/data/src/DataGroupHeader.cpp -o fusion/calvin_files/data/src/DataGroupHeader.o
clang++ -mmacosx-version-min=10.13 -std=gnu++14 -I"/Library/Frameworks/R.framework/Resources/include" -DNDEBUG -I. -Ifusion/calvin_files/array/src -Ifusion/calvin_files/data/src -Ifusion/calvin_files/exception/src -Ifusion/calvin_files/fusion/src -Ifusion/calvin_files/fusion/src/GCOSAdapter -Ifusion/calvin_files/fusion/src/CalvinAdapter -Ifusion/calvin_files/parameter/src -Ifusion/calvin_files/parsers/src -Ifusion/calvin_files/portability/src -Ifusion/calvin_files/template/src -Ifusion/calvin_files/utils/src -Ifusion/calvin_files/writers/src -Ifusion/file -Ifusion/file/TsvFile -Ifusion/portability -Ifusion/util -Ifusion -D_USE_MEM_MAPPING_  -I/usr/local/include   -fPIC  -Wall -g -O2  -Wno-sign-compare -O0 -c fusion/calvin_files/data/src/DataSet.cpp -o fusion/calvin_files/data/src/DataSet.o
clang++ -mmacosx-version-min=10.13 -std=gnu++14 -I"/Library/Frameworks/R.framework/Resources/include" -DNDEBUG -I. -Ifusion/calvin_files/array/src -Ifusion/calvin_files/data/src -Ifusion/calvin_files/exception/src -Ifusion/calvin_files/fusion/src -Ifusion/calvin_files/fusion/src/GCOSAdapter -Ifusion/calvin_files/fusion/src/CalvinAdapter -Ifusion/calvin_files/parameter/src -Ifusion/calvin_files/parsers/src -Ifusion/calvin_files/portability/src -Ifusion/calvin_files/template/src -Ifusion/calvin_files/utils/src -Ifusion/calvin_files/writers/src -Ifusion/file -Ifusion/file/TsvFile -Ifusion/portability -Ifusion/util -Ifusion -D_USE_MEM_MAPPING_  -I/usr/local/include   -fPIC  -Wall -g -O2  -Wno-sign-compare -O0 -c fusion/calvin_files/data/src/DataSetHeader.cpp -o fusion/calvin_files/data/src/DataSetHeader.o
clang++ -mmacosx-version-min=10.13 -std=gnu++14 -I"/Library/Frameworks/R.framework/Resources/include" -DNDEBUG -I. -Ifusion/calvin_files/array/src -Ifusion/calvin_files/data/src -Ifusion/calvin_files/exception/src -Ifusion/calvin_files/fusion/src -Ifusion/calvin_files/fusion/src/GCOSAdapter -Ifusion/calvin_files/fusion/src/CalvinAdapter -Ifusion/calvin_files/parameter/src -Ifusion/calvin_files/parsers/src -Ifusion/calvin_files/portability/src -Ifusion/calvin_files/template/src -Ifusion/calvin_files/utils/src -Ifusion/calvin_files/writers/src -Ifusion/file -Ifusion/file/TsvFile -Ifusion/portability -Ifusion/util -Ifusion -D_USE_MEM_MAPPING_  -I/usr/local/include   -fPIC  -Wall -g -O2  -Wno-sign-compare -O0 -c fusion/calvin_files/data/src/FileHeader.cpp -o fusion/calvin_files/data/src/FileHeader.o
clang++ -mmacosx-version-min=10.13 -std=gnu++14 -I"/Library/Frameworks/R.framework/Resources/include" -DNDEBUG -I. -Ifusion/calvin_files/array/src -Ifusion/calvin_files/data/src -Ifusion/calvin_files/exception/src -Ifusion/calvin_files/fusion/src -Ifusion/calvin_files/fusion/src/GCOSAdapter -Ifusion/calvin_files/fusion/src/CalvinAdapter -Ifusion/calvin_files/parameter/src -Ifusion/calvin_files/parsers/src -Ifusion/calvin_files/portability/src -Ifusion/calvin_files/template/src -Ifusion/calvin_files/utils/src -Ifusion/calvin_files/writers/src -Ifusion/file -Ifusion/file/TsvFile -Ifusion/portability -Ifusion/util -Ifusion -D_USE_MEM_MAPPING_  -I/usr/local/include   -fPIC  -Wall -g -O2  -Wno-sign-compare -O0 -c fusion/calvin_files/data/src/GenericData.cpp -o fusion/calvin_files/data/src/GenericData.o
clang++ -mmacosx-version-min=10.13 -std=gnu++14 -I"/Library/Frameworks/R.framework/Resources/include" -DNDEBUG -I. -Ifusion/calvin_files/array/src -Ifusion/calvin_files/data/src -Ifusion/calvin_files/exception/src -Ifusion/calvin_files/fusion/src -Ifusion/calvin_files/fusion/src/GCOSAdapter -Ifusion/calvin_files/fusion/src/CalvinAdapter -Ifusion/calvin_files/parameter/src -Ifusion/calvin_files/parsers/src -Ifusion/calvin_files/portability/src -Ifusion/calvin_files/template/src -Ifusion/calvin_files/utils/src -Ifusion/calvin_files/writers/src -Ifusion/file -Ifusion/file/TsvFile -Ifusion/portability -Ifusion/util -Ifusion -D_USE_MEM_MAPPING_  -I/usr/local/include   -fPIC  -Wall -g -O2  -Wno-sign-compare -O0 -c fusion/calvin_files/data/src/GenericDataHeader.cpp -o fusion/calvin_files/data/src/GenericDataHeader.o
clang++ -mmacosx-version-min=10.13 -std=gnu++14 -I"/Library/Frameworks/R.framework/Resources/include" -DNDEBUG -I. -Ifusion/calvin_files/array/src -Ifusion/calvin_files/data/src -Ifusion/calvin_files/exception/src -Ifusion/calvin_files/fusion/src -Ifusion/calvin_files/fusion/src/GCOSAdapter -Ifusion/calvin_files/fusion/src/CalvinAdapter -Ifusion/calvin_files/parameter/src -Ifusion/calvin_files/parsers/src -Ifusion/calvin_files/portability/src -Ifusion/calvin_files/template/src -Ifusion/calvin_files/utils/src -Ifusion/calvin_files/writers/src -Ifusion/file -Ifusion/file/TsvFile -Ifusion/portability -Ifusion/util -Ifusion -D_USE_MEM_MAPPING_  -I/usr/local/include   -fPIC  -Wall -g -O2  -Wno-sign-compare -O0 -c fusion/calvin_files/exception/src/ExceptionBase.cpp -o fusion/calvin_files/exception/src/ExceptionBase.o
clang++ -mmacosx-version-min=10.13 -std=gnu++14 -I"/Library/Frameworks/R.framework/Resources/include" -DNDEBUG -I. -Ifusion/calvin_files/array/src -Ifusion/calvin_files/data/src -Ifusion/calvin_files/exception/src -Ifusion/calvin_files/fusion/src -Ifusion/calvin_files/fusion/src/GCOSAdapter -Ifusion/calvin_files/fusion/src/CalvinAdapter -Ifusion/calvin_files/parameter/src -Ifusion/calvin_files/parsers/src -Ifusion/calvin_files/portability/src -Ifusion/calvin_files/template/src -Ifusion/calvin_files/utils/src -Ifusion/calvin_files/writers/src -Ifusion/file -Ifusion/file/TsvFile -Ifusion/portability -Ifusion/util -Ifusion -D_USE_MEM_MAPPING_  -I/usr/local/include   -fPIC  -Wall -g -O2  -Wno-sign-compare -O0 -c fusion/calvin_files/fusion/src/CalvinAdapter/CalvinCELDataAdapter.cpp -o fusion/calvin_files/fusion/src/CalvinAdapter/CalvinCELDataAdapter.o
clang++ -mmacosx-version-min=10.13 -std=gnu++14 -I"/Library/Frameworks/R.framework/Resources/include" -DNDEBUG -I. -Ifusion/calvin_files/array/src -Ifusion/calvin_files/data/src -Ifusion/calvin_files/exception/src -Ifusion/calvin_files/fusion/src -Ifusion/calvin_files/fusion/src/GCOSAdapter -Ifusion/calvin_files/fusion/src/CalvinAdapter -Ifusion/calvin_files/parameter/src -Ifusion/calvin_files/parsers/src -Ifusion/calvin_files/portability/src -Ifusion/calvin_files/template/src -Ifusion/calvin_files/utils/src -Ifusion/calvin_files/writers/src -Ifusion/file -Ifusion/file/TsvFile -Ifusion/portability -Ifusion/util -Ifusion -D_USE_MEM_MAPPING_  -I/usr/local/include   -fPIC  -Wall -g -O2  -Wno-sign-compare -O0 -c fusion/calvin_files/fusion/src/CalvinAdapter/CalvinCHPDataAdapter.cpp -o fusion/calvin_files/fusion/src/CalvinAdapter/CalvinCHPDataAdapter.o
clang++ -mmacosx-version-min=10.13 -std=gnu++14 -I"/Library/Frameworks/R.framework/Resources/include" -DNDEBUG -I. -Ifusion/calvin_files/array/src -Ifusion/calvin_files/data/src -Ifusion/calvin_files/exception/src -Ifusion/calvin_files/fusion/src -Ifusion/calvin_files/fusion/src/GCOSAdapter -Ifusion/calvin_files/fusion/src/CalvinAdapter -Ifusion/calvin_files/parameter/src -Ifusion/calvin_files/parsers/src -Ifusion/calvin_files/portability/src -Ifusion/calvin_files/template/src -Ifusion/calvin_files/utils/src -Ifusion/calvin_files/writers/src -Ifusion/file -Ifusion/file/TsvFile -Ifusion/portability -Ifusion/util -Ifusion -D_USE_MEM_MAPPING_  -I/usr/local/include   -fPIC  -Wall -g -O2  -Wno-sign-compare -O0 -c fusion/calvin_files/fusion/src/FusionBPMAPData.cpp -o fusion/calvin_files/fusion/src/FusionBPMAPData.o
clang++ -mmacosx-version-min=10.13 -std=gnu++14 -I"/Library/Frameworks/R.framework/Resources/include" -DNDEBUG -I. -Ifusion/calvin_files/array/src -Ifusion/calvin_files/data/src -Ifusion/calvin_files/exception/src -Ifusion/calvin_files/fusion/src -Ifusion/calvin_files/fusion/src/GCOSAdapter -Ifusion/calvin_files/fusion/src/CalvinAdapter -Ifusion/calvin_files/parameter/src -Ifusion/calvin_files/parsers/src -Ifusion/calvin_files/portability/src -Ifusion/calvin_files/template/src -Ifusion/calvin_files/utils/src -Ifusion/calvin_files/writers/src -Ifusion/file -Ifusion/file/TsvFile -Ifusion/portability -Ifusion/util -Ifusion -D_USE_MEM_MAPPING_  -I/usr/local/include   -fPIC  -Wall -g -O2  -Wno-sign-compare -O0 -c fusion/calvin_files/fusion/src/FusionCDFData.cpp -o fusion/calvin_files/fusion/src/FusionCDFData.o
clang++ -mmacosx-version-min=10.13 -std=gnu++14 -I"/Library/Frameworks/R.framework/Resources/include" -DNDEBUG -I. -Ifusion/calvin_files/array/src -Ifusion/calvin_files/data/src -Ifusion/calvin_files/exception/src -Ifusion/calvin_files/fusion/src -Ifusion/calvin_files/fusion/src/GCOSAdapter -Ifusion/calvin_files/fusion/src/CalvinAdapter -Ifusion/calvin_files/parameter/src -Ifusion/calvin_files/parsers/src -Ifusion/calvin_files/portability/src -Ifusion/calvin_files/template/src -Ifusion/calvin_files/utils/src -Ifusion/calvin_files/writers/src -Ifusion/file -Ifusion/file/TsvFile -Ifusion/portability -Ifusion/util -Ifusion -D_USE_MEM_MAPPING_  -I/usr/local/include   -fPIC  -Wall -g -O2  -Wno-sign-compare -O0 -c fusion/calvin_files/fusion/src/FusionCDFQCProbeSetNames.cpp -o fusion/calvin_files/fusion/src/FusionCDFQCProbeSetNames.o
clang++ -mmacosx-version-min=10.13 -std=gnu++14 -I"/Library/Frameworks/R.framework/Resources/include" -DNDEBUG -I. -Ifusion/calvin_files/array/src -Ifusion/calvin_files/data/src -Ifusion/calvin_files/exception/src -Ifusion/calvin_files/fusion/src -Ifusion/calvin_files/fusion/src/GCOSAdapter -Ifusion/calvin_files/fusion/src/CalvinAdapter -Ifusion/calvin_files/parameter/src -Ifusion/calvin_files/parsers/src -Ifusion/calvin_files/portability/src -Ifusion/calvin_files/template/src -Ifusion/calvin_files/utils/src -Ifusion/calvin_files/writers/src -Ifusion/file -Ifusion/file/TsvFile -Ifusion/portability -Ifusion/util -Ifusion -D_USE_MEM_MAPPING_  -I/usr/local/include   -fPIC  -Wall -g -O2  -Wno-sign-compare -O0 -c fusion/calvin_files/fusion/src/FusionCELData.cpp -o fusion/calvin_files/fusion/src/FusionCELData.o
clang++ -mmacosx-version-min=10.13 -std=gnu++14 -I"/Library/Frameworks/R.framework/Resources/include" -DNDEBUG -I. -Ifusion/calvin_files/array/src -Ifusion/calvin_files/data/src -Ifusion/calvin_files/exception/src -Ifusion/calvin_files/fusion/src -Ifusion/calvin_files/fusion/src/GCOSAdapter -Ifusion/calvin_files/fusion/src/CalvinAdapter -Ifusion/calvin_files/parameter/src -Ifusion/calvin_files/parsers/src -Ifusion/calvin_files/portability/src -Ifusion/calvin_files/template/src -Ifusion/calvin_files/utils/src -Ifusion/calvin_files/writers/src -Ifusion/file -Ifusion/file/TsvFile -Ifusion/portability -Ifusion/util -Ifusion -D_USE_MEM_MAPPING_  -I/usr/local/include   -fPIC  -Wall -g -O2  -Wno-sign-compare -O0 -c fusion/calvin_files/fusion/src/FusionCHPData.cpp -o fusion/calvin_files/fusion/src/FusionCHPData.o
clang++ -mmacosx-version-min=10.13 -std=gnu++14 -I"/Library/Frameworks/R.framework/Resources/include" -DNDEBUG -I. -Ifusion/calvin_files/array/src -Ifusion/calvin_files/data/src -Ifusion/calvin_files/exception/src -Ifusion/calvin_files/fusion/src -Ifusion/calvin_files/fusion/src/GCOSAdapter -Ifusion/calvin_files/fusion/src/CalvinAdapter -Ifusion/calvin_files/parameter/src -Ifusion/calvin_files/parsers/src -Ifusion/calvin_files/portability/src -Ifusion/calvin_files/template/src -Ifusion/calvin_files/utils/src -Ifusion/calvin_files/writers/src -Ifusion/file -Ifusion/file/TsvFile -Ifusion/portability -Ifusion/util -Ifusion -D_USE_MEM_MAPPING_  -I/usr/local/include   -fPIC  -Wall -g -O2  -Wno-sign-compare -O0 -c fusion/calvin_files/fusion/src/FusionProbeSetResults.cpp -o fusion/calvin_files/fusion/src/FusionProbeSetResults.o
clang++ -mmacosx-version-min=10.13 -std=gnu++14 -I"/Library/Frameworks/R.framework/Resources/include" -DNDEBUG -I. -Ifusion/calvin_files/array/src -Ifusion/calvin_files/data/src -Ifusion/calvin_files/exception/src -Ifusion/calvin_files/fusion/src -Ifusion/calvin_files/fusion/src/GCOSAdapter -Ifusion/calvin_files/fusion/src/CalvinAdapter -Ifusion/calvin_files/parameter/src -Ifusion/calvin_files/parsers/src -Ifusion/calvin_files/portability/src -Ifusion/calvin_files/template/src -Ifusion/calvin_files/utils/src -Ifusion/calvin_files/writers/src -Ifusion/file -Ifusion/file/TsvFile -Ifusion/portability -Ifusion/util -Ifusion -D_USE_MEM_MAPPING_  -I/usr/local/include   -fPIC  -Wall -g -O2  -Wno-sign-compare -O0 -c fusion/calvin_files/fusion/src/GCOSAdapter/GCOSCELDataAdapter.cpp -o fusion/calvin_files/fusion/src/GCOSAdapter/GCOSCELDataAdapter.o
clang++ -mmacosx-version-min=10.13 -std=gnu++14 -I"/Library/Frameworks/R.framework/Resources/include" -DNDEBUG -I. -Ifusion/calvin_files/array/src -Ifusion/calvin_files/data/src -Ifusion/calvin_files/exception/src -Ifusion/calvin_files/fusion/src -Ifusion/calvin_files/fusion/src/GCOSAdapter -Ifusion/calvin_files/fusion/src/CalvinAdapter -Ifusion/calvin_files/parameter/src -Ifusion/calvin_files/parsers/src -Ifusion/calvin_files/portability/src -Ifusion/calvin_files/template/src -Ifusion/calvin_files/utils/src -Ifusion/calvin_files/writers/src -Ifusion/file -Ifusion/file/TsvFile -Ifusion/portability -Ifusion/util -Ifusion -D_USE_MEM_MAPPING_  -I/usr/local/include   -fPIC  -Wall -g -O2  -Wno-sign-compare -O0 -c fusion/calvin_files/fusion/src/GCOSAdapter/GCOSCHPDataAdapter.cpp -o fusion/calvin_files/fusion/src/GCOSAdapter/GCOSCHPDataAdapter.o
clang++ -mmacosx-version-min=10.13 -std=gnu++14 -I"/Library/Frameworks/R.framework/Resources/include" -DNDEBUG -I. -Ifusion/calvin_files/array/src -Ifusion/calvin_files/data/src -Ifusion/calvin_files/exception/src -Ifusion/calvin_files/fusion/src -Ifusion/calvin_files/fusion/src/GCOSAdapter -Ifusion/calvin_files/fusion/src/CalvinAdapter -Ifusion/calvin_files/parameter/src -Ifusion/calvin_files/parsers/src -Ifusion/calvin_files/portability/src -Ifusion/calvin_files/template/src -Ifusion/calvin_files/utils/src -Ifusion/calvin_files/writers/src -Ifusion/file -Ifusion/file/TsvFile -Ifusion/portability -Ifusion/util -Ifusion -D_USE_MEM_MAPPING_  -I/usr/local/include   -fPIC  -Wall -g -O2  -Wno-sign-compare -O0 -c fusion/calvin_files/fusion/src/FusionCHPLegacyData.cpp -o fusion/calvin_files/fusion/src/FusionCHPLegacyData.o
clang++ -mmacosx-version-min=10.13 -std=gnu++14 -I"/Library/Frameworks/R.framework/Resources/include" -DNDEBUG -I. -Ifusion/calvin_files/array/src -Ifusion/calvin_files/data/src -Ifusion/calvin_files/exception/src -Ifusion/calvin_files/fusion/src -Ifusion/calvin_files/fusion/src/GCOSAdapter -Ifusion/calvin_files/fusion/src/CalvinAdapter -Ifusion/calvin_files/parameter/src -Ifusion/calvin_files/parsers/src -Ifusion/calvin_files/portability/src -Ifusion/calvin_files/template/src -Ifusion/calvin_files/utils/src -Ifusion/calvin_files/writers/src -Ifusion/file -Ifusion/file/TsvFile -Ifusion/portability -Ifusion/util -Ifusion -D_USE_MEM_MAPPING_  -I/usr/local/include   -fPIC  -Wall -g -O2  -Wno-sign-compare -O0 -c fusion/calvin_files/fusion/src/FusionCHPMultiDataAccessor.cpp -o fusion/calvin_files/fusion/src/FusionCHPMultiDataAccessor.o
clang++ -mmacosx-version-min=10.13 -std=gnu++14 -I"/Library/Frameworks/R.framework/Resources/include" -DNDEBUG -I. -Ifusion/calvin_files/array/src -Ifusion/calvin_files/data/src -Ifusion/calvin_files/exception/src -Ifusion/calvin_files/fusion/src -Ifusion/calvin_files/fusion/src/GCOSAdapter -Ifusion/calvin_files/fusion/src/CalvinAdapter -Ifusion/calvin_files/parameter/src -Ifusion/calvin_files/parsers/src -Ifusion/calvin_files/portability/src -Ifusion/calvin_files/template/src -Ifusion/calvin_files/utils/src -Ifusion/calvin_files/writers/src -Ifusion/file -Ifusion/file/TsvFile -Ifusion/portability -Ifusion/util -Ifusion -D_USE_MEM_MAPPING_  -I/usr/local/include   -fPIC  -Wall -g -O2  -Wno-sign-compare -O0 -c fusion/calvin_files/fusion/src/FusionCHPMultiDataData.cpp -o fusion/calvin_files/fusion/src/FusionCHPMultiDataData.o
clang++ -mmacosx-version-min=10.13 -std=gnu++14 -I"/Library/Frameworks/R.framework/Resources/include" -DNDEBUG -I. -Ifusion/calvin_files/array/src -Ifusion/calvin_files/data/src -Ifusion/calvin_files/exception/src -Ifusion/calvin_files/fusion/src -Ifusion/calvin_files/fusion/src/GCOSAdapter -Ifusion/calvin_files/fusion/src/CalvinAdapter -Ifusion/calvin_files/parameter/src -Ifusion/calvin_files/parsers/src -Ifusion/calvin_files/portability/src -Ifusion/calvin_files/template/src -Ifusion/calvin_files/utils/src -Ifusion/calvin_files/writers/src -Ifusion/file -Ifusion/file/TsvFile -Ifusion/portability -Ifusion/util -Ifusion -D_USE_MEM_MAPPING_  -I/usr/local/include   -fPIC  -Wall -g -O2  -Wno-sign-compare -O0 -c fusion/calvin_files/fusion/src/FusionCHPTilingData.cpp -o fusion/calvin_files/fusion/src/FusionCHPTilingData.o
clang++ -mmacosx-version-min=10.13 -std=gnu++14 -I"/Library/Frameworks/R.framework/Resources/include" -DNDEBUG -I. -Ifusion/calvin_files/array/src -Ifusion/calvin_files/data/src -Ifusion/calvin_files/exception/src -Ifusion/calvin_files/fusion/src -Ifusion/calvin_files/fusion/src/GCOSAdapter -Ifusion/calvin_files/fusion/src/CalvinAdapter -Ifusion/calvin_files/parameter/src -Ifusion/calvin_files/parsers/src -Ifusion/calvin_files/portability/src -Ifusion/calvin_files/template/src -Ifusion/calvin_files/utils/src -Ifusion/calvin_files/writers/src -Ifusion/file -Ifusion/file/TsvFile -Ifusion/portability -Ifusion/util -Ifusion -D_USE_MEM_MAPPING_  -I/usr/local/include   -fPIC  -Wall -g -O2  -Wno-sign-compare -O0 -c fusion/calvin_files/fusion/src/FusionCHPGenericData.cpp -o fusion/calvin_files/fusion/src/FusionCHPGenericData.o
clang++ -mmacosx-version-min=10.13 -std=gnu++14 -I"/Library/Frameworks/R.framework/Resources/include" -DNDEBUG -I. -Ifusion/calvin_files/array/src -Ifusion/calvin_files/data/src -Ifusion/calvin_files/exception/src -Ifusion/calvin_files/fusion/src -Ifusion/calvin_files/fusion/src/GCOSAdapter -Ifusion/calvin_files/fusion/src/CalvinAdapter -Ifusion/calvin_files/parameter/src -Ifusion/calvin_files/parsers/src -Ifusion/calvin_files/portability/src -Ifusion/calvin_files/template/src -Ifusion/calvin_files/utils/src -Ifusion/calvin_files/writers/src -Ifusion/file -Ifusion/file/TsvFile -Ifusion/portability -Ifusion/util -Ifusion -D_USE_MEM_MAPPING_  -I/usr/local/include   -fPIC  -Wall -g -O2  -Wno-sign-compare -O0 -c fusion/calvin_files/fusion/src/FusionCHPQuantificationData.cpp -o fusion/calvin_files/fusion/src/FusionCHPQuantificationData.o
clang++ -mmacosx-version-min=10.13 -std=gnu++14 -I"/Library/Frameworks/R.framework/Resources/include" -DNDEBUG -I. -Ifusion/calvin_files/array/src -Ifusion/calvin_files/data/src -Ifusion/calvin_files/exception/src -Ifusion/calvin_files/fusion/src -Ifusion/calvin_files/fusion/src/GCOSAdapter -Ifusion/calvin_files/fusion/src/CalvinAdapter -Ifusion/calvin_files/parameter/src -Ifusion/calvin_files/parsers/src -Ifusion/calvin_files/portability/src -Ifusion/calvin_files/template/src -Ifusion/calvin_files/utils/src -Ifusion/calvin_files/writers/src -Ifusion/file -Ifusion/file/TsvFile -Ifusion/portability -Ifusion/util -Ifusion -D_USE_MEM_MAPPING_  -I/usr/local/include   -fPIC  -Wall -g -O2  -Wno-sign-compare -O0 -c fusion/calvin_files/fusion/src/FusionCHPQuantificationDetectionData.cpp -o fusion/calvin_files/fusion/src/FusionCHPQuantificationDetectionData.o
clang++ -mmacosx-version-min=10.13 -std=gnu++14 -I"/Library/Frameworks/R.framework/Resources/include" -DNDEBUG -I. -Ifusion/calvin_files/array/src -Ifusion/calvin_files/data/src -Ifusion/calvin_files/exception/src -Ifusion/calvin_files/fusion/src -Ifusion/calvin_files/fusion/src/GCOSAdapter -Ifusion/calvin_files/fusion/src/CalvinAdapter -Ifusion/calvin_files/parameter/src -Ifusion/calvin_files/parsers/src -Ifusion/calvin_files/portability/src -Ifusion/calvin_files/template/src -Ifusion/calvin_files/utils/src -Ifusion/calvin_files/writers/src -Ifusion/file -Ifusion/file/TsvFile -Ifusion/portability -Ifusion/util -Ifusion -D_USE_MEM_MAPPING_  -I/usr/local/include   -fPIC  -Wall -g -O2  -Wno-sign-compare -O0 -c fusion/calvin_files/parameter/src/ParameterNameValueType.cpp -o fusion/calvin_files/parameter/src/ParameterNameValueType.o
clang++ -mmacosx-version-min=10.13 -std=gnu++14 -I"/Library/Frameworks/R.framework/Resources/include" -DNDEBUG -I. -Ifusion/calvin_files/array/src -Ifusion/calvin_files/data/src -Ifusion/calvin_files/exception/src -Ifusion/calvin_files/fusion/src -Ifusion/calvin_files/fusion/src/GCOSAdapter -Ifusion/calvin_files/fusion/src/CalvinAdapter -Ifusion/calvin_files/parameter/src -Ifusion/calvin_files/parsers/src -Ifusion/calvin_files/portability/src -Ifusion/calvin_files/template/src -Ifusion/calvin_files/utils/src -Ifusion/calvin_files/writers/src -Ifusion/file -Ifusion/file/TsvFile -Ifusion/portability -Ifusion/util -Ifusion -D_USE_MEM_MAPPING_  -I/usr/local/include   -fPIC  -Wall -g -O2  -Wno-sign-compare -O0 -c fusion/calvin_files/parsers/src/CDFFileReader.cpp -o fusion/calvin_files/parsers/src/CDFFileReader.o
clang++ -mmacosx-version-min=10.13 -std=gnu++14 -I"/Library/Frameworks/R.framework/Resources/include" -DNDEBUG -I. -Ifusion/calvin_files/array/src -Ifusion/calvin_files/data/src -Ifusion/calvin_files/exception/src -Ifusion/calvin_files/fusion/src -Ifusion/calvin_files/fusion/src/GCOSAdapter -Ifusion/calvin_files/fusion/src/CalvinAdapter -Ifusion/calvin_files/parameter/src -Ifusion/calvin_files/parsers/src -Ifusion/calvin_files/portability/src -Ifusion/calvin_files/template/src -Ifusion/calvin_files/utils/src -Ifusion/calvin_files/writers/src -Ifusion/file -Ifusion/file/TsvFile -Ifusion/portability -Ifusion/util -Ifusion -D_USE_MEM_MAPPING_  -I/usr/local/include   -fPIC  -Wall -g -O2  -Wno-sign-compare -O0 -c fusion/calvin_files/parsers/src/CelFileReader.cpp -o fusion/calvin_files/parsers/src/CelFileReader.o
clang++ -mmacosx-version-min=10.13 -std=gnu++14 -I"/Library/Frameworks/R.framework/Resources/include" -DNDEBUG -I. -Ifusion/calvin_files/array/src -Ifusion/calvin_files/data/src -Ifusion/calvin_files/exception/src -Ifusion/calvin_files/fusion/src -Ifusion/calvin_files/fusion/src/GCOSAdapter -Ifusion/calvin_files/fusion/src/CalvinAdapter -Ifusion/calvin_files/parameter/src -Ifusion/calvin_files/parsers/src -Ifusion/calvin_files/portability/src -Ifusion/calvin_files/template/src -Ifusion/calvin_files/utils/src -Ifusion/calvin_files/writers/src -Ifusion/file -Ifusion/file/TsvFile -Ifusion/portability -Ifusion/util -Ifusion -D_USE_MEM_MAPPING_  -I/usr/local/include   -fPIC  -Wall -g -O2  -Wno-sign-compare -O0 -c fusion/calvin_files/parsers/src/CHPFileReader.cpp -o fusion/calvin_files/parsers/src/CHPFileReader.o
clang++ -mmacosx-version-min=10.13 -std=gnu++14 -I"/Library/Frameworks/R.framework/Resources/include" -DNDEBUG -I. -Ifusion/calvin_files/array/src -Ifusion/calvin_files/data/src -Ifusion/calvin_files/exception/src -Ifusion/calvin_files/fusion/src -Ifusion/calvin_files/fusion/src/GCOSAdapter -Ifusion/calvin_files/fusion/src/CalvinAdapter -Ifusion/calvin_files/parameter/src -Ifusion/calvin_files/parsers/src -Ifusion/calvin_files/portability/src -Ifusion/calvin_files/template/src -Ifusion/calvin_files/utils/src -Ifusion/calvin_files/writers/src -Ifusion/file -Ifusion/file/TsvFile -Ifusion/portability -Ifusion/util -Ifusion -D_USE_MEM_MAPPING_  -I/usr/local/include   -fPIC  -Wall -g -O2  -Wno-sign-compare -O0 -c fusion/calvin_files/parsers/src/CHPMultiDataFileReader.cpp -o fusion/calvin_files/parsers/src/CHPMultiDataFileReader.o
clang++ -mmacosx-version-min=10.13 -std=gnu++14 -I"/Library/Frameworks/R.framework/Resources/include" -DNDEBUG -I. -Ifusion/calvin_files/array/src -Ifusion/calvin_files/data/src -Ifusion/calvin_files/exception/src -Ifusion/calvin_files/fusion/src -Ifusion/calvin_files/fusion/src/GCOSAdapter -Ifusion/calvin_files/fusion/src/CalvinAdapter -Ifusion/calvin_files/parameter/src -Ifusion/calvin_files/parsers/src -Ifusion/calvin_files/portability/src -Ifusion/calvin_files/template/src -Ifusion/calvin_files/utils/src -Ifusion/calvin_files/writers/src -Ifusion/file -Ifusion/file/TsvFile -Ifusion/portability -Ifusion/util -Ifusion -D_USE_MEM_MAPPING_  -I/usr/local/include   -fPIC  -Wall -g -O2  -Wno-sign-compare -O0 -c fusion/calvin_files/parsers/src/CHPTilingFileReader.cpp -o fusion/calvin_files/parsers/src/CHPTilingFileReader.o
clang++ -mmacosx-version-min=10.13 -std=gnu++14 -I"/Library/Frameworks/R.framework/Resources/include" -DNDEBUG -I. -Ifusion/calvin_files/array/src -Ifusion/calvin_files/data/src -Ifusion/calvin_files/exception/src -Ifusion/calvin_files/fusion/src -Ifusion/calvin_files/fusion/src/GCOSAdapter -Ifusion/calvin_files/fusion/src/CalvinAdapter -Ifusion/calvin_files/parameter/src -Ifusion/calvin_files/parsers/src -Ifusion/calvin_files/portability/src -Ifusion/calvin_files/template/src -Ifusion/calvin_files/utils/src -Ifusion/calvin_files/writers/src -Ifusion/file -Ifusion/file/TsvFile -Ifusion/portability -Ifusion/util -Ifusion -D_USE_MEM_MAPPING_  -I/usr/local/include   -fPIC  -Wall -g -O2  -Wno-sign-compare -O0 -c fusion/calvin_files/parsers/src/CHPQuantificationFileReader.cpp -o fusion/calvin_files/parsers/src/CHPQuantificationFileReader.o
clang++ -mmacosx-version-min=10.13 -std=gnu++14 -I"/Library/Frameworks/R.framework/Resources/include" -DNDEBUG -I. -Ifusion/calvin_files/array/src -Ifusion/calvin_files/data/src -Ifusion/calvin_files/exception/src -Ifusion/calvin_files/fusion/src -Ifusion/calvin_files/fusion/src/GCOSAdapter -Ifusion/calvin_files/fusion/src/CalvinAdapter -Ifusion/calvin_files/parameter/src -Ifusion/calvin_files/parsers/src -Ifusion/calvin_files/portability/src -Ifusion/calvin_files/template/src -Ifusion/calvin_files/utils/src -Ifusion/calvin_files/writers/src -Ifusion/file -Ifusion/file/TsvFile -Ifusion/portability -Ifusion/util -Ifusion -D_USE_MEM_MAPPING_  -I/usr/local/include   -fPIC  -Wall -g -O2  -Wno-sign-compare -O0 -c fusion/calvin_files/parsers/src/CHPQuantificationDetectionFileReader.cpp -o fusion/calvin_files/parsers/src/CHPQuantificationDetectionFileReader.o
clang++ -mmacosx-version-min=10.13 -std=gnu++14 -I"/Library/Frameworks/R.framework/Resources/include" -DNDEBUG -I. -Ifusion/calvin_files/array/src -Ifusion/calvin_files/data/src -Ifusion/calvin_files/exception/src -Ifusion/calvin_files/fusion/src -Ifusion/calvin_files/fusion/src/GCOSAdapter -Ifusion/calvin_files/fusion/src/CalvinAdapter -Ifusion/calvin_files/parameter/src -Ifusion/calvin_files/parsers/src -Ifusion/calvin_files/portability/src -Ifusion/calvin_files/template/src -Ifusion/calvin_files/utils/src -Ifusion/calvin_files/writers/src -Ifusion/file -Ifusion/file/TsvFile -Ifusion/portability -Ifusion/util -Ifusion -D_USE_MEM_MAPPING_  -I/usr/local/include   -fPIC  -Wall -g -O2  -Wno-sign-compare -O0 -c fusion/calvin_files/parsers/src/DataGroupHeaderReader.cpp -o fusion/calvin_files/parsers/src/DataGroupHeaderReader.o
clang++ -mmacosx-version-min=10.13 -std=gnu++14 -I"/Library/Frameworks/R.framework/Resources/include" -DNDEBUG -I. -Ifusion/calvin_files/array/src -Ifusion/calvin_files/data/src -Ifusion/calvin_files/exception/src -Ifusion/calvin_files/fusion/src -Ifusion/calvin_files/fusion/src/GCOSAdapter -Ifusion/calvin_files/fusion/src/CalvinAdapter -Ifusion/calvin_files/parameter/src -Ifusion/calvin_files/parsers/src -Ifusion/calvin_files/portability/src -Ifusion/calvin_files/template/src -Ifusion/calvin_files/utils/src -Ifusion/calvin_files/writers/src -Ifusion/file -Ifusion/file/TsvFile -Ifusion/portability -Ifusion/util -Ifusion -D_USE_MEM_MAPPING_  -I/usr/local/include   -fPIC  -Wall -g -O2  -Wno-sign-compare -O0 -c fusion/calvin_files/parsers/src/DataGroupReader.cpp -o fusion/calvin_files/parsers/src/DataGroupReader.o
clang++ -mmacosx-version-min=10.13 -std=gnu++14 -I"/Library/Frameworks/R.framework/Resources/include" -DNDEBUG -I. -Ifusion/calvin_files/array/src -Ifusion/calvin_files/data/src -Ifusion/calvin_files/exception/src -Ifusion/calvin_files/fusion/src -Ifusion/calvin_files/fusion/src/GCOSAdapter -Ifusion/calvin_files/fusion/src/CalvinAdapter -Ifusion/calvin_files/parameter/src -Ifusion/calvin_files/parsers/src -Ifusion/calvin_files/portability/src -Ifusion/calvin_files/template/src -Ifusion/calvin_files/utils/src -Ifusion/calvin_files/writers/src -Ifusion/file -Ifusion/file/TsvFile -Ifusion/portability -Ifusion/util -Ifusion -D_USE_MEM_MAPPING_  -I/usr/local/include   -fPIC  -Wall -g -O2  -Wno-sign-compare -O0 -c fusion/calvin_files/parsers/src/DataSetHeaderReader.cpp -o fusion/calvin_files/parsers/src/DataSetHeaderReader.o
clang++ -mmacosx-version-min=10.13 -std=gnu++14 -I"/Library/Frameworks/R.framework/Resources/include" -DNDEBUG -I. -Ifusion/calvin_files/array/src -Ifusion/calvin_files/data/src -Ifusion/calvin_files/exception/src -Ifusion/calvin_files/fusion/src -Ifusion/calvin_files/fusion/src/GCOSAdapter -Ifusion/calvin_files/fusion/src/CalvinAdapter -Ifusion/calvin_files/parameter/src -Ifusion/calvin_files/parsers/src -Ifusion/calvin_files/portability/src -Ifusion/calvin_files/template/src -Ifusion/calvin_files/utils/src -Ifusion/calvin_files/writers/src -Ifusion/file -Ifusion/file/TsvFile -Ifusion/portability -Ifusion/util -Ifusion -D_USE_MEM_MAPPING_  -I/usr/local/include   -fPIC  -Wall -g -O2  -Wno-sign-compare -O0 -c fusion/calvin_files/parsers/src/DataSetReader.cpp -o fusion/calvin_files/parsers/src/DataSetReader.o
clang++ -mmacosx-version-min=10.13 -std=gnu++14 -I"/Library/Frameworks/R.framework/Resources/include" -DNDEBUG -I. -Ifusion/calvin_files/array/src -Ifusion/calvin_files/data/src -Ifusion/calvin_files/exception/src -Ifusion/calvin_files/fusion/src -Ifusion/calvin_files/fusion/src/GCOSAdapter -Ifusion/calvin_files/fusion/src/CalvinAdapter -Ifusion/calvin_files/parameter/src -Ifusion/calvin_files/parsers/src -Ifusion/calvin_files/portability/src -Ifusion/calvin_files/template/src -Ifusion/calvin_files/utils/src -Ifusion/calvin_files/writers/src -Ifusion/file -Ifusion/file/TsvFile -Ifusion/portability -Ifusion/util -Ifusion -D_USE_MEM_MAPPING_  -I/usr/local/include   -fPIC  -Wall -g -O2  -Wno-sign-compare -O0 -c fusion/calvin_files/parsers/src/FileHeaderReader.cpp -o fusion/calvin_files/parsers/src/FileHeaderReader.o
clang++ -mmacosx-version-min=10.13 -std=gnu++14 -I"/Library/Frameworks/R.framework/Resources/include" -DNDEBUG -I. -Ifusion/calvin_files/array/src -Ifusion/calvin_files/data/src -Ifusion/calvin_files/exception/src -Ifusion/calvin_files/fusion/src -Ifusion/calvin_files/fusion/src/GCOSAdapter -Ifusion/calvin_files/fusion/src/CalvinAdapter -Ifusion/calvin_files/parameter/src -Ifusion/calvin_files/parsers/src -Ifusion/calvin_files/portability/src -Ifusion/calvin_files/template/src -Ifusion/calvin_files/utils/src -Ifusion/calvin_files/writers/src -Ifusion/file -Ifusion/file/TsvFile -Ifusion/portability -Ifusion/util -Ifusion -D_USE_MEM_MAPPING_  -I/usr/local/include   -fPIC  -Wall -g -O2  -Wno-sign-compare -O0 -c fusion/calvin_files/parsers/src/FileInput.cpp -o fusion/calvin_files/parsers/src/FileInput.o
clang++ -mmacosx-version-min=10.13 -std=gnu++14 -I"/Library/Frameworks/R.framework/Resources/include" -DNDEBUG -I. -Ifusion/calvin_files/array/src -Ifusion/calvin_files/data/src -Ifusion/calvin_files/exception/src -Ifusion/calvin_files/fusion/src -Ifusion/calvin_files/fusion/src/GCOSAdapter -Ifusion/calvin_files/fusion/src/CalvinAdapter -Ifusion/calvin_files/parameter/src -Ifusion/calvin_files/parsers/src -Ifusion/calvin_files/portability/src -Ifusion/calvin_files/template/src -Ifusion/calvin_files/utils/src -Ifusion/calvin_files/writers/src -Ifusion/file -Ifusion/file/TsvFile -Ifusion/portability -Ifusion/util -Ifusion -D_USE_MEM_MAPPING_  -I/usr/local/include   -fPIC  -Wall -g -O2  -Wno-sign-compare -O0 -c fusion/calvin_files/parsers/src/GenericDataHeaderReader.cpp -o fusion/calvin_files/parsers/src/GenericDataHeaderReader.o
clang++ -mmacosx-version-min=10.13 -std=gnu++14 -I"/Library/Frameworks/R.framework/Resources/include" -DNDEBUG -I. -Ifusion/calvin_files/array/src -Ifusion/calvin_files/data/src -Ifusion/calvin_files/exception/src -Ifusion/calvin_files/fusion/src -Ifusion/calvin_files/fusion/src/GCOSAdapter -Ifusion/calvin_files/fusion/src/CalvinAdapter -Ifusion/calvin_files/parameter/src -Ifusion/calvin_files/parsers/src -Ifusion/calvin_files/portability/src -Ifusion/calvin_files/template/src -Ifusion/calvin_files/utils/src -Ifusion/calvin_files/writers/src -Ifusion/file -Ifusion/file/TsvFile -Ifusion/portability -Ifusion/util -Ifusion -D_USE_MEM_MAPPING_  -I/usr/local/include   -fPIC  -Wall -g -O2  -Wno-sign-compare -O0 -c fusion/calvin_files/parsers/src/GenericFileReader.cpp -o fusion/calvin_files/parsers/src/GenericFileReader.o
clang++ -mmacosx-version-min=10.13 -std=gnu++14 -I"/Library/Frameworks/R.framework/Resources/include" -DNDEBUG -I. -Ifusion/calvin_files/array/src -Ifusion/calvin_files/data/src -Ifusion/calvin_files/exception/src -Ifusion/calvin_files/fusion/src -Ifusion/calvin_files/fusion/src/GCOSAdapter -Ifusion/calvin_files/fusion/src/CalvinAdapter -Ifusion/calvin_files/parameter/src -Ifusion/calvin_files/parsers/src -Ifusion/calvin_files/portability/src -Ifusion/calvin_files/template/src -Ifusion/calvin_files/utils/src -Ifusion/calvin_files/writers/src -Ifusion/file -Ifusion/file/TsvFile -Ifusion/portability -Ifusion/util -Ifusion -D_USE_MEM_MAPPING_  -I/usr/local/include   -fPIC  -Wall -g -O2  -Wno-sign-compare -O0 -c fusion/calvin_files/utils/src/AffymetrixGuid.cpp -o fusion/calvin_files/utils/src/AffymetrixGuid.o
clang++ -mmacosx-version-min=10.13 -std=gnu++14 -I"/Library/Frameworks/R.framework/Resources/include" -DNDEBUG -I. -Ifusion/calvin_files/array/src -Ifusion/calvin_files/data/src -Ifusion/calvin_files/exception/src -Ifusion/calvin_files/fusion/src -Ifusion/calvin_files/fusion/src/GCOSAdapter -Ifusion/calvin_files/fusion/src/CalvinAdapter -Ifusion/calvin_files/parameter/src -Ifusion/calvin_files/parsers/src -Ifusion/calvin_files/portability/src -Ifusion/calvin_files/template/src -Ifusion/calvin_files/utils/src -Ifusion/calvin_files/writers/src -Ifusion/file -Ifusion/file/TsvFile -Ifusion/portability -Ifusion/util -Ifusion -D_USE_MEM_MAPPING_  -I/usr/local/include   -fPIC  -Wall -g -O2  -Wno-sign-compare -O0 -c fusion/calvin_files/utils/src/DateTime.cpp -o fusion/calvin_files/utils/src/DateTime.o
clang++ -mmacosx-version-min=10.13 -std=gnu++14 -I"/Library/Frameworks/R.framework/Resources/include" -DNDEBUG -I. -Ifusion/calvin_files/array/src -Ifusion/calvin_files/data/src -Ifusion/calvin_files/exception/src -Ifusion/calvin_files/fusion/src -Ifusion/calvin_files/fusion/src/GCOSAdapter -Ifusion/calvin_files/fusion/src/CalvinAdapter -Ifusion/calvin_files/parameter/src -Ifusion/calvin_files/parsers/src -Ifusion/calvin_files/portability/src -Ifusion/calvin_files/template/src -Ifusion/calvin_files/utils/src -Ifusion/calvin_files/writers/src -Ifusion/file -Ifusion/file/TsvFile -Ifusion/portability -Ifusion/util -Ifusion -D_USE_MEM_MAPPING_  -I/usr/local/include   -fPIC  -Wall -g -O2  -Wno-sign-compare -O0 -c fusion/calvin_files/utils/src/FileUtils.cpp -o fusion/calvin_files/utils/src/FileUtils.o
clang++ -mmacosx-version-min=10.13 -std=gnu++14 -I"/Library/Frameworks/R.framework/Resources/include" -DNDEBUG -I. -Ifusion/calvin_files/array/src -Ifusion/calvin_files/data/src -Ifusion/calvin_files/exception/src -Ifusion/calvin_files/fusion/src -Ifusion/calvin_files/fusion/src/GCOSAdapter -Ifusion/calvin_files/fusion/src/CalvinAdapter -Ifusion/calvin_files/parameter/src -Ifusion/calvin_files/parsers/src -Ifusion/calvin_files/portability/src -Ifusion/calvin_files/template/src -Ifusion/calvin_files/utils/src -Ifusion/calvin_files/writers/src -Ifusion/file -Ifusion/file/TsvFile -Ifusion/portability -Ifusion/util -Ifusion -D_USE_MEM_MAPPING_  -I/usr/local/include   -fPIC  -Wall -g -O2  -Wno-sign-compare -O0 -c fusion/calvin_files/utils/src/StringUtils.cpp -o fusion/calvin_files/utils/src/StringUtils.o
clang++ -mmacosx-version-min=10.13 -std=gnu++14 -I"/Library/Frameworks/R.framework/Resources/include" -DNDEBUG -I. -Ifusion/calvin_files/array/src -Ifusion/calvin_files/data/src -Ifusion/calvin_files/exception/src -Ifusion/calvin_files/fusion/src -Ifusion/calvin_files/fusion/src/GCOSAdapter -Ifusion/calvin_files/fusion/src/CalvinAdapter -Ifusion/calvin_files/parameter/src -Ifusion/calvin_files/parsers/src -Ifusion/calvin_files/portability/src -Ifusion/calvin_files/template/src -Ifusion/calvin_files/utils/src -Ifusion/calvin_files/writers/src -Ifusion/file -Ifusion/file/TsvFile -Ifusion/portability -Ifusion/util -Ifusion -D_USE_MEM_MAPPING_  -I/usr/local/include   -fPIC  -Wall -g -O2  -Wno-sign-compare -O0 -c fusion/calvin_files/utils/src/checksum.cpp -o fusion/calvin_files/utils/src/checksum.o
clang++ -mmacosx-version-min=10.13 -std=gnu++14 -I"/Library/Frameworks/R.framework/Resources/include" -DNDEBUG -I. -Ifusion/calvin_files/array/src -Ifusion/calvin_files/data/src -Ifusion/calvin_files/exception/src -Ifusion/calvin_files/fusion/src -Ifusion/calvin_files/fusion/src/GCOSAdapter -Ifusion/calvin_files/fusion/src/CalvinAdapter -Ifusion/calvin_files/parameter/src -Ifusion/calvin_files/parsers/src -Ifusion/calvin_files/portability/src -Ifusion/calvin_files/template/src -Ifusion/calvin_files/utils/src -Ifusion/calvin_files/writers/src -Ifusion/file -Ifusion/file/TsvFile -Ifusion/portability -Ifusion/util -Ifusion -D_USE_MEM_MAPPING_  -I/usr/local/include   -fPIC  -Wall -g -O2  -Wno-sign-compare -O0 -c fusion/file/BPMAPFileData.cpp -o fusion/file/BPMAPFileData.o
clang++ -mmacosx-version-min=10.13 -std=gnu++14 -I"/Library/Frameworks/R.framework/Resources/include" -DNDEBUG -I. -Ifusion/calvin_files/array/src -Ifusion/calvin_files/data/src -Ifusion/calvin_files/exception/src -Ifusion/calvin_files/fusion/src -Ifusion/calvin_files/fusion/src/GCOSAdapter -Ifusion/calvin_files/fusion/src/CalvinAdapter -Ifusion/calvin_files/parameter/src -Ifusion/calvin_files/parsers/src -Ifusion/calvin_files/portability/src -Ifusion/calvin_files/template/src -Ifusion/calvin_files/utils/src -Ifusion/calvin_files/writers/src -Ifusion/file -Ifusion/file/TsvFile -Ifusion/portability -Ifusion/util -Ifusion -D_USE_MEM_MAPPING_  -I/usr/local/include   -fPIC  -Wall -g -O2  -Wno-sign-compare -O0 -c fusion/file/BPMAPFileWriter.cpp -o fusion/file/BPMAPFileWriter.o
clang++ -mmacosx-version-min=10.13 -std=gnu++14 -I"/Library/Frameworks/R.framework/Resources/include" -DNDEBUG -I. -Ifusion/calvin_files/array/src -Ifusion/calvin_files/data/src -Ifusion/calvin_files/exception/src -Ifusion/calvin_files/fusion/src -Ifusion/calvin_files/fusion/src/GCOSAdapter -Ifusion/calvin_files/fusion/src/CalvinAdapter -Ifusion/calvin_files/parameter/src -Ifusion/calvin_files/parsers/src -Ifusion/calvin_files/portability/src -Ifusion/calvin_files/template/src -Ifusion/calvin_files/utils/src -Ifusion/calvin_files/writers/src -Ifusion/file -Ifusion/file/TsvFile -Ifusion/portability -Ifusion/util -Ifusion -D_USE_MEM_MAPPING_  -I/usr/local/include   -fPIC  -Wall -g -O2  -Wno-sign-compare -O0 -c fusion/file/CDFFileData.cpp -o fusion/file/CDFFileData.o
fusion/file/CDFFileData.cpp:1040:7: warning: unused typedef 'TilingTypes' [-Wunused-local-typedef]
    } TilingTypes;
      ^
1 warning generated.
clang++ -mmacosx-version-min=10.13 -std=gnu++14 -I"/Library/Frameworks/R.framework/Resources/include" -DNDEBUG -I. -Ifusion/calvin_files/array/src -Ifusion/calvin_files/data/src -Ifusion/calvin_files/exception/src -Ifusion/calvin_files/fusion/src -Ifusion/calvin_files/fusion/src/GCOSAdapter -Ifusion/calvin_files/fusion/src/CalvinAdapter -Ifusion/calvin_files/parameter/src -Ifusion/calvin_files/parsers/src -Ifusion/calvin_files/portability/src -Ifusion/calvin_files/template/src -Ifusion/calvin_files/utils/src -Ifusion/calvin_files/writers/src -Ifusion/file -Ifusion/file/TsvFile -Ifusion/portability -Ifusion/util -Ifusion -D_USE_MEM_MAPPING_  -I/usr/local/include   -fPIC  -Wall -g -O2  -Wno-sign-compare -O0 -c fusion/file/CELFileData.cpp -o fusion/file/CELFileData.o
clang++ -mmacosx-version-min=10.13 -std=gnu++14 -I"/Library/Frameworks/R.framework/Resources/include" -DNDEBUG -I. -Ifusion/calvin_files/array/src -Ifusion/calvin_files/data/src -Ifusion/calvin_files/exception/src -Ifusion/calvin_files/fusion/src -Ifusion/calvin_files/fusion/src/GCOSAdapter -Ifusion/calvin_files/fusion/src/CalvinAdapter -Ifusion/calvin_files/parameter/src -Ifusion/calvin_files/parsers/src -Ifusion/calvin_files/portability/src -Ifusion/calvin_files/template/src -Ifusion/calvin_files/utils/src -Ifusion/calvin_files/writers/src -Ifusion/file -Ifusion/file/TsvFile -Ifusion/portability -Ifusion/util -Ifusion -D_USE_MEM_MAPPING_  -I/usr/local/include   -fPIC  -Wall -g -O2  -Wno-sign-compare -O0 -c fusion/file/CHPFileData.cpp -o fusion/file/CHPFileData.o
clang++ -mmacosx-version-min=10.13 -std=gnu++14 -I"/Library/Frameworks/R.framework/Resources/include" -DNDEBUG -I. -Ifusion/calvin_files/array/src -Ifusion/calvin_files/data/src -Ifusion/calvin_files/exception/src -Ifusion/calvin_files/fusion/src -Ifusion/calvin_files/fusion/src/GCOSAdapter -Ifusion/calvin_files/fusion/src/CalvinAdapter -Ifusion/calvin_files/parameter/src -Ifusion/calvin_files/parsers/src -Ifusion/calvin_files/portability/src -Ifusion/calvin_files/template/src -Ifusion/calvin_files/utils/src -Ifusion/calvin_files/writers/src -Ifusion/file -Ifusion/file/TsvFile -Ifusion/portability -Ifusion/util -Ifusion -D_USE_MEM_MAPPING_  -I/usr/local/include   -fPIC  -Wall -g -O2  -Wno-sign-compare -O0 -c fusion/file/FileIO.cpp -o fusion/file/FileIO.o
clang++ -mmacosx-version-min=10.13 -std=gnu++14 -I"/Library/Frameworks/R.framework/Resources/include" -DNDEBUG -I. -Ifusion/calvin_files/array/src -Ifusion/calvin_files/data/src -Ifusion/calvin_files/exception/src -Ifusion/calvin_files/fusion/src -Ifusion/calvin_files/fusion/src/GCOSAdapter -Ifusion/calvin_files/fusion/src/CalvinAdapter -Ifusion/calvin_files/parameter/src -Ifusion/calvin_files/parsers/src -Ifusion/calvin_files/portability/src -Ifusion/calvin_files/template/src -Ifusion/calvin_files/utils/src -Ifusion/calvin_files/writers/src -Ifusion/file -Ifusion/file/TsvFile -Ifusion/portability -Ifusion/util -Ifusion -D_USE_MEM_MAPPING_  -I/usr/local/include   -fPIC  -Wall -g -O2  -Wno-sign-compare -O0 -c fusion/file/FileWriter.cpp -o fusion/file/FileWriter.o
clang++ -mmacosx-version-min=10.13 -std=gnu++14 -I"/Library/Frameworks/R.framework/Resources/include" -DNDEBUG -I. -Ifusion/calvin_files/array/src -Ifusion/calvin_files/data/src -Ifusion/calvin_files/exception/src -Ifusion/calvin_files/fusion/src -Ifusion/calvin_files/fusion/src/GCOSAdapter -Ifusion/calvin_files/fusion/src/CalvinAdapter -Ifusion/calvin_files/parameter/src -Ifusion/calvin_files/parsers/src -Ifusion/calvin_files/portability/src -Ifusion/calvin_files/template/src -Ifusion/calvin_files/utils/src -Ifusion/calvin_files/writers/src -Ifusion/file -Ifusion/file/TsvFile -Ifusion/portability -Ifusion/util -Ifusion -D_USE_MEM_MAPPING_  -I/usr/local/include   -fPIC  -Wall -g -O2  -Wno-sign-compare -O0 -c fusion/file/TsvFile/ClfFile.cpp -o fusion/file/TsvFile/ClfFile.o
clang++ -mmacosx-version-min=10.13 -std=gnu++14 -I"/Library/Frameworks/R.framework/Resources/include" -DNDEBUG -I. -Ifusion/calvin_files/array/src -Ifusion/calvin_files/data/src -Ifusion/calvin_files/exception/src -Ifusion/calvin_files/fusion/src -Ifusion/calvin_files/fusion/src/GCOSAdapter -Ifusion/calvin_files/fusion/src/CalvinAdapter -Ifusion/calvin_files/parameter/src -Ifusion/calvin_files/parsers/src -Ifusion/calvin_files/portability/src -Ifusion/calvin_files/template/src -Ifusion/calvin_files/utils/src -Ifusion/calvin_files/writers/src -Ifusion/file -Ifusion/file/TsvFile -Ifusion/portability -Ifusion/util -Ifusion -D_USE_MEM_MAPPING_  -I/usr/local/include   -fPIC  -Wall -g -O2  -Wno-sign-compare -O0 -c fusion/file/TsvFile/PgfFile.cpp -o fusion/file/TsvFile/PgfFile.o
clang++ -mmacosx-version-min=10.13 -std=gnu++14 -I"/Library/Frameworks/R.framework/Resources/include" -DNDEBUG -I. -Ifusion/calvin_files/array/src -Ifusion/calvin_files/data/src -Ifusion/calvin_files/exception/src -Ifusion/calvin_files/fusion/src -Ifusion/calvin_files/fusion/src/GCOSAdapter -Ifusion/calvin_files/fusion/src/CalvinAdapter -Ifusion/calvin_files/parameter/src -Ifusion/calvin_files/parsers/src -Ifusion/calvin_files/portability/src -Ifusion/calvin_files/template/src -Ifusion/calvin_files/utils/src -Ifusion/calvin_files/writers/src -Ifusion/file -Ifusion/file/TsvFile -Ifusion/portability -Ifusion/util -Ifusion -D_USE_MEM_MAPPING_  -I/usr/local/include   -fPIC  -Wall -g -O2  -Wno-sign-compare -O0 -c fusion/file/TsvFile/TsvFile.cpp -o fusion/file/TsvFile/TsvFile.o
clang++ -mmacosx-version-min=10.13 -std=gnu++14 -I"/Library/Frameworks/R.framework/Resources/include" -DNDEBUG -I. -Ifusion/calvin_files/array/src -Ifusion/calvin_files/data/src -Ifusion/calvin_files/exception/src -Ifusion/calvin_files/fusion/src -Ifusion/calvin_files/fusion/src/GCOSAdapter -Ifusion/calvin_files/fusion/src/CalvinAdapter -Ifusion/calvin_files/parameter/src -Ifusion/calvin_files/parsers/src -Ifusion/calvin_files/portability/src -Ifusion/calvin_files/template/src -Ifusion/calvin_files/utils/src -Ifusion/calvin_files/writers/src -Ifusion/file -Ifusion/file/TsvFile -Ifusion/portability -Ifusion/util -Ifusion -D_USE_MEM_MAPPING_  -I/usr/local/include   -fPIC  -Wall -g -O2  -Wno-sign-compare -O0 -c fusion/util/AffxByteArray.cpp -o fusion/util/AffxByteArray.o
clang++ -mmacosx-version-min=10.13 -std=gnu++14 -I"/Library/Frameworks/R.framework/Resources/include" -DNDEBUG -I. -Ifusion/calvin_files/array/src -Ifusion/calvin_files/data/src -Ifusion/calvin_files/exception/src -Ifusion/calvin_files/fusion/src -Ifusion/calvin_files/fusion/src/GCOSAdapter -Ifusion/calvin_files/fusion/src/CalvinAdapter -Ifusion/calvin_files/parameter/src -Ifusion/calvin_files/parsers/src -Ifusion/calvin_files/portability/src -Ifusion/calvin_files/template/src -Ifusion/calvin_files/utils/src -Ifusion/calvin_files/writers/src -Ifusion/file -Ifusion/file/TsvFile -Ifusion/portability -Ifusion/util -Ifusion -D_USE_MEM_MAPPING_  -I/usr/local/include   -fPIC  -Wall -g -O2  -Wno-sign-compare -O0 -c fusion/util/AffxConv.cpp -o fusion/util/AffxConv.o
fusion/util/AffxConv.cpp:124:8: warning: self-comparison always evaluates to false [-Wtautological-compare]
        if (i != i) {return "nan";}
              ^
1 warning generated.
clang++ -mmacosx-version-min=10.13 -std=gnu++14 -I"/Library/Frameworks/R.framework/Resources/include" -DNDEBUG -I. -Ifusion/calvin_files/array/src -Ifusion/calvin_files/data/src -Ifusion/calvin_files/exception/src -Ifusion/calvin_files/fusion/src -Ifusion/calvin_files/fusion/src/GCOSAdapter -Ifusion/calvin_files/fusion/src/CalvinAdapter -Ifusion/calvin_files/parameter/src -Ifusion/calvin_files/parsers/src -Ifusion/calvin_files/portability/src -Ifusion/calvin_files/template/src -Ifusion/calvin_files/utils/src -Ifusion/calvin_files/writers/src -Ifusion/file -Ifusion/file/TsvFile -Ifusion/portability -Ifusion/util -Ifusion -D_USE_MEM_MAPPING_  -I/usr/local/include   -fPIC  -Wall -g -O2  -Wno-sign-compare -O0 -c fusion/util/MsgStream.cpp -o fusion/util/MsgStream.o
clang++ -mmacosx-version-min=10.13 -std=gnu++14 -I"/Library/Frameworks/R.framework/Resources/include" -DNDEBUG -I. -Ifusion/calvin_files/array/src -Ifusion/calvin_files/data/src -Ifusion/calvin_files/exception/src -Ifusion/calvin_files/fusion/src -Ifusion/calvin_files/fusion/src/GCOSAdapter -Ifusion/calvin_files/fusion/src/CalvinAdapter -Ifusion/calvin_files/parameter/src -Ifusion/calvin_files/parsers/src -Ifusion/calvin_files/portability/src -Ifusion/calvin_files/template/src -Ifusion/calvin_files/utils/src -Ifusion/calvin_files/writers/src -Ifusion/file -Ifusion/file/TsvFile -Ifusion/portability -Ifusion/util -Ifusion -D_USE_MEM_MAPPING_  -I/usr/local/include   -fPIC  -Wall -g -O2  -Wno-sign-compare -O0 -c fusion/util/Util.cpp -o fusion/util/Util.o
clang++ -mmacosx-version-min=10.13 -std=gnu++14 -I"/Library/Frameworks/R.framework/Resources/include" -DNDEBUG -I. -Ifusion/calvin_files/array/src -Ifusion/calvin_files/data/src -Ifusion/calvin_files/exception/src -Ifusion/calvin_files/fusion/src -Ifusion/calvin_files/fusion/src/GCOSAdapter -Ifusion/calvin_files/fusion/src/CalvinAdapter -Ifusion/calvin_files/parameter/src -Ifusion/calvin_files/parsers/src -Ifusion/calvin_files/portability/src -Ifusion/calvin_files/template/src -Ifusion/calvin_files/utils/src -Ifusion/calvin_files/writers/src -Ifusion/file -Ifusion/file/TsvFile -Ifusion/portability -Ifusion/util -Ifusion -D_USE_MEM_MAPPING_  -I/usr/local/include   -fPIC  -Wall -g -O2  -Wno-sign-compare -O0 -c fusion/util/Err.cpp -o fusion/util/Err.o
clang++ -mmacosx-version-min=10.13 -std=gnu++14 -I"/Library/Frameworks/R.framework/Resources/include" -DNDEBUG -I. -Ifusion/calvin_files/array/src -Ifusion/calvin_files/data/src -Ifusion/calvin_files/exception/src -Ifusion/calvin_files/fusion/src -Ifusion/calvin_files/fusion/src/GCOSAdapter -Ifusion/calvin_files/fusion/src/CalvinAdapter -Ifusion/calvin_files/parameter/src -Ifusion/calvin_files/parsers/src -Ifusion/calvin_files/portability/src -Ifusion/calvin_files/template/src -Ifusion/calvin_files/utils/src -Ifusion/calvin_files/writers/src -Ifusion/file -Ifusion/file/TsvFile -Ifusion/portability -Ifusion/util -Ifusion -D_USE_MEM_MAPPING_  -I/usr/local/include   -fPIC  -Wall -g -O2  -Wno-sign-compare -O0 -c fusion/util/Fs.cpp -o fusion/util/Fs.o
clang++ -mmacosx-version-min=10.13 -std=gnu++14 -I"/Library/Frameworks/R.framework/Resources/include" -DNDEBUG -I. -Ifusion/calvin_files/array/src -Ifusion/calvin_files/data/src -Ifusion/calvin_files/exception/src -Ifusion/calvin_files/fusion/src -Ifusion/calvin_files/fusion/src/GCOSAdapter -Ifusion/calvin_files/fusion/src/CalvinAdapter -Ifusion/calvin_files/parameter/src -Ifusion/calvin_files/parsers/src -Ifusion/calvin_files/portability/src -Ifusion/calvin_files/template/src -Ifusion/calvin_files/utils/src -Ifusion/calvin_files/writers/src -Ifusion/file -Ifusion/file/TsvFile -Ifusion/portability -Ifusion/util -Ifusion -D_USE_MEM_MAPPING_  -I/usr/local/include   -fPIC  -Wall -g -O2  -Wno-sign-compare -O0 -c fusion/util/Verbose.cpp -o fusion/util/Verbose.o
clang++ -mmacosx-version-min=10.13 -std=gnu++14 -I"/Library/Frameworks/R.framework/Resources/include" -DNDEBUG -I. -Ifusion/calvin_files/array/src -Ifusion/calvin_files/data/src -Ifusion/calvin_files/exception/src -Ifusion/calvin_files/fusion/src -Ifusion/calvin_files/fusion/src/GCOSAdapter -Ifusion/calvin_files/fusion/src/CalvinAdapter -Ifusion/calvin_files/parameter/src -Ifusion/calvin_files/parsers/src -Ifusion/calvin_files/portability/src -Ifusion/calvin_files/template/src -Ifusion/calvin_files/utils/src -Ifusion/calvin_files/writers/src -Ifusion/file -Ifusion/file/TsvFile -Ifusion/portability -Ifusion/util -Ifusion -D_USE_MEM_MAPPING_  -I/usr/local/include   -fPIC  -Wall -g -O2  -Wno-sign-compare -O0 -c fusion/util/RowFile.cpp -o fusion/util/RowFile.o
clang++ -mmacosx-version-min=10.13 -std=gnu++14 -I"/Library/Frameworks/R.framework/Resources/include" -DNDEBUG -I. -Ifusion/calvin_files/array/src -Ifusion/calvin_files/data/src -Ifusion/calvin_files/exception/src -Ifusion/calvin_files/fusion/src -Ifusion/calvin_files/fusion/src/GCOSAdapter -Ifusion/calvin_files/fusion/src/CalvinAdapter -Ifusion/calvin_files/parameter/src -Ifusion/calvin_files/parsers/src -Ifusion/calvin_files/portability/src -Ifusion/calvin_files/template/src -Ifusion/calvin_files/utils/src -Ifusion/calvin_files/writers/src -Ifusion/file -Ifusion/file/TsvFile -Ifusion/portability -Ifusion/util -Ifusion -D_USE_MEM_MAPPING_  -I/usr/local/include   -fPIC  -Wall -g -O2  -Wno-sign-compare -O0 -c fusion/util/TableFile.cpp -o fusion/util/TableFile.o
In file included from fusion/util/TableFile.cpp:28:
fusion/util/TableFile.h:231:8: warning: private field 'm_Comment' is not used [-Wunused-private-field]
  char m_Comment;            ///< Comment character for data.
       ^
1 warning generated.
clang++ -mmacosx-version-min=10.13 -std=gnu++14 -I"/Library/Frameworks/R.framework/Resources/include" -DNDEBUG -I. -Ifusion/calvin_files/array/src -Ifusion/calvin_files/data/src -Ifusion/calvin_files/exception/src -Ifusion/calvin_files/fusion/src -Ifusion/calvin_files/fusion/src/GCOSAdapter -Ifusion/calvin_files/fusion/src/CalvinAdapter -Ifusion/calvin_files/parameter/src -Ifusion/calvin_files/parsers/src -Ifusion/calvin_files/portability/src -Ifusion/calvin_files/template/src -Ifusion/calvin_files/utils/src -Ifusion/calvin_files/writers/src -Ifusion/file -Ifusion/file/TsvFile -Ifusion/portability -Ifusion/util -Ifusion -D_USE_MEM_MAPPING_  -I/usr/local/include   -fPIC  -Wall -g -O2  -Wno-sign-compare -O0 -c fusion/util/Convert.cpp -o fusion/util/Convert.o
clang++ -mmacosx-version-min=10.13 -std=gnu++14 -I"/Library/Frameworks/R.framework/Resources/include" -DNDEBUG -I. -Ifusion/calvin_files/array/src -Ifusion/calvin_files/data/src -Ifusion/calvin_files/exception/src -Ifusion/calvin_files/fusion/src -Ifusion/calvin_files/fusion/src/GCOSAdapter -Ifusion/calvin_files/fusion/src/CalvinAdapter -Ifusion/calvin_files/parameter/src -Ifusion/calvin_files/parsers/src -Ifusion/calvin_files/portability/src -Ifusion/calvin_files/template/src -Ifusion/calvin_files/utils/src -Ifusion/calvin_files/writers/src -Ifusion/file -Ifusion/file/TsvFile -Ifusion/portability -Ifusion/util -Ifusion -D_USE_MEM_MAPPING_  -I/usr/local/include   -fPIC  -Wall -g -O2  -Wno-sign-compare -O0 -c R_affx_cel_parser.cpp -o R_affx_cel_parser.o
clang++ -mmacosx-version-min=10.13 -std=gnu++14 -I"/Library/Frameworks/R.framework/Resources/include" -DNDEBUG -I. -Ifusion/calvin_files/array/src -Ifusion/calvin_files/data/src -Ifusion/calvin_files/exception/src -Ifusion/calvin_files/fusion/src -Ifusion/calvin_files/fusion/src/GCOSAdapter -Ifusion/calvin_files/fusion/src/CalvinAdapter -Ifusion/calvin_files/parameter/src -Ifusion/calvin_files/parsers/src -Ifusion/calvin_files/portability/src -Ifusion/calvin_files/template/src -Ifusion/calvin_files/utils/src -Ifusion/calvin_files/writers/src -Ifusion/file -Ifusion/file/TsvFile -Ifusion/portability -Ifusion/util -Ifusion -D_USE_MEM_MAPPING_  -I/usr/local/include   -fPIC  -Wall -g -O2  -Wno-sign-compare -O0 -c R_affx_cdf_parser.cpp -o R_affx_cdf_parser.o
clang++ -mmacosx-version-min=10.13 -std=gnu++14 -I"/Library/Frameworks/R.framework/Resources/include" -DNDEBUG -I. -Ifusion/calvin_files/array/src -Ifusion/calvin_files/data/src -Ifusion/calvin_files/exception/src -Ifusion/calvin_files/fusion/src -Ifusion/calvin_files/fusion/src/GCOSAdapter -Ifusion/calvin_files/fusion/src/CalvinAdapter -Ifusion/calvin_files/parameter/src -Ifusion/calvin_files/parsers/src -Ifusion/calvin_files/portability/src -Ifusion/calvin_files/template/src -Ifusion/calvin_files/utils/src -Ifusion/calvin_files/writers/src -Ifusion/file -Ifusion/file/TsvFile -Ifusion/portability -Ifusion/util -Ifusion -D_USE_MEM_MAPPING_  -I/usr/local/include   -fPIC  -Wall -g -O2  -Wno-sign-compare -O0 -c R_affx_cdf_extras.cpp -o R_affx_cdf_extras.o
clang++ -mmacosx-version-min=10.13 -std=gnu++14 -I"/Library/Frameworks/R.framework/Resources/include" -DNDEBUG -I. -Ifusion/calvin_files/array/src -Ifusion/calvin_files/data/src -Ifusion/calvin_files/exception/src -Ifusion/calvin_files/fusion/src -Ifusion/calvin_files/fusion/src/GCOSAdapter -Ifusion/calvin_files/fusion/src/CalvinAdapter -Ifusion/calvin_files/parameter/src -Ifusion/calvin_files/parsers/src -Ifusion/calvin_files/portability/src -Ifusion/calvin_files/template/src -Ifusion/calvin_files/utils/src -Ifusion/calvin_files/writers/src -Ifusion/file -Ifusion/file/TsvFile -Ifusion/portability -Ifusion/util -Ifusion -D_USE_MEM_MAPPING_  -I/usr/local/include   -fPIC  -Wall -g -O2  -Wno-sign-compare -O0 -c R_affx_bpmap_parser.cpp -o R_affx_bpmap_parser.o
clang++ -mmacosx-version-min=10.13 -std=gnu++14 -I"/Library/Frameworks/R.framework/Resources/include" -DNDEBUG -I. -Ifusion/calvin_files/array/src -Ifusion/calvin_files/data/src -Ifusion/calvin_files/exception/src -Ifusion/calvin_files/fusion/src -Ifusion/calvin_files/fusion/src/GCOSAdapter -Ifusion/calvin_files/fusion/src/CalvinAdapter -Ifusion/calvin_files/parameter/src -Ifusion/calvin_files/parsers/src -Ifusion/calvin_files/portability/src -Ifusion/calvin_files/template/src -Ifusion/calvin_files/utils/src -Ifusion/calvin_files/writers/src -Ifusion/file -Ifusion/file/TsvFile -Ifusion/portability -Ifusion/util -Ifusion -D_USE_MEM_MAPPING_  -I/usr/local/include   -fPIC  -Wall -g -O2  -Wno-sign-compare -O0 -c R_affx_clf_pgf_parser.cpp -o R_affx_clf_pgf_parser.o
clang++ -mmacosx-version-min=10.13 -std=gnu++14 -I"/Library/Frameworks/R.framework/Resources/include" -DNDEBUG -I. -Ifusion/calvin_files/array/src -Ifusion/calvin_files/data/src -Ifusion/calvin_files/exception/src -Ifusion/calvin_files/fusion/src -Ifusion/calvin_files/fusion/src/GCOSAdapter -Ifusion/calvin_files/fusion/src/CalvinAdapter -Ifusion/calvin_files/parameter/src -Ifusion/calvin_files/parsers/src -Ifusion/calvin_files/portability/src -Ifusion/calvin_files/template/src -Ifusion/calvin_files/utils/src -Ifusion/calvin_files/writers/src -Ifusion/file -Ifusion/file/TsvFile -Ifusion/portability -Ifusion/util -Ifusion -D_USE_MEM_MAPPING_  -I/usr/local/include   -fPIC  -Wall -g -O2  -Wno-sign-compare -O0 -c R_affx_chp_parser.cpp -o R_affx_chp_parser.o
clang++ -mmacosx-version-min=10.13 -std=gnu++14 -dynamiclib -Wl,-headerpad_max_install_names -undefined dynamic_lookup -single_module -multiply_defined suppress -L/Library/Frameworks/R.framework/Resources/lib -L/usr/local/lib -o affxparser.so fusion/calvin_files/data/src/CDFData.o fusion/calvin_files/data/src/CDFProbeGroupInformation.o fusion/calvin_files/data/src/CDFProbeInformation.o fusion/calvin_files/data/src/CDFProbeSetInformation.o fusion/calvin_files/data/src/CDFQCProbeInformation.o fusion/calvin_files/data/src/CDFQCProbeSetInformation.o fusion/calvin_files/data/src/CELData.o fusion/calvin_files/data/src/CHPBackgroundZone.o fusion/calvin_files/data/src/CHPData.o fusion/calvin_files/data/src/CHPExpressionEntry.o fusion/calvin_files/data/src/CHPMultiDataData.o fusion/calvin_files/data/src/CHPTilingData.o fusion/calvin_files/data/src/CHPQuantificationData.o fusion/calvin_files/data/src/CHPQuantificationDetectionData.o fusion/calvin_files/data/src/CHPGenotypeEntry.o fusion/calvin_files/data/src/CHPUniversalEntry.o fusion/calvin_files/data/src/ColumnInfo.o fusion/calvin_files/data/src/DataGroup.o fusion/calvin_files/data/src/DataGroupHeader.o fusion/calvin_files/data/src/DataSet.o fusion/calvin_files/data/src/DataSetHeader.o fusion/calvin_files/data/src/FileHeader.o fusion/calvin_files/data/src/GenericData.o fusion/calvin_files/data/src/GenericDataHeader.o fusion/calvin_files/exception/src/ExceptionBase.o fusion/calvin_files/fusion/src/CalvinAdapter/CalvinCELDataAdapter.o fusion/calvin_files/fusion/src/CalvinAdapter/CalvinCHPDataAdapter.o fusion/calvin_files/fusion/src/FusionBPMAPData.o fusion/calvin_files/fusion/src/FusionCDFData.o fusion/calvin_files/fusion/src/FusionCDFQCProbeSetNames.o fusion/calvin_files/fusion/src/FusionCELData.o fusion/calvin_files/fusion/src/FusionCHPData.o fusion/calvin_files/fusion/src/FusionProbeSetResults.o fusion/calvin_files/fusion/src/GCOSAdapter/GCOSCELDataAdapter.o fusion/calvin_files/fusion/src/GCOSAdapter/GCOSCHPDataAdapter.o fusion/calvin_files/fusion/src/FusionCHPLegacyData.o fusion/calvin_files/fusion/src/FusionCHPMultiDataAccessor.o fusion/calvin_files/fusion/src/FusionCHPMultiDataData.o fusion/calvin_files/fusion/src/FusionCHPTilingData.o fusion/calvin_files/fusion/src/FusionCHPGenericData.o fusion/calvin_files/fusion/src/FusionCHPQuantificationData.o fusion/calvin_files/fusion/src/FusionCHPQuantificationDetectionData.o fusion/calvin_files/parameter/src/ParameterNameValueType.o fusion/calvin_files/parsers/src/CDFFileReader.o fusion/calvin_files/parsers/src/CelFileReader.o fusion/calvin_files/parsers/src/CHPFileReader.o fusion/calvin_files/parsers/src/CHPMultiDataFileReader.o fusion/calvin_files/parsers/src/CHPTilingFileReader.o fusion/calvin_files/parsers/src/CHPQuantificationFileReader.o fusion/calvin_files/parsers/src/CHPQuantificationDetectionFileReader.o fusion/calvin_files/parsers/src/DataGroupHeaderReader.o fusion/calvin_files/parsers/src/DataGroupReader.o fusion/calvin_files/parsers/src/DataSetHeaderReader.o fusion/calvin_files/parsers/src/DataSetReader.o fusion/calvin_files/parsers/src/FileHeaderReader.o fusion/calvin_files/parsers/src/FileInput.o fusion/calvin_files/parsers/src/GenericDataHeaderReader.o fusion/calvin_files/parsers/src/GenericFileReader.o fusion/calvin_files/utils/src/AffymetrixGuid.o fusion/calvin_files/utils/src/DateTime.o fusion/calvin_files/utils/src/FileUtils.o fusion/calvin_files/utils/src/StringUtils.o fusion/calvin_files/utils/src/checksum.o fusion/file/BPMAPFileData.o fusion/file/BPMAPFileWriter.o fusion/file/CDFFileData.o fusion/file/CELFileData.o fusion/file/CHPFileData.o fusion/file/FileIO.o fusion/file/FileWriter.o fusion/file/TsvFile/ClfFile.o fusion/file/TsvFile/PgfFile.o fusion/file/TsvFile/TsvFile.o fusion/util/AffxByteArray.o fusion/util/AffxConv.o fusion/util/MsgStream.o fusion/util/Util.o fusion/util/Err.o fusion/util/Fs.o fusion/util/Verbose.o fusion/util/RowFile.o fusion/util/TableFile.o fusion/util/Convert.o R_affx_cel_parser.o R_affx_cdf_parser.o R_affx_cdf_extras.o R_affx_bpmap_parser.o R_affx_clf_pgf_parser.o R_affx_chp_parser.o -F/Library/Frameworks/R.framework/.. -framework R -Wl,-framework -Wl,CoreFoundation
installing to /Users/biocbuild/bbs-3.14-bioc/meat/affxparser.buildbin-libdir/00LOCK-affxparser/00new/affxparser/libs
** R
** inst
** byte-compile and prepare package for lazy loading
** help
*** installing help indices
** building package indices
** testing if installed package can be loaded from temporary location
** checking absolute paths in shared objects and dynamic libraries
** testing if installed package can be loaded from final location
** testing if installed package keeps a record of temporary installation path
* DONE (affxparser)


>>>>>>> 
>>>>>>> FIXING LINKS FOR affxparser.buildbin-libdir/affxparser/libs/affxparser.so
>>>>>>> 

install_name_tool -change "/usr/local/lib/libgcc_s.1.dylib" "/Library/Frameworks/R.framework/Versions/4.1/Resources/lib/libgcc_s.1.dylib" "affxparser.buildbin-libdir/affxparser/libs/affxparser.so"
install_name_tool -change "/usr/local/lib/libgfortran.5.dylib" "/Library/Frameworks/R.framework/Versions/4.1/Resources/lib/libgfortran.5.dylib" "affxparser.buildbin-libdir/affxparser/libs/affxparser.so"
install_name_tool -change "/usr/local/lib/libquadmath.0.dylib" "/Library/Frameworks/R.framework/Versions/4.1/Resources/lib/libquadmath.0.dylib" "affxparser.buildbin-libdir/affxparser/libs/affxparser.so"