Back to Multiple platform build/check report for BioC 3.14
[A]BCDEFGHIJKLMNOPQRSTUVWXYZ

This page was generated on 2022-01-21 13:05:55 -0500 (Fri, 21 Jan 2022).

HostnameOSArch (*)R versionInstalled pkgs
nebbiolo2Linux (Ubuntu 20.04.4 LTS)x86_644.1.2 (2021-11-01) -- "Bird Hippie" 4329
tokay2Windows Server 2012 R2 Standardx644.1.2 (2021-11-01) -- "Bird Hippie" 4079
machv2macOS 10.14.6 Mojavex86_644.1.2 (2021-11-01) -- "Bird Hippie" 4140
Click on any hostname to see more info about the system (e.g. compilers)      (*) as reported by 'uname -p', except on Windows and Mac OS X

BUILD BIN results for adductomicsR on tokay2


To the developers/maintainers of the adductomicsR package:
- Please allow up to 24 hours (and sometimes 48 hours) for your latest push to git@git.bioconductor.org:packages/adductomicsR.git to
reflect on this report. See How and When does the builder pull? When will my changes propagate? here for more information.
- Make sure to use the following settings in order to reproduce any error or warning you see on this page.

raw results

Package 18/2083HostnameOS / ArchINSTALLBUILDCHECKBUILD BIN
adductomicsR 1.10.0  (landing page)
Josie Hayes
Snapshot Date: 2022-01-20 01:55:04 -0500 (Thu, 20 Jan 2022)
git_url: https://git.bioconductor.org/packages/adductomicsR
git_branch: RELEASE_3_14
git_last_commit: 0caebfa
git_last_commit_date: 2021-10-26 12:49:07 -0500 (Tue, 26 Oct 2021)
nebbiolo2Linux (Ubuntu 20.04.4 LTS) / x86_64  OK    OK    WARNINGS  UNNEEDED, same version is already published
tokay2Windows Server 2012 R2 Standard / x64  OK    OK    WARNINGS    OK  UNNEEDED, same version is already published
machv2macOS 10.14.6 Mojave / x86_64  OK    OK    WARNINGS    OK  UNNEEDED, same version is already published

Summary

Package: adductomicsR
Version: 1.10.0
Command: rm -rf adductomicsR.buildbin-libdir && mkdir adductomicsR.buildbin-libdir && C:\Users\biocbuild\bbs-3.14-bioc\R\bin\R.exe CMD INSTALL --merge-multiarch --build --library=adductomicsR.buildbin-libdir adductomicsR_1.10.0.tar.gz
StartedAt: 2022-01-21 05:28:23 -0500 (Fri, 21 Jan 2022)
EndedAt: 2022-01-21 05:31:26 -0500 (Fri, 21 Jan 2022)
EllapsedTime: 182.2 seconds
RetCode: 0
Status:   OK  
PackageFile: adductomicsR_1.10.0.zip
PackageFileSize: 1.272 MiB

Command output

##############################################################################
##############################################################################
###
### Running command:
###
###   rm -rf adductomicsR.buildbin-libdir && mkdir adductomicsR.buildbin-libdir && C:\Users\biocbuild\bbs-3.14-bioc\R\bin\R.exe CMD INSTALL --merge-multiarch --build --library=adductomicsR.buildbin-libdir adductomicsR_1.10.0.tar.gz
###
##############################################################################
##############################################################################



install for i386

* installing *source* package 'adductomicsR' ...
** using staged installation
** R
** inst
** byte-compile and prepare package for lazy loading
** help
*** installing help indices
  converting help for package 'adductomicsR'
    finding HTML links ... done
    IsotopicDistributionMod                 html  
    adductQuant                             html  
    adductQuantif-class                     html  
    adductSpec-class                        html  
    adductSpecGen                           html  
    digestMod                               html  
    finding level-2 HTML links ... done

    dotProdMatrix                           html  
    dotProdSpectra                          html  
    dynamicNoiseFilter                      html  
    filterAdductTable                       html  
    findPeaks                               html  
    generateTargTable                       html  
    loessWrapperMod                         html  
    ms2Group                                html  
    nAdjPeaks                               html  
    outputPeakTable                         html  
    peakIdQuant_newMethod                   html  
    peakIntegrate                           html  
    peakListId                              html  
    peakRangeSum                            html  
    probPeaks                               html  
    retentionCorr                           html  
    rtDevModelSave                          html  
    rtDevModelling                          html  
    signalGrouping                          html  
    specSimPepId                            html  
    spectraCreate                           html  
    truePeakTrough                          html  
** building package indices
** installing vignettes
** testing if installed package can be loaded from temporary location
** testing if installed package can be loaded from final location
** testing if installed package keeps a record of temporary installation path

install for x64

* installing *source* package 'adductomicsR' ...
** testing if installed package can be loaded
* MD5 sums
packaged installation of 'adductomicsR' as adductomicsR_1.10.0.zip
* DONE (adductomicsR)