Back to Multiple platform build/check report for BioC 3.14
[A]BCDEFGHIJKLMNOPQRSTUVWXYZ

This page was generated on 2021-10-23 14:06:17 -0400 (Sat, 23 Oct 2021).

CHECK results for adSplit on riesling1

To the developers/maintainers of the adSplit package:
- Please allow up to 24 hours (and sometimes 48 hours) for your latest push to git@git.bioconductor.org:packages/adSplit.git to
reflect on this report. See How and When does the builder pull? When will my changes propagate? here for more information.
- Make sure to use the following settings in order to reproduce any error or warning you see on this page.

raw results

Package 20/2083HostnameOS / ArchINSTALLBUILDCHECKBUILD BIN
adSplit 1.63.0  (landing page)
Claudio Lottaz
Snapshot Date: 2021-10-22 14:50:11 -0400 (Fri, 22 Oct 2021)
git_url: https://git.bioconductor.org/packages/adSplit
git_branch: master
git_last_commit: 2b0dbf3
git_last_commit_date: 2021-05-19 11:37:05 -0400 (Wed, 19 May 2021)
nebbiolo2Linux (Ubuntu 20.04.2 LTS) / x86_64  OK    OK    OK  UNNEEDED, same version is already published
riesling1Windows Server 2019 Standard / x64  OK    OK    OK    OK  UNNEEDED, same version is already published
merida1macOS 10.14.6 Mojave / x86_64  OK    OK    OK    OK  UNNEEDED, same version is already published

Summary

Package: adSplit
Version: 1.63.0
Command: D:\biocbuild\bbs-3.14-bioc\R\bin\R.exe CMD check --force-multiarch --install=check:adSplit.install-out.txt --library=D:\biocbuild\bbs-3.14-bioc\R\library --no-vignettes --timings adSplit_1.63.0.tar.gz
StartedAt: 2021-10-23 04:51:25 -0400 (Sat, 23 Oct 2021)
EndedAt: 2021-10-23 05:02:34 -0400 (Sat, 23 Oct 2021)
EllapsedTime: 669.7 seconds
RetCode: 0
Status:   OK  
CheckDir: adSplit.Rcheck
Warnings: 0

Command output

##############################################################################
##############################################################################
###
### Running command:
###
###   D:\biocbuild\bbs-3.14-bioc\R\bin\R.exe CMD check --force-multiarch --install=check:adSplit.install-out.txt --library=D:\biocbuild\bbs-3.14-bioc\R\library --no-vignettes --timings adSplit_1.63.0.tar.gz
###
##############################################################################
##############################################################################


* using log directory 'D:/biocbuild/bbs-3.14-bioc/meat/adSplit.Rcheck'
* using R version 4.1.1 (2021-08-10)
* using platform: x86_64-w64-mingw32 (64-bit)
* using session charset: ISO8859-1
* using option '--no-vignettes'
* checking for file 'adSplit/DESCRIPTION' ... OK
* this is package 'adSplit' version '1.63.0'
* checking package namespace information ... OK
* checking package dependencies ... OK
* checking if this is a source package ... OK
* checking if there is a namespace ... OK
* checking for hidden files and directories ... OK
* checking for portable file names ... OK
* checking whether package 'adSplit' can be installed ... OK
* checking installed package size ... OK
* checking package directory ... OK
* checking 'build' directory ... OK
* checking DESCRIPTION meta-information ... OK
* checking top-level files ... OK
* checking for left-over files ... OK
* checking index information ... OK
* checking package subdirectories ... OK
* checking R files for non-ASCII characters ... OK
* checking R files for syntax errors ... OK
* loading checks for arch 'i386'
** checking whether the package can be loaded ... OK
** checking whether the package can be loaded with stated dependencies ... OK
** checking whether the package can be unloaded cleanly ... OK
** checking whether the namespace can be loaded with stated dependencies ... OK
** checking whether the namespace can be unloaded cleanly ... OK
* loading checks for arch 'x64'
** checking whether the package can be loaded ... OK
** checking whether the package can be loaded with stated dependencies ... OK
** checking whether the package can be unloaded cleanly ... OK
** checking whether the namespace can be loaded with stated dependencies ... OK
** checking whether the namespace can be unloaded cleanly ... OK
* checking dependencies in R code ... OK
* checking S3 generic/method consistency ... OK
* checking replacement functions ... OK
* checking foreign function calls ... OK
* checking R code for possible problems ... OK
* checking Rd files ... OK
* checking Rd metadata ... OK
* checking Rd cross-references ... OK
* checking for missing documentation entries ... OK
* checking for code/documentation mismatches ... OK
* checking Rd \usage sections ... OK
* checking Rd contents ... OK
* checking for unstated dependencies in examples ... OK
* checking contents of 'data' directory ... OK
* checking data for non-ASCII characters ... OK
* checking data for ASCII and uncompressed saves ... OK
* checking line endings in C/C++/Fortran sources/headers ... OK
* checking line endings in Makefiles ... OK
* checking for GNU extensions in Makefiles ... OK
* checking include directives in Makefiles ... OK
* checking compiled code ... NOTE
Note: information on .o files for i386 is not available
Note: information on .o files for x64 is not available
File 'D:/biocbuild/bbs-3.14-bioc/R/library/adSplit/libs/i386/adSplit.dll':
  Found 'abort', possibly from 'abort' (C), 'runtime' (Fortran)
  Found 'exit', possibly from 'exit' (C), 'stop' (Fortran)
  Found 'printf', possibly from 'printf' (C)
File 'D:/biocbuild/bbs-3.14-bioc/R/library/adSplit/libs/x64/adSplit.dll':
  Found 'abort', possibly from 'abort' (C), 'runtime' (Fortran)
  Found 'exit', possibly from 'exit' (C), 'stop' (Fortran)
  Found 'printf', possibly from 'printf' (C)

Compiled code should not call entry points which might terminate R nor
write to stdout/stderr instead of to the console, nor use Fortran I/O
nor system RNGs. The detected symbols are linked into the code but
might come from libraries and not actually be called.

See 'Writing portable packages' in the 'Writing R Extensions' manual.
* checking files in 'vignettes' ... OK
* checking examples ...
** running examples for arch 'i386' ... OK
Examples with CPU (user + system) or elapsed time > 5s
                   user system elapsed
makeEID2PROBESenv 18.91   0.44   19.35
drawRandomPS      18.49   0.33   18.82
randomDiana2means 17.45   0.47   17.92
adSplit            5.09   0.20   43.78
image.splitSet     0.13   0.03    6.67
** running examples for arch 'x64' ... OK
Examples with CPU (user + system) or elapsed time > 5s
                   user system elapsed
randomDiana2means 18.17   0.34   18.52
makeEID2PROBESenv 18.02   0.39   18.43
drawRandomPS      17.23   0.51   17.75
adSplit            4.83   0.25   44.07
image.splitSet     0.08   0.03    6.49
* checking for unstated dependencies in vignettes ... OK
* checking package vignettes in 'inst/doc' ... OK
* checking running R code from vignettes ... SKIPPED
* checking re-building of vignette outputs ... SKIPPED
* checking PDF version of manual ... OK
* DONE

Status: 1 NOTE
See
  'D:/biocbuild/bbs-3.14-bioc/meat/adSplit.Rcheck/00check.log'
for details.



Installation output

adSplit.Rcheck/00install.out

##############################################################################
##############################################################################
###
### Running command:
###
###   C:\cygwin\bin\curl.exe -O http://155.52.207.166/BBS/3.14/bioc/src/contrib/adSplit_1.63.0.tar.gz && rm -rf adSplit.buildbin-libdir && mkdir adSplit.buildbin-libdir && D:\biocbuild\bbs-3.14-bioc\R\bin\R.exe CMD INSTALL --merge-multiarch --build --library=adSplit.buildbin-libdir adSplit_1.63.0.tar.gz && D:\biocbuild\bbs-3.14-bioc\R\bin\R.exe CMD INSTALL adSplit_1.63.0.zip && rm adSplit_1.63.0.tar.gz adSplit_1.63.0.zip
###
##############################################################################
##############################################################################


  % Total    % Received % Xferd  Average Speed   Time    Time     Time  Current
                                 Dload  Upload   Total   Spent    Left  Speed

  0     0    0     0    0     0      0      0 --:--:-- --:--:-- --:--:--     0
100 51128  100 51128    0     0   328k      0 --:--:-- --:--:-- --:--:--  328k

install for i386

* installing *source* package 'adSplit' ...
** using staged installation
** libs
"C:/rtools40/mingw32/bin/"g++ -std=gnu++11  -I"D:/biocbuild/bbs-3.14-bioc/R/include" -DNDEBUG     -I"C:/extsoft/include"     -O2 -Wall  -mfpmath=sse -msse2 -mstackrealign  -c adSplit.cpp -o adSplit.o
C:/rtools40/mingw32/bin/g++ -std=gnu++11 -shared -s -static-libgcc -o adSplit.dll tmp.def adSplit.o -LC:/extsoft/lib/i386 -LC:/extsoft/lib -LD:/biocbuild/bbs-3.14-bioc/R/bin/i386 -lR
installing to D:/biocbuild/bbs-3.14-bioc/meat/adSplit.buildbin-libdir/00LOCK-adSplit/00new/adSplit/libs/i386
** R
** data
** byte-compile and prepare package for lazy loading
** help
*** installing help indices
  converting help for package 'adSplit'
    finding HTML links ... done
    adSplit-internal                        html  
    adSplit                                 html  
    diana2means                             html  
    drawRandomPS                            html  
    golubKEGGSplits                         html  
    hist.splitSet                           html  
    image.splitSet                          html  
    makeEID2PROBESenv                       html  
    print.split                             html  
    print.splitSet                          html  
    randomDiana2means                       html  
** building package indices
** installing vignettes
** testing if installed package can be loaded from temporary location
** testing if installed package can be loaded from final location
** testing if installed package keeps a record of temporary installation path

install for x64

* installing *source* package 'adSplit' ...
** libs
"C:/rtools40/mingw64/bin/"g++ -std=gnu++11  -I"D:/biocbuild/bbs-3.14-bioc/R/include" -DNDEBUG     -I"C:/extsoft/include"     -O2 -Wall  -mfpmath=sse -msse2 -mstackrealign  -c adSplit.cpp -o adSplit.o
C:/rtools40/mingw64/bin/g++ -std=gnu++11 -shared -s -static-libgcc -o adSplit.dll tmp.def adSplit.o -LC:/extsoft/lib/x64 -LC:/extsoft/lib -LD:/biocbuild/bbs-3.14-bioc/R/bin/x64 -lR
installing to D:/biocbuild/bbs-3.14-bioc/meat/adSplit.buildbin-libdir/adSplit/libs/x64
** testing if installed package can be loaded
* MD5 sums
packaged installation of 'adSplit' as adSplit_1.63.0.zip
* DONE (adSplit)
* installing to library 'D:/biocbuild/bbs-3.14-bioc/R/library'
package 'adSplit' successfully unpacked and MD5 sums checked

Tests output


Example timings

adSplit.Rcheck/examples_i386/adSplit-Ex.timings

nameusersystemelapsed
adSplit 5.09 0.2043.78
diana2means0.750.110.86
drawRandomPS18.49 0.3318.82
golubKEGGSplits000
hist.splitSet000
image.splitSet0.130.036.67
makeEID2PROBESenv18.91 0.4419.35
print.splitSet000
randomDiana2means17.45 0.4717.92

adSplit.Rcheck/examples_x64/adSplit-Ex.timings

nameusersystemelapsed
adSplit 4.83 0.2544.07
diana2means0.720.100.82
drawRandomPS17.23 0.5117.75
golubKEGGSplits000
hist.splitSet0.000.020.01
image.splitSet0.080.036.49
makeEID2PROBESenv18.02 0.3918.43
print.splitSet000
randomDiana2means18.17 0.3418.52