Back to Multiple platform build/check report for BioC 3.14
[A]BCDEFGHIJKLMNOPQRSTUVWXYZ

This page was generated on 2021-10-27 13:52:52 -0400 (Wed, 27 Oct 2021).

BUILD BIN results for adSplit on riesling1

To the developers/maintainers of the adSplit package:
- Please allow up to 24 hours (and sometimes 48 hours) for your latest push to git@git.bioconductor.org:packages/adSplit.git to
reflect on this report. See How and When does the builder pull? When will my changes propagate? here for more information.
- Make sure to use the following settings in order to reproduce any error or warning you see on this page.

raw results

Package 20/2083HostnameOS / ArchINSTALLBUILDCHECKBUILD BIN
adSplit 1.64.0  (landing page)
Claudio Lottaz
Snapshot Date: 2021-10-26 14:50:08 -0400 (Tue, 26 Oct 2021)
git_url: https://git.bioconductor.org/packages/adSplit
git_branch: RELEASE_3_14
git_last_commit: 32f150e
git_last_commit_date: 2021-10-26 11:49:19 -0400 (Tue, 26 Oct 2021)
nebbiolo2Linux (Ubuntu 20.04.2 LTS) / x86_64  OK    OK    OK  YES
riesling1Windows Server 2019 Standard / x64  OK    OK    OK    OK  YES
merida1macOS 10.14.6 Mojave / x86_64  OK    OK    OK    OK  YES
machv2macOS 10.14.6 Mojave / x86_64  OK    OK    OK    OK  

Summary

Package: adSplit
Version: 1.64.0
Command: rm -rf adSplit.buildbin-libdir && mkdir adSplit.buildbin-libdir && D:\biocbuild\bbs-3.14-bioc\R\bin\R.exe CMD INSTALL --merge-multiarch --build --library=adSplit.buildbin-libdir adSplit_1.64.0.tar.gz
StartedAt: 2021-10-27 05:40:12 -0400 (Wed, 27 Oct 2021)
EndedAt: 2021-10-27 05:41:45 -0400 (Wed, 27 Oct 2021)
EllapsedTime: 94.0 seconds
RetCode: 0
Status:   OK  
PackageFile: adSplit_1.64.0.zip
PackageFileSize: 463 KiB

Command output

##############################################################################
##############################################################################
###
### Running command:
###
###   rm -rf adSplit.buildbin-libdir && mkdir adSplit.buildbin-libdir && D:\biocbuild\bbs-3.14-bioc\R\bin\R.exe CMD INSTALL --merge-multiarch --build --library=adSplit.buildbin-libdir adSplit_1.64.0.tar.gz
###
##############################################################################
##############################################################################



install for i386

* installing *source* package 'adSplit' ...
** using staged installation
** libs
"C:/rtools40/mingw32/bin/"g++ -std=gnu++11  -I"D:/biocbuild/bbs-3.14-bioc/R/include" -DNDEBUG     -I"C:/extsoft/include"     -O2 -Wall  -mfpmath=sse -msse2 -mstackrealign  -c adSplit.cpp -o adSplit.o
C:/rtools40/mingw32/bin/g++ -std=gnu++11 -shared -s -static-libgcc -o adSplit.dll tmp.def adSplit.o -LC:/extsoft/lib/i386 -LC:/extsoft/lib -LD:/biocbuild/bbs-3.14-bioc/R/bin/i386 -lR
installing to D:/biocbuild/bbs-3.14-bioc/meat/adSplit.buildbin-libdir/00LOCK-adSplit/00new/adSplit/libs/i386
** R
** data
** inst
** byte-compile and prepare package for lazy loading
** help
*** installing help indices
  converting help for package 'adSplit'
    finding HTML links ... done
    adSplit-internal                        html  
    adSplit                                 html  
    diana2means                             html  
    drawRandomPS                            html  
    golubKEGGSplits                         html  
    hist.splitSet                           html  
    image.splitSet                          html  
    makeEID2PROBESenv                       html  
    print.split                             html  
    print.splitSet                          html  
    randomDiana2means                       html  
** building package indices
** installing vignettes
** testing if installed package can be loaded from temporary location
** testing if installed package can be loaded from final location
** testing if installed package keeps a record of temporary installation path

install for x64

* installing *source* package 'adSplit' ...
** libs
"C:/rtools40/mingw64/bin/"g++ -std=gnu++11  -I"D:/biocbuild/bbs-3.14-bioc/R/include" -DNDEBUG     -I"C:/extsoft/include"     -O2 -Wall  -mfpmath=sse -msse2 -mstackrealign  -c adSplit.cpp -o adSplit.o
C:/rtools40/mingw64/bin/g++ -std=gnu++11 -shared -s -static-libgcc -o adSplit.dll tmp.def adSplit.o -LC:/extsoft/lib/x64 -LC:/extsoft/lib -LD:/biocbuild/bbs-3.14-bioc/R/bin/x64 -lR
installing to D:/biocbuild/bbs-3.14-bioc/meat/adSplit.buildbin-libdir/adSplit/libs/x64
** testing if installed package can be loaded
* MD5 sums
packaged installation of 'adSplit' as adSplit_1.64.0.zip
* DONE (adSplit)