Index of /checkResults/3.14/bioc-LATEST/adSplit/raw-results/tokay2

[ICO]NameLast modifiedSizeDescription

[DIR]Parent Directory  -  
[TXT]buildbin-out.txt15-Jan-2022 03:05 2.8K 
[   ]buildbin-summary.dcf15-Jan-2022 03:05 538  
[TXT]buildsrc-out.txt15-Jan-2022 03:05 937  
[   ]buildsrc-summary.dcf15-Jan-2022 03:05 459  
[TXT]checksrc-out.txt15-Jan-2022 03:05 5.3K 
[   ]checksrc-summary.dcf15-Jan-2022 03:05 462  
[TXT]install-out.txt15-Jan-2022 03:05 3.5K 
[   ]install-summary.dcf15-Jan-2022 03:05 640