![]() | Name | Last modified | Size | Description |
---|---|---|---|---|
![]() | Parent Directory | - | ||
![]() | install-summary.dcf | 14-Apr-2022 01:05 | 259 | |
![]() | buildsrc-summary.dcf | 14-Apr-2022 01:05 | 418 | |
![]() | checksrc-summary.dcf | 14-Apr-2022 01:05 | 424 | |
![]() | buildsrc-out.txt | 14-Apr-2022 01:05 | 899 | |
![]() | install-out.txt | 14-Apr-2022 01:05 | 1.4K | |
![]() | checksrc-out.txt | 14-Apr-2022 01:05 | 4.1K | |