Index of /checkResults/3.14/bioc-LATEST/adSplit/raw-results/nebbiolo2

[ICO]NameLast modifiedSizeDescription

[DIR]Parent Directory  -  
[TXT]buildsrc-out.txt15-Jan-2022 03:04 899  
[   ]buildsrc-summary.dcf15-Jan-2022 03:04 418  
[TXT]checksrc-out.txt15-Jan-2022 03:04 4.1K 
[   ]checksrc-summary.dcf15-Jan-2022 03:04 424  
[TXT]install-out.txt15-Jan-2022 03:04 1.4K 
[   ]install-summary.dcf15-Jan-2022 03:04 259