Back to Multiple platform build/check report for BioC 3.14
[A]BCDEFGHIJKLMNOPQRSTUVWXYZ

This page was generated on 2021-10-18 12:03:35 -0400 (Mon, 18 Oct 2021).

BUILD results for adSplit on nebbiolo2

To the developers/maintainers of the adSplit package:
- Please allow up to 24 hours (and sometimes 48 hours) for your latest push to git@git.bioconductor.org:packages/adSplit.git to
reflect on this report. See How and When does the builder pull? When will my changes propagate? here for more information.
- Make sure to use the following settings in order to reproduce any error or warning you see on this page.

raw results

Package 20/2060HostnameOS / ArchINSTALLBUILDCHECKBUILD BIN
adSplit 1.63.0  (landing page)
Claudio Lottaz
Snapshot Date: 2021-10-17 14:50:03 -0400 (Sun, 17 Oct 2021)
git_url: https://git.bioconductor.org/packages/adSplit
git_branch: master
git_last_commit: 2b0dbf3
git_last_commit_date: 2021-05-19 11:37:05 -0400 (Wed, 19 May 2021)
nebbiolo2Linux (Ubuntu 20.04.2 LTS) / x86_64  OK    OK    OK  UNNEEDED, same version is already published
riesling1Windows Server 2019 Standard / x64  OK    OK    OK    OK  UNNEEDED, same version is already published
merida1macOS 10.14.6 Mojave / x86_64  OK    OK    OK    OK  UNNEEDED, same version is already published

Summary

Package: adSplit
Version: 1.63.0
Command: /home/biocbuild/bbs-3.14-bioc/R/bin/R CMD build --keep-empty-dirs --no-resave-data adSplit
StartedAt: 2021-10-17 16:41:52 -0400 (Sun, 17 Oct 2021)
EndedAt: 2021-10-17 16:43:35 -0400 (Sun, 17 Oct 2021)
EllapsedTime: 103.3 seconds
RetCode: 0
Status:   OK  
PackageFile: adSplit_1.63.0.tar.gz
PackageFileSize: 319.4 KiB

Command output

##############################################################################
##############################################################################
###
### Running command:
###
###   /home/biocbuild/bbs-3.14-bioc/R/bin/R CMD build --keep-empty-dirs --no-resave-data adSplit
###
##############################################################################
##############################################################################


* checking for file ‘adSplit/DESCRIPTION’ ... OK
* preparing ‘adSplit’:
* checking DESCRIPTION meta-information ... OK
* cleaning src
* installing the package to build vignettes
* creating vignettes ... OK
* cleaning src
* checking for LF line-endings in source and make files and shell scripts
* checking for empty or unneeded directories
* looking to see if a ‘data/datalist’ file should be added
* building ‘adSplit_1.63.0.tar.gz’