Back to Multiple platform build/check report for BioC 3.14
[A]BCDEFGHIJKLMNOPQRSTUVWXYZ

This page was generated on 2021-10-20 12:05:32 -0400 (Wed, 20 Oct 2021).

BUILD BIN results for adSplit on merida1

To the developers/maintainers of the adSplit package:
- Please allow up to 24 hours (and sometimes 48 hours) for your latest push to git@git.bioconductor.org:packages/adSplit.git to
reflect on this report. See How and When does the builder pull? When will my changes propagate? here for more information.
- Make sure to use the following settings in order to reproduce any error or warning you see on this page.

raw results

Package 20/2072HostnameOS / ArchINSTALLBUILDCHECKBUILD BIN
adSplit 1.63.0  (landing page)
Claudio Lottaz
Snapshot Date: 2021-10-19 14:50:04 -0400 (Tue, 19 Oct 2021)
git_url: https://git.bioconductor.org/packages/adSplit
git_branch: master
git_last_commit: 2b0dbf3
git_last_commit_date: 2021-05-19 11:37:05 -0400 (Wed, 19 May 2021)
nebbiolo2Linux (Ubuntu 20.04.2 LTS) / x86_64  OK    OK    OK  UNNEEDED, same version is already published
riesling1Windows Server 2019 Standard / x64  OK    OK    OK    OK  UNNEEDED, same version is already published
merida1macOS 10.14.6 Mojave / x86_64  OK    OK    OK    OK  UNNEEDED, same version is already published

Summary

Package: adSplit
Version: 1.63.0
Command: rm -rf adSplit.buildbin-libdir && mkdir adSplit.buildbin-libdir && /Users/biocbuild/BBS/utils/build-universal.sh adSplit_1.63.0.tar.gz /Library/Frameworks/R.framework/Resources/bin/R adSplit.buildbin-libdir
StartedAt: 2021-10-20 10:55:30 -0400 (Wed, 20 Oct 2021)
EndedAt: 2021-10-20 10:56:31 -0400 (Wed, 20 Oct 2021)
EllapsedTime: 60.6 seconds
RetCode: 0
Status:   OK  
PackageFile: adSplit_1.63.0.tgz
PackageFileSize: 341.2 KiB

Command output

##############################################################################
##############################################################################
###
### Running command:
###
###   rm -rf adSplit.buildbin-libdir && mkdir adSplit.buildbin-libdir && /Users/biocbuild/BBS/utils/build-universal.sh adSplit_1.63.0.tar.gz /Library/Frameworks/R.framework/Resources/bin/R adSplit.buildbin-libdir
###
##############################################################################
##############################################################################


>>>>>>> 
>>>>>>> INSTALLATION WITH 'R CMD INSTALL --preclean --no-multiarch --library=adSplit.buildbin-libdir adSplit_1.63.0.tar.gz'
>>>>>>> 

* installing *source* package ‘adSplit’ ...
** using staged installation
** libs
clang++ -mmacosx-version-min=10.13 -std=gnu++14 -I"/Library/Frameworks/R.framework/Resources/include" -DNDEBUG   -I/usr/local/include   -fPIC  -Wall -g -O2  -c adSplit.cpp -o adSplit.o
clang++ -mmacosx-version-min=10.13 -std=gnu++14 -dynamiclib -Wl,-headerpad_max_install_names -undefined dynamic_lookup -single_module -multiply_defined suppress -L/Library/Frameworks/R.framework/Resources/lib -L/usr/local/lib -o adSplit.so adSplit.o -F/Library/Frameworks/R.framework/.. -framework R -Wl,-framework -Wl,CoreFoundation
installing to /Users/biocbuild/bbs-3.14-bioc/meat/adSplit.buildbin-libdir/00LOCK-adSplit/00new/adSplit/libs
** R
** data
** inst
** byte-compile and prepare package for lazy loading
** help
*** installing help indices
** building package indices
** installing vignettes
** testing if installed package can be loaded from temporary location
** checking absolute paths in shared objects and dynamic libraries
** testing if installed package can be loaded from final location
** testing if installed package keeps a record of temporary installation path
* DONE (adSplit)


>>>>>>> 
>>>>>>> FIXING LINKS FOR adSplit.buildbin-libdir/adSplit/libs/adSplit.so
>>>>>>> 

install_name_tool -change "/usr/local/lib/libgcc_s.1.dylib" "/Library/Frameworks/R.framework/Versions/4.1/Resources/lib/libgcc_s.1.dylib" "adSplit.buildbin-libdir/adSplit/libs/adSplit.so"
install_name_tool -change "/usr/local/lib/libgfortran.5.dylib" "/Library/Frameworks/R.framework/Versions/4.1/Resources/lib/libgfortran.5.dylib" "adSplit.buildbin-libdir/adSplit/libs/adSplit.so"
install_name_tool -change "/usr/local/lib/libquadmath.0.dylib" "/Library/Frameworks/R.framework/Versions/4.1/Resources/lib/libquadmath.0.dylib" "adSplit.buildbin-libdir/adSplit/libs/adSplit.so"