Back to Multiple platform build/check report for BioC 3.14
[A]BCDEFGHIJKLMNOPQRSTUVWXYZ

This page was generated on 2021-10-26 14:06:50 -0400 (Tue, 26 Oct 2021).

INSTALL results for abseqR on riesling1

To the developers/maintainers of the abseqR package:
- Please allow up to 24 hours (and sometimes 48 hours) for your latest push to git@git.bioconductor.org:packages/abseqR.git to
reflect on this report. See How and When does the builder pull? When will my changes propagate? here for more information.
- Make sure to use the following settings in order to reproduce any error or warning you see on this page.

raw results

Package 9/2083HostnameOS / ArchINSTALLBUILDCHECKBUILD BIN
abseqR 1.11.0  (landing page)
JiaHong Fong
Snapshot Date: 2021-10-25 14:50:11 -0400 (Mon, 25 Oct 2021)
git_url: https://git.bioconductor.org/packages/abseqR
git_branch: master
git_last_commit: 5309573
git_last_commit_date: 2021-05-19 12:39:19 -0400 (Wed, 19 May 2021)
nebbiolo2Linux (Ubuntu 20.04.2 LTS) / x86_64  OK    OK    OK  UNNEEDED, same version is already published
riesling1Windows Server 2019 Standard / x64  OK    OK    OK    OK  UNNEEDED, same version is already published
merida1macOS 10.14.6 Mojave / x86_64  OK    OK    OK    OK  UNNEEDED, same version is already published
machv2macOS 10.14.6 Mojave / x86_64  OK    OK    OK    OK  

Summary

Package: abseqR
Version: 1.11.0
Command: C:\cygwin\bin\curl.exe -O http://155.52.207.166/BBS/3.14/bioc/src/contrib/abseqR_1.11.0.tar.gz && rm -rf abseqR.buildbin-libdir && mkdir abseqR.buildbin-libdir && D:\biocbuild\bbs-3.14-bioc\R\bin\R.exe CMD INSTALL --merge-multiarch --build --library=abseqR.buildbin-libdir abseqR_1.11.0.tar.gz && D:\biocbuild\bbs-3.14-bioc\R\bin\R.exe CMD INSTALL abseqR_1.11.0.zip && rm abseqR_1.11.0.tar.gz abseqR_1.11.0.zip
StartedAt: 2021-10-25 18:24:16 -0400 (Mon, 25 Oct 2021)
EndedAt: 2021-10-25 18:27:15 -0400 (Mon, 25 Oct 2021)
EllapsedTime: 178.9 seconds
RetCode: 0
Status:   OK  

Command output

##############################################################################
##############################################################################
###
### Running command:
###
###   C:\cygwin\bin\curl.exe -O http://155.52.207.166/BBS/3.14/bioc/src/contrib/abseqR_1.11.0.tar.gz && rm -rf abseqR.buildbin-libdir && mkdir abseqR.buildbin-libdir && D:\biocbuild\bbs-3.14-bioc\R\bin\R.exe CMD INSTALL --merge-multiarch --build --library=abseqR.buildbin-libdir abseqR_1.11.0.tar.gz && D:\biocbuild\bbs-3.14-bioc\R\bin\R.exe CMD INSTALL abseqR_1.11.0.zip && rm abseqR_1.11.0.tar.gz abseqR_1.11.0.zip
###
##############################################################################
##############################################################################


  % Total    % Received % Xferd  Average Speed   Time    Time     Time  Current
                                 Dload  Upload   Total   Spent    Left  Speed

  0     0    0     0    0     0      0      0 --:--:-- --:--:-- --:--:--     0
100 1519k  100 1519k    0     0  3151k      0 --:--:-- --:--:-- --:--:-- 3158k

install for i386

* installing *source* package 'abseqR' ...
** using staged installation
** R
** inst
** byte-compile and prepare package for lazy loading
** help
*** installing help indices
  converting help for package 'abseqR'
    finding HTML links ... done
    AbSeqCRep-class                         html  
    AbSeqRep-class                          html  
    abseqReport                             html  
    dot-UTR5Analysis                        html  
    dot-abundanceAnalysis                   html  
    dot-abundancePlot                       html  
    dot-alignQualityHeatMaps                html  
    dot-allPrimerNames                      html  
    dot-aminoAcidBar                        html  
    dot-aminoAcidPlot                       html  
    dot-analyzeUpstreamValidity             html  
    dot-annotAnalysis                       html  
    dot-asRepertoireAlignLen                html  
    dot-asRepertoireBitscore                html  
    dot-asRepertoireChain                   html  
    dot-asRepertoireDir                     html  
    dot-asRepertoireList                    html  
    dot-asRepertoireName                    html  
    dot-asRepertoirePrimer3                 html  
    dot-asRepertoirePrimer5                 html  
    dot-asRepertoireQueryStart              html  
    dot-asRepertoireSubjectStart            html  
    dot-asRepertoireUpstream                html  
    dot-boxPlot                             html  
    dot-calculateDInd                       html  
    dot-calculateDiversityEstimates         html  
    dot-canonicalizeTitle                   html  
    dot-capitalize                          html  
    dot-checkVert                           html  
    dot-cloneDistHist                       html  
    dot-cloneDistMarginal                   html  
    dot-clonotypeAnalysis                   html  
    dot-collateReports                      html  
    dot-commonPrimerNames                   html  
    dot-correlationTest                     html  
    dot-distanceMeasure                     html  
    dot-diversityAnalysis                   html  
    dot-emptyPlot                           html  
    dot-findRepertoires                     html  
    dot-generateAllSpectratypes             html  
    dot-generateDelayedReport               html  
    dot-generateReport                      html  
    dot-getLineTypes                        html  
    dot-getTotal                            html  
    dot-hmFromMatrix                        html  
    dot-inferAnalyzed                       html  
    dot-loadMatrixFromDF                    html  
    dot-loadSamplesFromString               html  
    dot-pairwiseComparison                  html  
    dot-plotCirclize                        html  
    dot-plotDist                            html  
    dot-plotDiversityCurves                 html  
    dot-plotDuplication                     html  
    dot-plotErrorDist                       html  
    dot-plotIGVErrors                       html  
    dot-plotIGVUpstreamLenDist              html  
    dot-plotIGVUpstreamLenDistDetailed      html  
    dot-plotPrimerIGVStatus                 html  
    dot-plotPrimerIntegrity                 html  
    dot-plotRarefaction                     html  
    dot-plotRecapture                       html  
    dot-plotSamples                         html  
    dot-plotSpectratype                     html  
    dot-plotUpstreamLength                  html  
    dot-plotUpstreamLengthDist              html  
    dot-primerAnalysis                      html  
    dot-prodDistPlot                        html  
    dot-productivityAnalysis                html  
    dot-productivityPlot                    html  
    dot-readSummary                         html  
    dot-regionAnalysis                      html  
    dot-reportLBE                           html  
    dot-saveAs                              html  
    dot-scatterPlot                         html  
    dot-scatterPlotComplex                  html  
    dot-secretionSignalAnalysis             html  
    dot-substituteStringInFile              html  
    dot-summarySE                           html  
    dot-topNDist                            html  
    dot-vennIntersection                    html  
    plus-AbSeqCRep-AbSeqCRep-method         html  
    plus-AbSeqCRep-AbSeqRep-method          html  
    plus-AbSeqRep-AbSeqCRep-method          html  
    plus-AbSeqRep-AbSeqRep-method           html  
    report                                  html  
*** copying figures
** building package indices
** installing vignettes
** testing if installed package can be loaded from temporary location
** testing if installed package can be loaded from final location
** testing if installed package keeps a record of temporary installation path

install for x64

* installing *source* package 'abseqR' ...
** testing if installed package can be loaded
* MD5 sums
packaged installation of 'abseqR' as abseqR_1.11.0.zip
* DONE (abseqR)
* installing to library 'D:/biocbuild/bbs-3.14-bioc/R/library'
package 'abseqR' successfully unpacked and MD5 sums checked