Back to Multiple platform build/check report for BioC 3.14
[A]BCDEFGHIJKLMNOPQRSTUVWXYZ

This page was generated on 2021-10-22 12:04:17 -0400 (Fri, 22 Oct 2021).

BUILD results for abseqR on riesling1

To the developers/maintainers of the abseqR package:
- Please allow up to 24 hours (and sometimes 48 hours) for your latest push to git@git.bioconductor.org:packages/abseqR.git to
reflect on this report. See How and When does the builder pull? When will my changes propagate? here for more information.
- Make sure to use the following settings in order to reproduce any error or warning you see on this page.

raw results

Package 9/2075HostnameOS / ArchINSTALLBUILDCHECKBUILD BIN
abseqR 1.11.0  (landing page)
JiaHong Fong
Snapshot Date: 2021-10-21 14:50:08 -0400 (Thu, 21 Oct 2021)
git_url: https://git.bioconductor.org/packages/abseqR
git_branch: master
git_last_commit: 5309573
git_last_commit_date: 2021-05-19 12:39:19 -0400 (Wed, 19 May 2021)
nebbiolo2Linux (Ubuntu 20.04.2 LTS) / x86_64  OK    OK    OK  UNNEEDED, same version is already published
riesling1Windows Server 2019 Standard / x64  OK    OK    OK    OK  UNNEEDED, same version is already published
merida1macOS 10.14.6 Mojave / x86_64  OK    OK    OK    OK  UNNEEDED, same version is already published

Summary

Package: abseqR
Version: 1.11.0
Command: chmod a+r abseqR -R && D:\biocbuild\bbs-3.14-bioc\R\bin\R.exe CMD build --keep-empty-dirs --no-resave-data abseqR
StartedAt: 2021-10-21 19:29:37 -0400 (Thu, 21 Oct 2021)
EndedAt: 2021-10-21 19:35:02 -0400 (Thu, 21 Oct 2021)
EllapsedTime: 324.8 seconds
RetCode: 0
Status:   OK  
PackageFile: abseqR_1.11.0.tar.gz
PackageFileSize: 2.131 MiB

Command output

##############################################################################
##############################################################################
###
### Running command:
###
###   chmod a+r abseqR -R && D:\biocbuild\bbs-3.14-bioc\R\bin\R.exe CMD build --keep-empty-dirs --no-resave-data abseqR
###
##############################################################################
##############################################################################


* checking for file 'abseqR/DESCRIPTION' ... OK
* preparing 'abseqR':
* checking DESCRIPTION meta-information ... OK
* installing the package to build vignettes
* creating vignettes ... OK
* checking for LF line-endings in source and make files and shell scripts
* checking for empty or unneeded directories
Omitted 'LazyData' from DESCRIPTION
* building 'abseqR_1.11.0.tar.gz'