Back to Multiple platform build/check report for BioC 3.14
[A]BCDEFGHIJKLMNOPQRSTUVWXYZ

This page was generated on 2021-10-25 14:06:04 -0400 (Mon, 25 Oct 2021).

BUILD BIN results for aCGH on riesling1

To the developers/maintainers of the aCGH package:
- Please allow up to 24 hours (and sometimes 48 hours) for your latest push to git@git.bioconductor.org:packages/aCGH.git to
reflect on this report. See How and When does the builder pull? When will my changes propagate? here for more information.
- Make sure to use the following settings in order to reproduce any error or warning you see on this page.

raw results

Package 13/2083HostnameOS / ArchINSTALLBUILDCHECKBUILD BIN
aCGH 1.71.0  (landing page)
Peter Dimitrov
Snapshot Date: 2021-10-24 14:50:04 -0400 (Sun, 24 Oct 2021)
git_url: https://git.bioconductor.org/packages/aCGH
git_branch: master
git_last_commit: 41df87e
git_last_commit_date: 2021-05-19 11:34:31 -0400 (Wed, 19 May 2021)
nebbiolo2Linux (Ubuntu 20.04.2 LTS) / x86_64  OK    OK    OK  UNNEEDED, same version is already published
riesling1Windows Server 2019 Standard / x64  OK    OK    OK    OK  UNNEEDED, same version is already published
merida1macOS 10.14.6 Mojave / x86_64  OK    OK    OK    OK  UNNEEDED, same version is already published
machv2macOS 10.14.6 Mojave / x86_64  OK    OK    OK    OK  

Summary

Package: aCGH
Version: 1.71.0
Command: rm -rf aCGH.buildbin-libdir && mkdir aCGH.buildbin-libdir && D:\biocbuild\bbs-3.14-bioc\R\bin\R.exe CMD INSTALL --merge-multiarch --build --library=aCGH.buildbin-libdir aCGH_1.71.0.tar.gz
StartedAt: 2021-10-25 04:22:20 -0400 (Mon, 25 Oct 2021)
EndedAt: 2021-10-25 04:26:13 -0400 (Mon, 25 Oct 2021)
EllapsedTime: 233.1 seconds
RetCode: 0
Status:   OK  
PackageFile: aCGH_1.71.0.zip
PackageFileSize: 2.602 MiB

Command output

##############################################################################
##############################################################################
###
### Running command:
###
###   rm -rf aCGH.buildbin-libdir && mkdir aCGH.buildbin-libdir && D:\biocbuild\bbs-3.14-bioc\R\bin\R.exe CMD INSTALL --merge-multiarch --build --library=aCGH.buildbin-libdir aCGH_1.71.0.tar.gz
###
##############################################################################
##############################################################################



install for i386

* installing *source* package 'aCGH' ...
** using staged installation
** libs
"C:/rtools40/mingw32/bin/"g++ -std=gnu++11  -I"D:/biocbuild/bbs-3.14-bioc/R/include" -DNDEBUG -DUSEDOUBLE -g3    -I"C:/extsoft/include"     -O2 -Wall  -mfpmath=sse -msse2 -mstackrealign  -c hmm.cpp -o hmm.o
C:/rtools40/mingw32/bin/g++ -std=gnu++11 -shared -s -static-libgcc -o aCGH.dll tmp.def hmm.o -lm -LC:/extsoft/lib/i386 -LC:/extsoft/lib -LD:/biocbuild/bbs-3.14-bioc/R/bin/i386 -lR
installing to D:/biocbuild/bbs-3.14-bioc/meat/aCGH.buildbin-libdir/00LOCK-aCGH/00new/aCGH/libs/i386
** R
** data
** demo
** inst
** byte-compile and prepare package for lazy loading
** help
*** installing help indices
  converting help for package 'aCGH'
    finding HTML links ... done
    aCGH                                    html  
    aCGH.process                            html  
    aCGH.read.Sprocs                        html  
    aCGH.test                               html  
    clusterGenome                           html  
    colorectal                              html  
    computeSD.func                          html  
    fga.func                                html  
    find.genomic.events                     html  
    find.hmm.states                         html  
    findAber.func                           html  
    findAmplif.func                         html  
    findOutliers.func                       html  
    findTrans.func                          html  
    gainLoss                                html  
    heatmap                                 html  
    human.chrom.info.Jul03                  html  
    human.chrom.info.May04                  html  
    impute.HMM                              html  
    impute.lowess                           html  
    mergeFunc                               html  
    mergeLevels                             html  
    plotFreqStat                            html  
    plotGenome                              html  
    plotHmmStates                           html  
    plotSummaryProfile                      html  
    states.hmm.func                         html  
    summarize.clones                        html  
    threshold.func                          html  
** building package indices
** installing vignettes
** testing if installed package can be loaded from temporary location
** testing if installed package can be loaded from final location
** testing if installed package keeps a record of temporary installation path

install for x64

* installing *source* package 'aCGH' ...
** libs
"C:/rtools40/mingw64/bin/"g++ -std=gnu++11  -I"D:/biocbuild/bbs-3.14-bioc/R/include" -DNDEBUG -DUSEDOUBLE -g3    -I"C:/extsoft/include"     -O2 -Wall  -mfpmath=sse -msse2 -mstackrealign  -c hmm.cpp -o hmm.o
C:/rtools40/mingw64/bin/g++ -std=gnu++11 -shared -s -static-libgcc -o aCGH.dll tmp.def hmm.o -lm -LC:/extsoft/lib/x64 -LC:/extsoft/lib -LD:/biocbuild/bbs-3.14-bioc/R/bin/x64 -lR
installing to D:/biocbuild/bbs-3.14-bioc/meat/aCGH.buildbin-libdir/aCGH/libs/x64
** testing if installed package can be loaded
* MD5 sums
packaged installation of 'aCGH' as aCGH_1.71.0.zip
* DONE (aCGH)