Back to Multiple platform build/check report for BioC 3.14
[A]BCDEFGHIJKLMNOPQRSTUVWXYZ

This page was generated on 2021-10-26 14:07:38 -0400 (Tue, 26 Oct 2021).

CHECK results for aCGH on merida1

To the developers/maintainers of the aCGH package:
- Please allow up to 24 hours (and sometimes 48 hours) for your latest push to git@git.bioconductor.org:packages/aCGH.git to
reflect on this report. See How and When does the builder pull? When will my changes propagate? here for more information.
- Make sure to use the following settings in order to reproduce any error or warning you see on this page.

raw results

Package 13/2083HostnameOS / ArchINSTALLBUILDCHECKBUILD BIN
aCGH 1.71.0  (landing page)
Peter Dimitrov
Snapshot Date: 2021-10-25 14:50:11 -0400 (Mon, 25 Oct 2021)
git_url: https://git.bioconductor.org/packages/aCGH
git_branch: master
git_last_commit: 41df87e
git_last_commit_date: 2021-05-19 11:34:31 -0400 (Wed, 19 May 2021)
nebbiolo2Linux (Ubuntu 20.04.2 LTS) / x86_64  OK    OK    OK  UNNEEDED, same version is already published
riesling1Windows Server 2019 Standard / x64  OK    OK    OK    OK  UNNEEDED, same version is already published
merida1macOS 10.14.6 Mojave / x86_64  OK    OK    OK    OK  UNNEEDED, same version is already published
machv2macOS 10.14.6 Mojave / x86_64  OK    OK    OK    OK  

Summary

Package: aCGH
Version: 1.71.0
Command: /Library/Frameworks/R.framework/Resources/bin/R CMD check --install=check:aCGH.install-out.txt --library=/Library/Frameworks/R.framework/Resources/library --no-vignettes --timings aCGH_1.71.0.tar.gz
StartedAt: 2021-10-26 00:25:59 -0400 (Tue, 26 Oct 2021)
EndedAt: 2021-10-26 00:28:11 -0400 (Tue, 26 Oct 2021)
EllapsedTime: 131.8 seconds
RetCode: 0
Status:   OK  
CheckDir: aCGH.Rcheck
Warnings: 0

Command output

##############################################################################
##############################################################################
###
### Running command:
###
###   /Library/Frameworks/R.framework/Resources/bin/R CMD check --install=check:aCGH.install-out.txt --library=/Library/Frameworks/R.framework/Resources/library --no-vignettes --timings aCGH_1.71.0.tar.gz
###
##############################################################################
##############################################################################


* using log directory ‘/Users/biocbuild/bbs-3.14-bioc/meat/aCGH.Rcheck’
* using R version 4.1.1 Patched (2021-08-22 r80813)
* using platform: x86_64-apple-darwin17.0 (64-bit)
* using session charset: UTF-8
* using option ‘--no-vignettes’
* checking for file ‘aCGH/DESCRIPTION’ ... OK
* this is package ‘aCGH’ version ‘1.71.0’
* checking package namespace information ... OK
* checking package dependencies ... OK
* checking if this is a source package ... OK
* checking if there is a namespace ... OK
* checking for hidden files and directories ... OK
* checking for portable file names ... OK
* checking for sufficient/correct file permissions ... OK
* checking whether package ‘aCGH’ can be installed ... OK
* checking installed package size ... OK
* checking package directory ... OK
* checking ‘build’ directory ... OK
* checking DESCRIPTION meta-information ... OK
* checking top-level files ... OK
* checking for left-over files ... OK
* checking index information ... OK
* checking package subdirectories ... OK
* checking R files for non-ASCII characters ... OK
* checking R files for syntax errors ... OK
* checking whether the package can be loaded ... OK
* checking whether the package can be loaded with stated dependencies ... OK
* checking whether the package can be unloaded cleanly ... OK
* checking whether the namespace can be loaded with stated dependencies ... OK
* checking whether the namespace can be unloaded cleanly ... OK
* checking dependencies in R code ... OK
* checking S3 generic/method consistency ... NOTE
Found the following apparent S3 methods exported but not registered:
  row.names.aCGH row.names<-.aCGH subset.hmm subset.hmm.merged
See section ‘Registering S3 methods’ in the ‘Writing R Extensions’
manual.
* checking replacement functions ... OK
* checking foreign function calls ... OK
* checking R code for possible problems ... OK
* checking Rd files ... OK
* checking Rd metadata ... OK
* checking Rd cross-references ... OK
* checking for missing documentation entries ... OK
* checking for code/documentation mismatches ... OK
* checking Rd \usage sections ... OK
* checking Rd contents ... OK
* checking for unstated dependencies in examples ... OK
* checking contents of ‘data’ directory ... OK
* checking data for non-ASCII characters ... OK
* checking data for ASCII and uncompressed saves ... OK
* checking line endings in C/C++/Fortran sources/headers ... OK
* checking line endings in Makefiles ... OK
* checking compilation flags in Makevars ... OK
* checking for GNU extensions in Makefiles ... OK
* checking for portable use of $(BLAS_LIBS) and $(LAPACK_LIBS) ... OK
* checking use of PKG_*FLAGS in Makefiles ... OK
* checking compiled code ... NOTE
Note: information on .o files is not available
* checking sizes of PDF files under ‘inst/doc’ ... OK
* checking files in ‘vignettes’ ... OK
* checking examples ... OK
Examples with CPU (user + system) or elapsed time > 5s
              user system elapsed
plotFreqStat 5.017  0.042   5.066
* checking for unstated dependencies in vignettes ... OK
* checking package vignettes in ‘inst/doc’ ... OK
* checking running R code from vignettes ... SKIPPED
* checking re-building of vignette outputs ... SKIPPED
* checking PDF version of manual ... OK
* DONE

Status: 2 NOTEs
See
  ‘/Users/biocbuild/bbs-3.14-bioc/meat/aCGH.Rcheck/00check.log’
for details.



Installation output

aCGH.Rcheck/00install.out

##############################################################################
##############################################################################
###
### Running command:
###
###   /Library/Frameworks/R.framework/Resources/bin/R CMD INSTALL aCGH
###
##############################################################################
##############################################################################


* installing to library ‘/Library/Frameworks/R.framework/Versions/4.1/Resources/library’
* installing *source* package ‘aCGH’ ...
** using staged installation
** libs
clang++ -mmacosx-version-min=10.13 -std=gnu++14 -I"/Library/Frameworks/R.framework/Resources/include" -DNDEBUG -DUSEDOUBLE -g3  -I/usr/local/include   -fPIC  -Wall -g -O2  -c hmm.cpp -o hmm.o
clang++ -mmacosx-version-min=10.13 -std=gnu++14 -dynamiclib -Wl,-headerpad_max_install_names -undefined dynamic_lookup -single_module -multiply_defined suppress -L/Library/Frameworks/R.framework/Resources/lib -L/usr/local/lib -o aCGH.so hmm.o -lm -F/Library/Frameworks/R.framework/.. -framework R -Wl,-framework -Wl,CoreFoundation
installing to /Library/Frameworks/R.framework/Versions/4.1/Resources/library/00LOCK-aCGH/00new/aCGH/libs
** R
** data
** demo
** inst
** byte-compile and prepare package for lazy loading
** help
*** installing help indices
** building package indices
** installing vignettes
** testing if installed package can be loaded from temporary location
** checking absolute paths in shared objects and dynamic libraries
** testing if installed package can be loaded from final location
** testing if installed package keeps a record of temporary installation path
* DONE (aCGH)

Tests output


Example timings

aCGH.Rcheck/aCGH-Ex.timings

nameusersystemelapsed
aCGH2.3590.1382.504
aCGH.process0.0810.0010.083
aCGH.read.Sprocs0.2520.0090.263
clusterGenome1.4720.0901.570
colorectal0.6120.0210.635
fga.func0.3540.0170.372
find.hmm.states0.6080.0180.627
gainLoss1.1070.0351.149
heatmap0.4840.0230.508
impute.HMM0.5390.0060.546
impute.lowess0.0810.0020.083
mergeLevels0.1270.0030.130
plotFreqStat5.0170.0425.066
plotGenome1.6710.0601.746
plotHmmStates0.3990.0190.430
plotSummaryProfile1.2550.0441.305
summarize.clones0.3770.0170.396
threshold.func0.2670.0160.285