Back to Multiple platform build/check report for BioC 3.14
[A]BCDEFGHIJKLMNOPQRSTUVWXYZ

This page was generated on 2021-10-18 12:04:25 -0400 (Mon, 18 Oct 2021).

BUILD results for aCGH on merida1

To the developers/maintainers of the aCGH package:
- Please allow up to 24 hours (and sometimes 48 hours) for your latest push to git@git.bioconductor.org:packages/aCGH.git to
reflect on this report. See How and When does the builder pull? When will my changes propagate? here for more information.
- Make sure to use the following settings in order to reproduce any error or warning you see on this page.

raw results

Package 13/2060HostnameOS / ArchINSTALLBUILDCHECKBUILD BIN
aCGH 1.71.0  (landing page)
Peter Dimitrov
Snapshot Date: 2021-10-17 14:50:03 -0400 (Sun, 17 Oct 2021)
git_url: https://git.bioconductor.org/packages/aCGH
git_branch: master
git_last_commit: 41df87e
git_last_commit_date: 2021-05-19 11:34:31 -0400 (Wed, 19 May 2021)
nebbiolo2Linux (Ubuntu 20.04.2 LTS) / x86_64  OK    OK    OK  UNNEEDED, same version is already published
riesling1Windows Server 2019 Standard / x64  OK    OK    OK    OK  UNNEEDED, same version is already published
merida1macOS 10.14.6 Mojave / x86_64  OK    OK    OK    OK  UNNEEDED, same version is already published

Summary

Package: aCGH
Version: 1.71.0
Command: /Library/Frameworks/R.framework/Resources/bin/R CMD build --keep-empty-dirs --no-resave-data aCGH
StartedAt: 2021-10-17 18:19:22 -0400 (Sun, 17 Oct 2021)
EndedAt: 2021-10-17 18:20:16 -0400 (Sun, 17 Oct 2021)
EllapsedTime: 54.0 seconds
RetCode: 0
Status:   OK  
PackageFile: aCGH_1.71.0.tar.gz
PackageFileSize: 2.114 MiB

Command output

##############################################################################
##############################################################################
###
### Running command:
###
###   /Library/Frameworks/R.framework/Resources/bin/R CMD build --keep-empty-dirs --no-resave-data aCGH
###
##############################################################################
##############################################################################


* checking for file ‘aCGH/DESCRIPTION’ ... OK
* preparing ‘aCGH’:
* checking DESCRIPTION meta-information ... OK
* cleaning src
* installing the package to build vignettes
* creating vignettes ... OK
* cleaning src
* checking for LF line-endings in source and make files and shell scripts
* checking for empty or unneeded directories
* looking to see if a ‘data/datalist’ file should be added
* building ‘aCGH_1.71.0.tar.gz’