Back to Multiple platform build/check report for BioC 3.14
[A]BCDEFGHIJKLMNOPQRSTUVWXYZ

This page was generated on 2021-10-21 12:05:11 -0400 (Thu, 21 Oct 2021).

BUILD BIN results for aCGH on merida1

To the developers/maintainers of the aCGH package:
- Please allow up to 24 hours (and sometimes 48 hours) for your latest push to git@git.bioconductor.org:packages/aCGH.git to
reflect on this report. See How and When does the builder pull? When will my changes propagate? here for more information.
- Make sure to use the following settings in order to reproduce any error or warning you see on this page.

raw results

Package 13/2075HostnameOS / ArchINSTALLBUILDCHECKBUILD BIN
aCGH 1.71.0  (landing page)
Peter Dimitrov
Snapshot Date: 2021-10-20 14:50:05 -0400 (Wed, 20 Oct 2021)
git_url: https://git.bioconductor.org/packages/aCGH
git_branch: master
git_last_commit: 41df87e
git_last_commit_date: 2021-05-19 11:34:31 -0400 (Wed, 19 May 2021)
nebbiolo2Linux (Ubuntu 20.04.2 LTS) / x86_64  OK    OK    OK  UNNEEDED, same version is already published
riesling1Windows Server 2019 Standard / x64  OK    OK    OK    OK  UNNEEDED, same version is already published
merida1macOS 10.14.6 Mojave / x86_64  OK    OK    OK    OK  UNNEEDED, same version is already published

Summary

Package: aCGH
Version: 1.71.0
Command: rm -rf aCGH.buildbin-libdir && mkdir aCGH.buildbin-libdir && /Users/biocbuild/BBS/utils/build-universal.sh aCGH_1.71.0.tar.gz /Library/Frameworks/R.framework/Resources/bin/R aCGH.buildbin-libdir
StartedAt: 2021-10-21 11:00:03 -0400 (Thu, 21 Oct 2021)
EndedAt: 2021-10-21 11:00:23 -0400 (Thu, 21 Oct 2021)
EllapsedTime: 19.9 seconds
RetCode: 0
Status:   OK  
PackageFile: aCGH_1.71.0.tgz
PackageFileSize: 2.389 MiB

Command output

##############################################################################
##############################################################################
###
### Running command:
###
###   rm -rf aCGH.buildbin-libdir && mkdir aCGH.buildbin-libdir && /Users/biocbuild/BBS/utils/build-universal.sh aCGH_1.71.0.tar.gz /Library/Frameworks/R.framework/Resources/bin/R aCGH.buildbin-libdir
###
##############################################################################
##############################################################################


>>>>>>> 
>>>>>>> INSTALLATION WITH 'R CMD INSTALL --preclean --no-multiarch --library=aCGH.buildbin-libdir aCGH_1.71.0.tar.gz'
>>>>>>> 

* installing *source* package ‘aCGH’ ...
** using staged installation
** libs
clang++ -mmacosx-version-min=10.13 -std=gnu++14 -I"/Library/Frameworks/R.framework/Resources/include" -DNDEBUG -DUSEDOUBLE -g3  -I/usr/local/include   -fPIC  -Wall -g -O2  -c hmm.cpp -o hmm.o
clang++ -mmacosx-version-min=10.13 -std=gnu++14 -dynamiclib -Wl,-headerpad_max_install_names -undefined dynamic_lookup -single_module -multiply_defined suppress -L/Library/Frameworks/R.framework/Resources/lib -L/usr/local/lib -o aCGH.so hmm.o -lm -F/Library/Frameworks/R.framework/.. -framework R -Wl,-framework -Wl,CoreFoundation
installing to /Users/biocbuild/bbs-3.14-bioc/meat/aCGH.buildbin-libdir/00LOCK-aCGH/00new/aCGH/libs
** R
** data
** demo
** inst
** byte-compile and prepare package for lazy loading
** help
*** installing help indices
** building package indices
** installing vignettes
** testing if installed package can be loaded from temporary location
** checking absolute paths in shared objects and dynamic libraries
** testing if installed package can be loaded from final location
** testing if installed package keeps a record of temporary installation path
* DONE (aCGH)


>>>>>>> 
>>>>>>> FIXING LINKS FOR aCGH.buildbin-libdir/aCGH/libs/aCGH.so
>>>>>>> 

install_name_tool -change "/usr/local/lib/libgcc_s.1.dylib" "/Library/Frameworks/R.framework/Versions/4.1/Resources/lib/libgcc_s.1.dylib" "aCGH.buildbin-libdir/aCGH/libs/aCGH.so"
install_name_tool -change "/usr/local/lib/libgfortran.5.dylib" "/Library/Frameworks/R.framework/Versions/4.1/Resources/lib/libgfortran.5.dylib" "aCGH.buildbin-libdir/aCGH/libs/aCGH.so"
install_name_tool -change "/usr/local/lib/libquadmath.0.dylib" "/Library/Frameworks/R.framework/Versions/4.1/Resources/lib/libquadmath.0.dylib" "aCGH.buildbin-libdir/aCGH/libs/aCGH.so"