Back to Multiple platform build/check report for BioC 3.14
[A]BCDEFGHIJKLMNOPQRSTUVWXYZ

This page was generated on 2021-10-18 12:04:25 -0400 (Mon, 18 Oct 2021).

BUILD results for a4Reporting on merida1

To the developers/maintainers of the a4Reporting package:
- Please allow up to 24 hours (and sometimes 48 hours) for your latest push to git@git.bioconductor.org:packages/a4Reporting.git to
reflect on this report. See How and When does the builder pull? When will my changes propagate? here for more information.
- Make sure to use the following settings in order to reproduce any error or warning you see on this page.

raw results

Package 6/2060HostnameOS / ArchINSTALLBUILDCHECKBUILD BIN
a4Reporting 1.41.0  (landing page)
Laure Cougnaud
Snapshot Date: 2021-10-17 14:50:03 -0400 (Sun, 17 Oct 2021)
git_url: https://git.bioconductor.org/packages/a4Reporting
git_branch: master
git_last_commit: 2ddad87
git_last_commit_date: 2021-05-19 11:48:27 -0400 (Wed, 19 May 2021)
nebbiolo2Linux (Ubuntu 20.04.2 LTS) / x86_64  OK    OK    OK  UNNEEDED, same version is already published
riesling1Windows Server 2019 Standard / x64  OK    OK    OK    OK  UNNEEDED, same version is already published
merida1macOS 10.14.6 Mojave / x86_64  OK    OK    OK    OK  UNNEEDED, same version is already published

Summary

Package: a4Reporting
Version: 1.41.0
Command: /Library/Frameworks/R.framework/Resources/bin/R CMD build --keep-empty-dirs --no-resave-data a4Reporting
StartedAt: 2021-10-17 18:19:22 -0400 (Sun, 17 Oct 2021)
EndedAt: 2021-10-17 18:19:30 -0400 (Sun, 17 Oct 2021)
EllapsedTime: 8.8 seconds
RetCode: 0
Status:   OK  
PackageFile: a4Reporting_1.41.0.tar.gz
PackageFileSize: 277.9 KiB

Command output

##############################################################################
##############################################################################
###
### Running command:
###
###   /Library/Frameworks/R.framework/Resources/bin/R CMD build --keep-empty-dirs --no-resave-data a4Reporting
###
##############################################################################
##############################################################################


* checking for file ‘a4Reporting/DESCRIPTION’ ... OK
* preparing ‘a4Reporting’:
* checking DESCRIPTION meta-information ... OK
* installing the package to build vignettes
* creating vignettes ... OK
* checking for LF line-endings in source and make files and shell scripts
* checking for empty or unneeded directories
* building ‘a4Reporting_1.41.0.tar.gz’