Back to Multiple platform build/check report for BioC 3.14
[A]BCDEFGHIJKLMNOPQRSTUVWXYZ

This page was generated on 2021-10-23 14:06:51 -0400 (Sat, 23 Oct 2021).

BUILD BIN results for a4Reporting on merida1

To the developers/maintainers of the a4Reporting package:
- Please allow up to 24 hours (and sometimes 48 hours) for your latest push to git@git.bioconductor.org:packages/a4Reporting.git to
reflect on this report. See How and When does the builder pull? When will my changes propagate? here for more information.
- Make sure to use the following settings in order to reproduce any error or warning you see on this page.

raw results

Package 6/2083HostnameOS / ArchINSTALLBUILDCHECKBUILD BIN
a4Reporting 1.41.0  (landing page)
Laure Cougnaud
Snapshot Date: 2021-10-22 14:50:11 -0400 (Fri, 22 Oct 2021)
git_url: https://git.bioconductor.org/packages/a4Reporting
git_branch: master
git_last_commit: 2ddad87
git_last_commit_date: 2021-05-19 11:48:27 -0400 (Wed, 19 May 2021)
nebbiolo2Linux (Ubuntu 20.04.2 LTS) / x86_64  OK    OK    OK  UNNEEDED, same version is already published
riesling1Windows Server 2019 Standard / x64  OK    OK    OK    OK  UNNEEDED, same version is already published
merida1macOS 10.14.6 Mojave / x86_64  OK    OK    OK    OK  UNNEEDED, same version is already published

Summary

Package: a4Reporting
Version: 1.41.0
Command: rm -rf a4Reporting.buildbin-libdir && mkdir a4Reporting.buildbin-libdir && /Users/biocbuild/BBS/utils/build-universal.sh a4Reporting_1.41.0.tar.gz /Library/Frameworks/R.framework/Resources/bin/R a4Reporting.buildbin-libdir
StartedAt: 2021-10-23 10:59:58 -0400 (Sat, 23 Oct 2021)
EndedAt: 2021-10-23 11:00:04 -0400 (Sat, 23 Oct 2021)
EllapsedTime: 5.6 seconds
RetCode: 0
Status:   OK  
PackageFile: a4Reporting_1.41.0.tgz
PackageFileSize: 402.4 KiB

Command output

##############################################################################
##############################################################################
###
### Running command:
###
###   rm -rf a4Reporting.buildbin-libdir && mkdir a4Reporting.buildbin-libdir && /Users/biocbuild/BBS/utils/build-universal.sh a4Reporting_1.41.0.tar.gz /Library/Frameworks/R.framework/Resources/bin/R a4Reporting.buildbin-libdir
###
##############################################################################
##############################################################################


>>>>>>> 
>>>>>>> INSTALLATION WITH 'R CMD INSTALL --preclean --no-multiarch --library=a4Reporting.buildbin-libdir a4Reporting_1.41.0.tar.gz'
>>>>>>> 

* installing *source* package ‘a4Reporting’ ...
** using staged installation
** R
** inst
** byte-compile and prepare package for lazy loading
** help
*** installing help indices
** building package indices
** installing vignettes
** testing if installed package can be loaded from temporary location
** testing if installed package can be loaded from final location
** testing if installed package keeps a record of temporary installation path
* DONE (a4Reporting)