Back to Multiple platform build/check report for BioC 3.14
[A]BCDEFGHIJKLMNOPQRSTUVWXYZ

This page was generated on 2021-11-26 15:05:41 -0500 (Fri, 26 Nov 2021).

BUILD results for a4Reporting on machv2

To the developers/maintainers of the a4Reporting package:
- Please allow up to 24 hours (and sometimes 48 hours) for your latest push to git@git.bioconductor.org:packages/a4Reporting.git to
reflect on this report. See How and When does the builder pull? When will my changes propagate? here for more information.
- Make sure to use the following settings in order to reproduce any error or warning you see on this page.

raw results

Package 6/2083HostnameOS / ArchINSTALLBUILDCHECKBUILD BIN
a4Reporting 1.42.0  (landing page)
Laure Cougnaud
Snapshot Date: 2021-11-25 04:15:05 -0500 (Thu, 25 Nov 2021)
git_url: https://git.bioconductor.org/packages/a4Reporting
git_branch: RELEASE_3_14
git_last_commit: b0d715b
git_last_commit_date: 2021-10-26 11:58:57 -0500 (Tue, 26 Oct 2021)
nebbiolo2Linux (Ubuntu 20.04.3 LTS) / x86_64  OK    OK    OK  UNNEEDED, same version is already published
tokay2Windows Server 2012 R2 Standard / x64  OK    OK    OK    OK  UNNEEDED, same version is already published
machv2macOS 10.14.6 Mojave / x86_64  OK    OK    OK    OK  UNNEEDED, same version is already published

Summary

Package: a4Reporting
Version: 1.42.0
Command: /Library/Frameworks/R.framework/Resources/bin/R CMD build --keep-empty-dirs --no-resave-data a4Reporting
StartedAt: 2021-11-25 07:39:42 -0500 (Thu, 25 Nov 2021)
EndedAt: 2021-11-25 07:39:48 -0500 (Thu, 25 Nov 2021)
EllapsedTime: 6.3 seconds
RetCode: 0
Status:   OK  
PackageFile: a4Reporting_1.42.0.tar.gz
PackageFileSize: 277.9 KiB

Command output

##############################################################################
##############################################################################
###
### Running command:
###
###   /Library/Frameworks/R.framework/Resources/bin/R CMD build --keep-empty-dirs --no-resave-data a4Reporting
###
##############################################################################
##############################################################################


* checking for file ‘a4Reporting/DESCRIPTION’ ... OK
* preparing ‘a4Reporting’:
* checking DESCRIPTION meta-information ... OK
* installing the package to build vignettes
* creating vignettes ... OK
* checking for LF line-endings in source and make files and shell scripts
* checking for empty or unneeded directories
* building ‘a4Reporting_1.42.0.tar.gz’