Back to Multiple platform build/check report for BioC 3.14
[A]BCDEFGHIJKLMNOPQRSTUVWXYZ

This page was generated on 2022-01-21 13:05:54 -0500 (Fri, 21 Jan 2022).

HostnameOSArch (*)R versionInstalled pkgs
nebbiolo2Linux (Ubuntu 20.04.4 LTS)x86_644.1.2 (2021-11-01) -- "Bird Hippie" 4329
tokay2Windows Server 2012 R2 Standardx644.1.2 (2021-11-01) -- "Bird Hippie" 4079
machv2macOS 10.14.6 Mojavex86_644.1.2 (2021-11-01) -- "Bird Hippie" 4140
Click on any hostname to see more info about the system (e.g. compilers)      (*) as reported by 'uname -p', except on Windows and Mac OS X

INSTALL results for a4Core on tokay2


To the developers/maintainers of the a4Core package:
- Please allow up to 24 hours (and sometimes 48 hours) for your latest push to git@git.bioconductor.org:packages/a4Core.git to
reflect on this report. See How and When does the builder pull? When will my changes propagate? here for more information.
- Make sure to use the following settings in order to reproduce any error or warning you see on this page.

raw results

Package 4/2083HostnameOS / ArchINSTALLBUILDCHECKBUILD BIN
a4Core 1.42.0  (landing page)
Laure Cougnaud
Snapshot Date: 2022-01-20 01:55:04 -0500 (Thu, 20 Jan 2022)
git_url: https://git.bioconductor.org/packages/a4Core
git_branch: RELEASE_3_14
git_last_commit: 6985950
git_last_commit_date: 2021-10-26 11:58:54 -0500 (Tue, 26 Oct 2021)
nebbiolo2Linux (Ubuntu 20.04.4 LTS) / x86_64  OK    OK    OK  UNNEEDED, same version is already published
tokay2Windows Server 2012 R2 Standard / x64  OK    OK    OK    OK  UNNEEDED, same version is already published
machv2macOS 10.14.6 Mojave / x86_64  OK    OK    OK    OK  UNNEEDED, same version is already published

Summary

Package: a4Core
Version: 1.42.0
Command: C:\cygwin\bin\curl.exe -O http://155.52.207.166/BBS/3.14/bioc/src/contrib/a4Core_1.42.0.tar.gz && rm -rf a4Core.buildbin-libdir && mkdir a4Core.buildbin-libdir && C:\Users\biocbuild\bbs-3.14-bioc\R\bin\R.exe CMD INSTALL --merge-multiarch --build --library=a4Core.buildbin-libdir a4Core_1.42.0.tar.gz && C:\Users\biocbuild\bbs-3.14-bioc\R\bin\R.exe CMD INSTALL a4Core_1.42.0.zip && rm a4Core_1.42.0.tar.gz a4Core_1.42.0.zip
StartedAt: 2022-01-20 04:30:18 -0500 (Thu, 20 Jan 2022)
EndedAt: 2022-01-20 04:30:46 -0500 (Thu, 20 Jan 2022)
EllapsedTime: 27.3 seconds
RetCode: 0
Status:   OK  

Command output

##############################################################################
##############################################################################
###
### Running command:
###
###   C:\cygwin\bin\curl.exe -O http://155.52.207.166/BBS/3.14/bioc/src/contrib/a4Core_1.42.0.tar.gz && rm -rf a4Core.buildbin-libdir && mkdir a4Core.buildbin-libdir && C:\Users\biocbuild\bbs-3.14-bioc\R\bin\R.exe CMD INSTALL --merge-multiarch --build --library=a4Core.buildbin-libdir a4Core_1.42.0.tar.gz && C:\Users\biocbuild\bbs-3.14-bioc\R\bin\R.exe CMD INSTALL a4Core_1.42.0.zip && rm a4Core_1.42.0.tar.gz a4Core_1.42.0.zip
###
##############################################################################
##############################################################################


  % Total    % Received % Xferd  Average Speed   Time    Time     Time  Current
                                 Dload  Upload   Total   Spent    Left  Speed

  0     0    0     0    0     0      0      0 --:--:-- --:--:-- --:--:--     0
100  4968  100  4968    0     0  61269      0 --:--:-- --:--:-- --:--:-- 62100

install for i386

* installing *source* package 'a4Core' ...
** using staged installation
** R
** inst
** byte-compile and prepare package for lazy loading
** help
*** installing help indices
  converting help for package 'a4Core'
    finding HTML links ... done
    confusionMatrix                         html  
    simulateData                            html  
    topTable-methods                        html  
    topTable                                html  
** building package indices
** installing vignettes
** testing if installed package can be loaded from temporary location
** testing if installed package can be loaded from final location
** testing if installed package keeps a record of temporary installation path

install for x64

* installing *source* package 'a4Core' ...
** testing if installed package can be loaded
* MD5 sums
packaged installation of 'a4Core' as a4Core_1.42.0.zip
* DONE (a4Core)
* installing to library 'C:/Users/biocbuild/bbs-3.14-bioc/R/library'
package 'a4Core' successfully unpacked and MD5 sums checked